Workbook

Sheet Summary
A1: Authorized Occupant Register Summary
A2: Indicators use entered register data and the editable review date. Attention prompts require a manager's check.
A4: Register as of date | B4: =IFERROR(Assumptions!$B$2,"") | D4: Authorized status rows | E4: =IFERROR(COUNTIFS('Occupant Register'!$D$5:$D$104,"<>",'Occupant Register'!$I$5:$I$104,"Authorized"),0)
A5: Occupant records | B5: =IFERROR(COUNTIF('Occupant Register'!$D$5:$D$104,"<>"),0) | D5: Ended status rows | E5: =IFERROR(COUNTIFS('Occupant Register'!$D$5:$D$104,"<>",'Occupant Register'!$I$5:$I$104,"Ended"),0)
A6: Current authorized | B6: =IFERROR(COUNTIFS('Occupant Register'!$D$5:$D$104,"<>",'Occupant Register'!$I$5:$I$104,"Authorized",'Occupant Register'!$G$5:$G$104,"<>",'Occupant Register'!$G$5:$G$104,"<="&Assumptions!$B$2,'Occupant Register'!$H$5:$H$104,"")+COUNTIFS('Occupant Register'!$D$5:$D$104,"<>",'Occupant Register'!$I$5:$I$104,"Authorized",'Occupant Register'!$G$5:$G$104,"<>",'Occupant Register'!$G$5:$G$104,"<="&Assumptions!$B$2,'Occupant Register'!$H$5:$H$104,">="&Assumptions!$B$2),0) | D6: Ending in review window | E6: =IFERROR(COUNTIFS('Occupant Register'!$D$5:$D$104,"<>",'Occupant Register'!$I$5:$I$104,"Authorized",'Occupant Register'!$H$5:$H$104,">="&Assumptions!$B$2,'Occupant Register'!$H$5:$H$104,"<="&Assumptions!$B$2+Assumptions!$B$3),0)
A7: Pending review | B7: =IFERROR(COUNTIFS('Occupant Register'!$D$5:$D$104,"<>",'Occupant Register'!$I$5:$I$104,"Pending Review"),0) | D7: Missing status | E7: =IFERROR(COUNTIFS('Occupant Register'!$D$5:$D$104,"<>",'Occupant Register'!$I$5:$I$104,""),0)
A8: Attention prompts | B8: =IFERROR(COUNTIFS('Occupant Register'!$J$5:$J$104,"<>",'Occupant Register'!$J$5:$J$104,"<>OK"),0) | D8: Authorized future starts | E8: =IFERROR(COUNTIFS('Occupant Register'!$D$5:$D$104,"<>",'Occupant Register'!$I$5:$I$104,"Authorized",'Occupant Register'!$G$5:$G$104,">"&Assumptions!$B$2),0)
A10: Property review
A11: Property | B11: Current | C11: Ending soon | D11: Attention
A12: =IF(Assumptions!$D$8="","",Assumptions!$D$8) | B12: =IF($A12="","",IFERROR(COUNTIFS('Occupant Register'!$A$5:$A$104,$A12,'Occupant Register'!$D$5:$D$104,"<>",'Occupant Register'!$I$5:$I$104,"Authorized",'Occupant Register'!$G$5:$G$104,"<>",'Occupant Register'!$G$5:$G$104,"<="&Assumptions!$B$2,'Occupant Register'!$H$5:$H$104,"")+COUNTIFS('Occupant Register'!$A$5:$A$104,$A12,'Occupant Register'!$D$5:$D$104,"<>",'Occupant Register'!$I$5:$I$104,"Authorized",'Occupant Register'!$G$5:$G$104,"<>",'Occupant Register'!$G$5:$G$104,"<="&Assumptions!$B$2,'Occupant Register'!$H$5:$H$104,">="&Assumptions!$B$2),0)) | C12: =IF($A12="","",IFERROR(COUNTIFS('Occupant Register'!$A$5:$A$104,$A12,'Occupant Register'!$D$5:$D$104,"<>",'Occupant Register'!$I$5:$I$104,"Authorized",'Occupant Register'!$H$5:$H$104,">="&Assumptions!$B$2,'Occupant Register'!$H$5:$H$104,"<="&Assumptions!$B$2+Assumptions!$B$3),0)) | D12: =IF($A12="","",IFERROR(COUNTIFS('Occupant Register'!$A$5:$A$104,$A12,'Occupant Register'!$J$5:$J$104,"<>",'Occupant Register'!$J$5:$J$104,"<>OK"),0))
A13: =IF(Assumptions!$D$9="","",Assumptions!$D$9) | B13: =IF($A13="","",IFERROR(COUNTIFS('Occupant Register'!$A$5:$A$104,$A13,'Occupant Register'!$D$5:$D$104,"<>",'Occupant Register'!$I$5:$I$104,"Authorized",'Occupant Register'!$G$5:$G$104,"<>",'Occupant Register'!$G$5:$G$104,"<="&Assumptions!$B$2,'Occupant Register'!$H$5:$H$104,"")+COUNTIFS('Occupant Register'!$A$5:$A$104,$A13,'Occupant Register'!$D$5:$D$104,"<>",'Occupant Register'!$I$5:$I$104,"Authorized",'Occupant Register'!$G$5:$G$104,"<>",'Occupant Register'!$G$5:$G$104,"<="&Assumptions!$B$2,'Occupant Register'!$H$5:$H$104,">="&Assumptions!$B$2),0)) | C13: =IF($A13="","",IFERROR(COUNTIFS('Occupant Register'!$A$5:$A$104,$A13,'Occupant Register'!$D$5:$D$104,"<>",'Occupant Register'!$I$5:$I$104,"Authorized",'Occupant Register'!$H$5:$H$104,">="&Assumptions!$B$2,'Occupant Register'!$H$5:$H$104,"<="&Assumptions!$B$2+Assumptions!$B$3),0)) | D13: =IF($A13="","",IFERROR(COUNTIFS('Occupant Register'!$A$5:$A$104,$A13,'Occupant Register'!$J$5:$J$104,"<>",'Occupant Register'!$J$5:$J$104,"<>OK"),0))
A14: =IF(Assumptions!$D$10="","",Assumptions!$D$10) | B14: =IF($A14="","",IFERROR(COUNTIFS('Occupant Register'!$A$5:$A$104,$A14,'Occupant Register'!$D$5:$D$104,"<>",'Occupant Register'!$I$5:$I$104,"Authorized",'Occupant Register'!$G$5:$G$104,"<>",'Occupant Register'!$G$5:$G$104,"<="&Assumptions!$B$2,'Occupant Register'!$H$5:$H$104,"")+COUNTIFS('Occupant Register'!$A$5:$A$104,$A14,'Occupant Register'!$D$5:$D$104,"<>",'Occupant Register'!$I$5:$I$104,"Authorized",'Occupant Register'!$G$5:$G$104,"<>",'Occupant Register'!$G$5:$G$104,"<="&Assumptions!$B$2,'Occupant Register'!$H$5:$H$104,">="&Assumptions!$B$2),0)) | C14: =IF($A14="","",IFERROR(COUNTIFS('Occupant Register'!$A$5:$A$104,$A14,'Occupant Register'!$D$5:$D$104,"<>",'Occupant Register'!$I$5:$I$104,"Authorized",'Occupant Register'!$H$5:$H$104,">="&Assumptions!$B$2,'Occupant Register'!$H$5:$H$104,"<="&Assumptions!$B$2+Assumptions!$B$3),0)) | D14: =IF($A14="","",IFERROR(COUNTIFS('Occupant Register'!$A$5:$A$104,$A14,'Occupant Register'!$J$5:$J$104,"<>",'Occupant Register'!$J$5:$J$104,"<>OK"),0))
A15: =IF(Assumptions!$D$11="","",Assumptions!$D$11) | B15: =IF($A15="","",IFERROR(COUNTIFS('Occupant Register'!$A$5:$A$104,$A15,'Occupant Register'!$D$5:$D$104,"<>",'Occupant Register'!$I$5:$I$104,"Authorized",'Occupant Register'!$G$5:$G$104,"<>",'Occupant Register'!$G$5:$G$104,"<="&Assumptions!$B$2,'Occupant Register'!$H$5:$H$104,"")+COUNTIFS('Occupant Register'!$A$5:$A$104,$A15,'Occupant Register'!$D$5:$D$104,"<>",'Occupant Register'!$I$5:$I$104,"Authorized",'Occupant Register'!$G$5:$G$104,"<>",'Occupant Register'!$G$5:$G$104,"<="&Assumptions!$B$2,'Occupant Register'!$H$5:$H$104,">="&Assumptions!$B$2),0)) | C15: =IF($A15="","",IFERROR(COUNTIFS('Occupant Register'!$A$5:$A$104,$A15,'Occupant Register'!$D$5:$D$104,"<>",'Occupant Register'!$I$5:$I$104,"Authorized",'Occupant Register'!$H$5:$H$104,">="&Assumptions!$B$2,'Occupant Register'!$H$5:$H$104,"<="&Assumptions!$B$2+Assumptions!$B$3),0)) | D15: =IF($A15="","",IFERROR(COUNTIFS('Occupant Register'!$A$5:$A$104,$A15,'Occupant Register'!$J$5:$J$104,"<>",'Occupant Register'!$J$5:$J$104,"<>OK"),0))

Sheet Occupant Register
A1: Authorized Occupant Register
A2: Enter information in yellow cells. Review Check is an internal prompt based on the editable Assumptions sheet and does not make an outside status determination.
A4: Property | B4: Unit | C4: Tenancy ID | D4: Occupant Name | E4: Responsibility | F4: Authorization Date | G4: Occupancy Start | H4: Occupancy End | I4: Status | J4: Review Check | K4: Manager Notes
A5: Fictional Juniper Court | B5: FIC-JC-101 | C5: FIC-TEN-0001 | D5: Avery Example (Fictional) | E5: Leaseholder | F5: 46026 | G5: 46036 | I5: Authorized | J5: =IF(D5="","",IF(I5="","Check: status missing",IF(AND(F5<>"",G5<>"",G5<F5),"Check: start before authorization",IF(AND(G5<>"",H5<>"",H5<G5),"Check: end before start",IF(AND(I5="Authorized",OR(F5="",G5="")),"Check: authorization/start date",IF(AND(I5="Ended",H5=""),"Check: ended date missing",IF(I5="Pending Review","Review pending",IF(AND(I5="Authorized",H5<>"",H5<Assumptions!$B$2),"Check: status may need update",IF(AND(I5="Authorized",H5<>"",H5<=Assumptions!$B$2+Assumptions!$B$3),"Review end date","OK"))))))))) | K5: Primary leaseholder in this fictional example.
A6: Fictional Juniper Court | B6: FIC-JC-101 | C6: FIC-TEN-0001 | D6: Riley Sample (Fictional) | E6: Occupancy Only | F6: 46026 | G6: 46036 | I6: Authorized | J6: =IF(D6="","",IF(I6="","Check: status missing",IF(AND(F6<>"",G6<>"",G6<F6),"Check: start before authorization",IF(AND(G6<>"",H6<>"",H6<G6),"Check: end before start",IF(AND(I6="Authorized",OR(F6="",G6="")),"Check: authorization/start date",IF(AND(I6="Ended",H6=""),"Check: ended date missing",IF(I6="Pending Review","Review pending",IF(AND(I6="Authorized",H6<>"",H6<Assumptions!$B$2),"Check: status may need update",IF(AND(I6="Authorized",H6<>"",H6<=Assumptions!$B$2+Assumptions!$B$3),"Review end date","OK"))))))))) | K6: Approved occupant in the same fictional tenancy.
A7: Fictional Juniper Court | B7: FIC-JC-204 | C7: FIC-TEN-0002 | D7: Morgan Placeholder (Fictional) | E7: Leaseholder | F7: 46096 | G7: 46106 | H7: 46285 | I7: Authorized | J7: =IF(D7="","",IF(I7="","Check: status missing",IF(AND(F7<>"",G7<>"",G7<F7),"Check: start before authorization",IF(AND(G7<>"",H7<>"",H7<G7),"Check: end before start",IF(AND(I7="Authorized",OR(F7="",G7="")),"Check: authorization/start date",IF(AND(I7="Ended",H7=""),"Check: ended date missing",IF(I7="Pending Review","Review pending",IF(AND(I7="Authorized",H7<>"",H7<Assumptions!$B$2),"Check: status may need update",IF(AND(I7="Authorized",H7<>"",H7<=Assumptions!$B$2+Assumptions!$B$3),"Review end date","OK"))))))))) | K7: Upcoming occupancy end date for manager review.
A8: Fictional Cedar Row | B8: FIC-CR-A | C8: FIC-TEN-0003 | D8: Taylor Testperson (Fictional) | E8: Leaseholder | G8: 46296 | I8: Pending Review | J8: =IF(D8="","",IF(I8="","Check: status missing",IF(AND(F8<>"",G8<>"",G8<F8),"Check: start before authorization",IF(AND(G8<>"",H8<>"",H8<G8),"Check: end before start",IF(AND(I8="Authorized",OR(F8="",G8="")),"Check: authorization/start date",IF(AND(I8="Ended",H8=""),"Check: ended date missing",IF(I8="Pending Review","Review pending",IF(AND(I8="Authorized",H8<>"",H8<Assumptions!$B$2),"Check: status may need update",IF(AND(I8="Authorized",H8<>"",H8<=Assumptions!$B$2+Assumptions!$B$3),"Review end date","OK"))))))))) | K8: Sample request awaiting a manager's review.
A9: Fictional Cedar Row | B9: FIC-CR-B | C9: FIC-TEN-0004 | D9: Jordan Example (Fictional) | E9: Leaseholder | F9: 45776 | G9: 45786 | H9: 46246 | I9: Ended | J9: =IF(D9="","",IF(I9="","Check: status missing",IF(AND(F9<>"",G9<>"",G9<F9),"Check: start before authorization",IF(AND(G9<>"",H9<>"",H9<G9),"Check: end before start",IF(AND(I9="Authorized",OR(F9="",G9="")),"Check: authorization/start date",IF(AND(I9="Ended",H9=""),"Check: ended date missing",IF(I9="Pending Review","Review pending",IF(AND(I9="Authorized",H9<>"",H9<Assumptions!$B$2),"Check: status may need update",IF(AND(I9="Authorized",H9<>"",H9<=Assumptions!$B$2+Assumptions!$B$3),"Review end date","OK"))))))))) | K9: Fictional occupancy ended before the review date.
A10: Fictional Maple Landing | B10: FIC-ML-3 | C10: FIC-TEN-0005 | D10: Casey Sample (Fictional) | E10: Leaseholder | F10: 46176 | G10: 46186 | I10: Authorized | J10: =IF(D10="","",IF(I10="","Check: status missing",IF(AND(F10<>"",G10<>"",G10<F10),"Check: start before authorization",IF(AND(G10<>"",H10<>"",H10<G10),"Check: end before start",IF(AND(I10="Authorized",OR(F10="",G10="")),"Check: authorization/start date",IF(AND(I10="Ended",H10=""),"Check: ended date missing",IF(I10="Pending Review","Review pending",IF(AND(I10="Authorized",H10<>"",H10<Assumptions!$B$2),"Check: status may need update",IF(AND(I10="Authorized",H10<>"",H10<=Assumptions!$B$2+Assumptions!$B$3),"Review end date","OK"))))))))) | K10: Current fictional leaseholder.
A11: Fictional Maple Landing | B11: FIC-ML-3 | C11: FIC-TEN-0005 | D11: Jamie Placeholder (Fictional) | E11: Minor Occupant | F11: 46176 | G11: 46186 | I11: Authorized | J11: =IF(D11="","",IF(I11="","Check: status missing",IF(AND(F11<>"",G11<>"",G11<F11),"Check: start before authorization",IF(AND(G11<>"",H11<>"",H11<G11),"Check: end before start",IF(AND(I11="Authorized",OR(F11="",G11="")),"Check: authorization/start date",IF(AND(I11="Ended",H11=""),"Check: ended date missing",IF(I11="Pending Review","Review pending",IF(AND(I11="Authorized",H11<>"",H11<Assumptions!$B$2),"Check: status may need update",IF(AND(I11="Authorized",H11<>"",H11<=Assumptions!$B$2+Assumptions!$B$3),"Review end date","OK"))))))))) | K11: Minor occupant in this fictional example.
A12: Fictional Willow Place | B12: FIC-WP-12 | C12: FIC-TEN-0006 | D12: Robin Example (Fictional) | E12: Leaseholder | F12: 46176 | G12: 46186 | H12: 46265 | I12: Authorized | J12: =IF(D12="","",IF(I12="","Check: status missing",IF(AND(F12<>"",G12<>"",G12<F12),"Check: start before authorization",IF(AND(G12<>"",H12<>"",H12<G12),"Check: end before start",IF(AND(I12="Authorized",OR(F12="",G12="")),"Check: authorization/start date",IF(AND(I12="Ended",H12=""),"Check: ended date missing",IF(I12="Pending Review","Review pending",IF(AND(I12="Authorized",H12<>"",H12<Assumptions!$B$2),"Check: status may need update",IF(AND(I12="Authorized",H12<>"",H12<=Assumptions!$B$2+Assumptions!$B$3),"Review end date","OK"))))))))) | K12: Past end date is retained to test the status prompt.
A13: Fictional Willow Place | B13: FIC-WP-14 | C13: FIC-TEN-0007 | D13: Drew Sample (Fictional) | E13: Occupancy Only | G13: 46280 | I13: Pending Review | J13: =IF(D13="","",IF(I13="","Check: status missing",IF(AND(F13<>"",G13<>"",G13<F13),"Check: start before authorization",IF(AND(G13<>"",H13<>"",H13<G13),"Check: end before start",IF(AND(I13="Authorized",OR(F13="",G13="")),"Check: authorization/start date",IF(AND(I13="Ended",H13=""),"Check: ended date missing",IF(I13="Pending Review","Review pending",IF(AND(I13="Authorized",H13<>"",H13<Assumptions!$B$2),"Check: status may need update",IF(AND(I13="Authorized",H13<>"",H13<=Assumptions!$B$2+Assumptions!$B$3),"Review end date","OK"))))))))) | K13: Future start remains pending in this fictional example.
A14: Fictional Maple Landing | B14: FIC-ML-7 | C14: FIC-TEN-0008 | D14: Skyler Demo (Fictional) | E14: Leaseholder | F14: 46196 | G14: 46206 | H14: 46276 | I14: Authorized | J14: =IF(D14="","",IF(I14="","Check: status missing",IF(AND(F14<>"",G14<>"",G14<F14),"Check: start before authorization",IF(AND(G14<>"",H14<>"",H14<G14),"Check: end before start",IF(AND(I14="Authorized",OR(F14="",G14="")),"Check: authorization/start date",IF(AND(I14="Ended",H14=""),"Check: ended date missing",IF(I14="Pending Review","Review pending",IF(AND(I14="Authorized",H14<>"",H14<Assumptions!$B$2),"Check: status may need update",IF(AND(I14="Authorized",H14<>"",H14<=Assumptions!$B$2+Assumptions!$B$3),"Review end date","OK"))))))))) | K14: End date equals the editable review date.
J15: =IF(D15="","",IF(I15="","Check: status missing",IF(AND(F15<>"",G15<>"",G15<F15),"Check: start before authorization",IF(AND(G15<>"",H15<>"",H15<G15),"Check: end before start",IF(AND(I15="Authorized",OR(F15="",G15="")),"Check: authorization/start date",IF(AND(I15="Ended",H15=""),"Check: ended date missing",IF(I15="Pending Review","Review pending",IF(AND(I15="Authorized",H15<>"",H15<Assumptions!$B$2),"Check: status may need update",IF(AND(I15="Authorized",H15<>"",H15<=Assumptions!$B$2+Assumptions!$B$3),"Review end date","OK")))))))))
J16: =IF(D16="","",IF(I16="","Check: status missing",IF(AND(F16<>"",G16<>"",G16<F16),"Check: start before authorization",IF(AND(G16<>"",H16<>"",H16<G16),"Check: end before start",IF(AND(I16="Authorized",OR(F16="",G16="")),"Check: authorization/start date",IF(AND(I16="Ended",H16=""),"Check: ended date missing",IF(I16="Pending Review","Review pending",IF(AND(I16="Authorized",H16<>"",H16<Assumptions!$B$2),"Check: status may need update",IF(AND(I16="Authorized",H16<>"",H16<=Assumptions!$B$2+Assumptions!$B$3),"Review end date","OK")))))))))
J17: =IF(D17="","",IF(I17="","Check: status missing",IF(AND(F17<>"",G17<>"",G17<F17),"Check: start before authorization",IF(AND(G17<>"",H17<>"",H17<G17),"Check: end before start",IF(AND(I17="Authorized",OR(F17="",G17="")),"Check: authorization/start date",IF(AND(I17="Ended",H17=""),"Check: ended date missing",IF(I17="Pending Review","Review pending",IF(AND(I17="Authorized",H17<>"",H17<Assumptions!$B$2),"Check: status may need update",IF(AND(I17="Authorized",H17<>"",H17<=Assumptions!$B$2+Assumptions!$B$3),"Review end date","OK")))))))))
J18: =IF(D18="","",IF(I18="","Check: status missing",IF(AND(F18<>"",G18<>"",G18<F18),"Check: start before authorization",IF(AND(G18<>"",H18<>"",H18<G18),"Check: end before start",IF(AND(I18="Authorized",OR(F18="",G18="")),"Check: authorization/start date",IF(AND(I18="Ended",H18=""),"Check: ended date missing",IF(I18="Pending Review","Review pending",IF(AND(I18="Authorized",H18<>"",H18<Assumptions!$B$2),"Check: status may need update",IF(AND(I18="Authorized",H18<>"",H18<=Assumptions!$B$2+Assumptions!$B$3),"Review end date","OK")))))))))
J19: =IF(D19="","",IF(I19="","Check: status missing",IF(AND(F19<>"",G19<>"",G19<F19),"Check: start before authorization",IF(AND(G19<>"",H19<>"",H19<G19),"Check: end before start",IF(AND(I19="Authorized",OR(F19="",G19="")),"Check: authorization/start date",IF(AND(I19="Ended",H19=""),"Check: ended date missing",IF(I19="Pending Review","Review pending",IF(AND(I19="Authorized",H19<>"",H19<Assumptions!$B$2),"Check: status may need update",IF(AND(I19="Authorized",H19<>"",H19<=Assumptions!$B$2+Assumptions!$B$3),"Review end date","OK")))))))))
J20: =IF(D20="","",IF(I20="","Check: status missing",IF(AND(F20<>"",G20<>"",G20<F20),"Check: start before authorization",IF(AND(G20<>"",H20<>"",H20<G20),"Check: end before start",IF(AND(I20="Authorized",OR(F20="",G20="")),"Check: authorization/start date",IF(AND(I20="Ended",H20=""),"Check: ended date missing",IF(I20="Pending Review","Review pending",IF(AND(I20="Authorized",H20<>"",H20<Assumptions!$B$2),"Check: status may need update",IF(AND(I20="Authorized",H20<>"",H20<=Assumptions!$B$2+Assumptions!$B$3),"Review end date","OK")))))))))
J21: =IF(D21="","",IF(I21="","Check: status missing",IF(AND(F21<>"",G21<>"",G21<F21),"Check: start before authorization",IF(AND(G21<>"",H21<>"",H21<G21),"Check: end before start",IF(AND(I21="Authorized",OR(F21="",G21="")),"Check: authorization/start date",IF(AND(I21="Ended",H21=""),"Check: ended date missing",IF(I21="Pending Review","Review pending",IF(AND(I21="Authorized",H21<>"",H21<Assumptions!$B$2),"Check: status may need update",IF(AND(I21="Authorized",H21<>"",H21<=Assumptions!$B$2+Assumptions!$B$3),"Review end date","OK")))))))))
J22: =IF(D22="","",IF(I22="","Check: status missing",IF(AND(F22<>"",G22<>"",G22<F22),"Check: start before authorization",IF(AND(G22<>"",H22<>"",H22<G22),"Check: end before start",IF(AND(I22="Authorized",OR(F22="",G22="")),"Check: authorization/start date",IF(AND(I22="Ended",H22=""),"Check: ended date missing",IF(I22="Pending Review","Review pending",IF(AND(I22="Authorized",H22<>"",H22<Assumptions!$B$2),"Check: status may need update",IF(AND(I22="Authorized",H22<>"",H22<=Assumptions!$B$2+Assumptions!$B$3),"Review end date","OK")))))))))
J23: =IF(D23="","",IF(I23="","Check: status missing",IF(AND(F23<>"",G23<>"",G23<F23),"Check: start before authorization",IF(AND(G23<>"",H23<>"",H23<G23),"Check: end before start",IF(AND(I23="Authorized",OR(F23="",G23="")),"Check: authorization/start date",IF(AND(I23="Ended",H23=""),"Check: ended date missing",IF(I23="Pending Review","Review pending",IF(AND(I23="Authorized",H23<>"",H23<Assumptions!$B$2),"Check: status may need update",IF(AND(I23="Authorized",H23<>"",H23<=Assumptions!$B$2+Assumptions!$B$3),"Review end date","OK")))))))))
J24: =IF(D24="","",IF(I24="","Check: status missing",IF(AND(F24<>"",G24<>"",G24<F24),"Check: start before authorization",IF(AND(G24<>"",H24<>"",H24<G24),"Check: end before start",IF(AND(I24="Authorized",OR(F24="",G24="")),"Check: authorization/start date",IF(AND(I24="Ended",H24=""),"Check: ended date missing",IF(I24="Pending Review","Review pending",IF(AND(I24="Authorized",H24<>"",H24<Assumptions!$B$2),"Check: status may need update",IF(AND(I24="Authorized",H24<>"",H24<=Assumptions!$B$2+Assumptions!$B$3),"Review end date","OK")))))))))
J25: =IF(D25="","",IF(I25="","Check: status missing",IF(AND(F25<>"",G25<>"",G25<F25),"Check: start before authorization",IF(AND(G25<>"",H25<>"",H25<G25),"Check: end before start",IF(AND(I25="Authorized",OR(F25="",G25="")),"Check: authorization/start date",IF(AND(I25="Ended",H25=""),"Check: ended date missing",IF(I25="Pending Review","Review pending",IF(AND(I25="Authorized",H25<>"",H25<Assumptions!$B$2),"Check: status may need update",IF(AND(I25="Authorized",H25<>"",H25<=Assumptions!$B$2+Assumptions!$B$3),"Review end date","OK")))))))))
J26: =IF(D26="","",IF(I26="","Check: status missing",IF(AND(F26<>"",G26<>"",G26<F26),"Check: start before authorization",IF(AND(G26<>"",H26<>"",H26<G26),"Check: end before start",IF(AND(I26="Authorized",OR(F26="",G26="")),"Check: authorization/start date",IF(AND(I26="Ended",H26=""),"Check: ended date missing",IF(I26="Pending Review","Review pending",IF(AND(I26="Authorized",H26<>"",H26<Assumptions!$B$2),"Check: status may need update",IF(AND(I26="Authorized",H26<>"",H26<=Assumptions!$B$2+Assumptions!$B$3),"Review end date","OK")))))))))
... J104: =IF(D104="","",IF(I104="","Check: status missing",IF(AND(F104<>"",G104<>"",G104<F104),"Check: start before authorization",IF(AND(G104<>"",H104<>"",H104<G104),"Check: end before start",IF(AND(I104="Authorized",OR(F104="",G104="")),"Check: authorization/start date",IF(AND(I104="Ended",H104=""),"Check: ended date missing",IF(I104="Pending Review","Review pending",IF(AND(I104="Authorized",H104<>"",H104<Assumptions!$B$2),"Check: status may need update",IF(AND(I104="Authorized",H104<>"",H104<=Assumptions!$B$2+Assumptions!$B$3),"Review end date","OK")))))))))

Sheet Assumptions
A1: Register Assumptions and Choice Lists
A2: Register as of date | B2: 46276 | D2: Edit yellow controls and list values carefully. These choices feed the register drop-downs and review formulas.
A3: End-date review window (days) | B3: 30
A4: Earliest accepted register date | B4: 42370
A5: Latest accepted register date | B5: 50040
D7: Property choices | F7: Responsibility choices | H7: Status choices
D8: Fictional Juniper Court | F8: Leaseholder | H8: Authorized
D9: Fictional Cedar Row | F9: Occupancy Only | H9: Pending Review
D10: Fictional Maple Landing | F10: Minor Occupant | H10: Ended
D11: Fictional Willow Place | F11: Approved Aide | H11: Withdrawn
