Workbook

Sheet Summary
A1: Lease Commencement Calendar Summary
A3: Indicator | B3: Value | D3: Month | E3: Lease Starts
A4: As-of Date | B4: =IF(Assumptions!$B$4="","",Assumptions!$B$4) | D4: =IF(Assumptions!$B$4="","",DATE(YEAR(Assumptions!$B$4),MONTH(Assumptions!$B$4),1)) | E4: =IF($D4="","",COUNTIFS('Lease Calendar'!$D$4:$D$103,">="&$D4,'Lease Calendar'!$D$4:$D$103,"<"&DATE(YEAR($D4),MONTH($D4)+1,1),'Lease Calendar'!$I$4:$I$103,"<>Canceled"))
A5: Entered Lease Records | B5: =COUNTIF('Lease Calendar'!$A$4:$A$103,"<>") | D5: =IF($D4="","",DATE(YEAR($D4),MONTH($D4)+1,1)) | E5: =IF($D5="","",COUNTIFS('Lease Calendar'!$D$4:$D$103,">="&$D5,'Lease Calendar'!$D$4:$D$103,"<"&DATE(YEAR($D5),MONTH($D5)+1,1),'Lease Calendar'!$I$4:$I$103,"<>Canceled"))
A6: Starts in Planning Window | B6: =IF(OR(Assumptions!$B$4="",Assumptions!$B$5=""),"",COUNTIFS('Lease Calendar'!$A$4:$A$103,"<>",'Lease Calendar'!$D$4:$D$103,">="&Assumptions!$B$4,'Lease Calendar'!$D$4:$D$103,"<="&Assumptions!$B$4+Assumptions!$B$5,'Lease Calendar'!$I$4:$I$103,"<>Canceled")) | D6: =IF($D5="","",DATE(YEAR($D5),MONTH($D5)+1,1)) | E6: =IF($D6="","",COUNTIFS('Lease Calendar'!$D$4:$D$103,">="&$D6,'Lease Calendar'!$D$4:$D$103,"<"&DATE(YEAR($D6),MONTH($D6)+1,1),'Lease Calendar'!$I$4:$I$103,"<>Canceled"))
A7: Starts in Due-Soon Window | B7: =IF(OR(Assumptions!$B$4="",Assumptions!$B$6=""),"",COUNTIFS('Lease Calendar'!$A$4:$A$103,"<>",'Lease Calendar'!$D$4:$D$103,">="&Assumptions!$B$4,'Lease Calendar'!$D$4:$D$103,"<="&Assumptions!$B$4+Assumptions!$B$6,'Lease Calendar'!$I$4:$I$103,"<>Canceled")) | D7: =IF($D6="","",DATE(YEAR($D6),MONTH($D6)+1,1)) | E7: =IF($D7="","",COUNTIFS('Lease Calendar'!$D$4:$D$103,">="&$D7,'Lease Calendar'!$D$4:$D$103,"<"&DATE(YEAR($D7),MONTH($D7)+1,1),'Lease Calendar'!$I$4:$I$103,"<>Canceled"))
A8: Possessions in Planning Window | B8: =IF(OR(Assumptions!$B$4="",Assumptions!$B$5=""),"",COUNTIFS('Lease Calendar'!$A$4:$A$103,"<>",'Lease Calendar'!$E$4:$E$103,">="&Assumptions!$B$4,'Lease Calendar'!$E$4:$E$103,"<="&Assumptions!$B$4+Assumptions!$B$5,'Lease Calendar'!$I$4:$I$103,"<>Canceled")) | D8: =IF($D7="","",DATE(YEAR($D7),MONTH($D7)+1,1)) | E8: =IF($D8="","",COUNTIFS('Lease Calendar'!$D$4:$D$103,">="&$D8,'Lease Calendar'!$D$4:$D$103,"<"&DATE(YEAR($D8),MONTH($D8)+1,1),'Lease Calendar'!$I$4:$I$103,"<>Canceled"))
A9: Preparation Overdue | B9: =IF(Assumptions!$B$4="","",COUNTIFS('Lease Calendar'!$A$4:$A$103,"<>",'Lease Calendar'!$F$4:$F$103,"<>",'Lease Calendar'!$F$4:$F$103,"<"&Assumptions!$B$4,'Lease Calendar'!$I$4:$I$103,"<>Possession Complete",'Lease Calendar'!$I$4:$I$103,"<>Canceled")) | D9: =IF($D8="","",DATE(YEAR($D8),MONTH($D8)+1,1)) | E9: =IF($D9="","",COUNTIFS('Lease Calendar'!$D$4:$D$103,">="&$D9,'Lease Calendar'!$D$4:$D$103,"<"&DATE(YEAR($D9),MONTH($D9)+1,1),'Lease Calendar'!$I$4:$I$103,"<>Canceled"))
A10: Ready for Move-In | B10: =COUNTIF('Lease Calendar'!$I$4:$I$103,"Ready for Move-In")
A11: Needs Human Check | B11: =COUNTIFS('Lease Calendar'!$K$4:$K$103,"<>",'Lease Calendar'!$K$4:$K$103,"<>On schedule",'Lease Calendar'!$K$4:$K$103,"<>Ready",'Lease Calendar'!$K$4:$K$103,"<>Closed")
A12: Unassigned Staff | B12: =COUNTIFS('Lease Calendar'!$A$4:$A$103,"<>",'Lease Calendar'!$H$4:$H$103,"")
A14: Status | B14: Count
A15: =IF(Assumptions!$D$4="","",Assumptions!$D$4) | B15: =IF($A15="","",COUNTIF('Lease Calendar'!$I$4:$I$103,$A15))
A16: =IF(Assumptions!$D$5="","",Assumptions!$D$5) | B16: =IF($A16="","",COUNTIF('Lease Calendar'!$I$4:$I$103,$A16))
A17: =IF(Assumptions!$D$6="","",Assumptions!$D$6) | B17: =IF($A17="","",COUNTIF('Lease Calendar'!$I$4:$I$103,$A17))
A18: =IF(Assumptions!$D$7="","",Assumptions!$D$7) | B18: =IF($A18="","",COUNTIF('Lease Calendar'!$I$4:$I$103,$A18))
A19: =IF(Assumptions!$D$8="","",Assumptions!$D$8) | B19: =IF($A19="","",COUNTIF('Lease Calendar'!$I$4:$I$103,$A19))
A20: =IF(Assumptions!$D$9="","",Assumptions!$D$9) | B20: =IF($A20="","",COUNTIF('Lease Calendar'!$I$4:$I$103,$A20))
A21: Listed Status Total | B21: =SUM(B15:B20)

Sheet Lease Calendar
A1: Lease Commencement Calendar — Fictional Sample
A3: Property | B3: Unit | C3: Tenancy | D3: Lease Start Date | E3: Possession Date | F3: Preparation Due Date | G3: Coordination Description | H3: Assigned Staff | I3: Status | J3: Days to Start | K3: Calendar Alert
A4: Cedar Court (Fictional) | B4: Unit 101 (Fictional) | C4: Bluebird Household (Fictional) | D4: 46280 | E4: 46280 | F4: 46277 | G4: Confirm key packet and move-in appointment. | H4: Avery Example (Fictional) | I4: Ready for Move-In | J4: =IF($D4="","",$D4-Assumptions!$B$4) | K4: =IF(COUNTA($A4:$I4)=0,"",IF($A4="","Check property",IFERROR(IF(OR($D4="",$E4="",$F4=""),"Check missing date",IF($E4>$D4,"Check possession date",IF($F4>$E4,"Check prep date",IF($H4="","Assign staff",IF(VLOOKUP($I4,Assumptions!$D$4:$E$9,2,FALSE)="Yes","Closed",IF($I4="On Hold","Review on hold",IF($I4="Ready for Move-In","Ready",IF(OR(Assumptions!$B$4="",Assumptions!$B$6=""),"Check assumptions",IF($F4<Assumptions!$B$4,"Prep overdue",IF($F4<=Assumptions!$B$4+Assumptions!$B$6,"Prep due soon","On schedule")))))))))),"Check status"))) | N4: =IF(Assumptions!$D$4="","",Assumptions!$D$4) | O4: =IF(Assumptions!$G$4="","",Assumptions!$G$4) | P4: =Assumptions!$B$7
A5: Harbor Flats (Fictional) | B5: Unit A2 (Fictional) | C5: Sunbeam Household (Fictional) | D5: 46287 | E5: 46286 | F5: 46281 | G5: Review the turnover punch list. | H5: Jordan Sample (Fictional) | I5: Prep in Progress | J5: =IF($D5="","",$D5-Assumptions!$B$4) | K5: =IF(COUNTA($A5:$I5)=0,"",IF($A5="","Check property",IFERROR(IF(OR($D5="",$E5="",$F5=""),"Check missing date",IF($E5>$D5,"Check possession date",IF($F5>$E5,"Check prep date",IF($H5="","Assign staff",IF(VLOOKUP($I5,Assumptions!$D$4:$E$9,2,FALSE)="Yes","Closed",IF($I5="On Hold","Review on hold",IF($I5="Ready for Move-In","Ready",IF(OR(Assumptions!$B$4="",Assumptions!$B$6=""),"Check assumptions",IF($F5<Assumptions!$B$4,"Prep overdue",IF($F5<=Assumptions!$B$4+Assumptions!$B$6,"Prep due soon","On schedule")))))))))),"Check status"))) | N5: =IF(Assumptions!$D$5="","",Assumptions!$D$5) | O5: =IF(Assumptions!$G$5="","",Assumptions!$G$5) | P5: =Assumptions!$B$8
A6: Maple Homes (Fictional) | B6: Unit M3 (Fictional) | C6: Meadow Household (Fictional) | D6: 46300 | E6: 46300 | F6: 46293 | G6: Coordinate the mailbox label and key count. | H6: Morgan Placeholder (Fictional) | I6: Planned | J6: =IF($D6="","",$D6-Assumptions!$B$4) | K6: =IF(COUNTA($A6:$I6)=0,"",IF($A6="","Check property",IFERROR(IF(OR($D6="",$E6="",$F6=""),"Check missing date",IF($E6>$D6,"Check possession date",IF($F6>$E6,"Check prep date",IF($H6="","Assign staff",IF(VLOOKUP($I6,Assumptions!$D$4:$E$9,2,FALSE)="Yes","Closed",IF($I6="On Hold","Review on hold",IF($I6="Ready for Move-In","Ready",IF(OR(Assumptions!$B$4="",Assumptions!$B$6=""),"Check assumptions",IF($F6<Assumptions!$B$4,"Prep overdue",IF($F6<=Assumptions!$B$4+Assumptions!$B$6,"Prep due soon","On schedule")))))))))),"Check status"))) | N6: =IF(Assumptions!$D$6="","",Assumptions!$D$6) | O6: =IF(Assumptions!$G$6="","",Assumptions!$G$6)
A7: Juniper Place (Fictional) | B7: Unit J1 (Fictional) | C7: Cloudberry Household (Fictional) | D7: 46271 | E7: 46271 | F7: 46265 | G7: Close the completed possession checklist. | H7: Casey Demo (Fictional) | I7: Possession Complete | J7: =IF($D7="","",$D7-Assumptions!$B$4) | K7: =IF(COUNTA($A7:$I7)=0,"",IF($A7="","Check property",IFERROR(IF(OR($D7="",$E7="",$F7=""),"Check missing date",IF($E7>$D7,"Check possession date",IF($F7>$E7,"Check prep date",IF($H7="","Assign staff",IF(VLOOKUP($I7,Assumptions!$D$4:$E$9,2,FALSE)="Yes","Closed",IF($I7="On Hold","Review on hold",IF($I7="Ready for Move-In","Ready",IF(OR(Assumptions!$B$4="",Assumptions!$B$6=""),"Check assumptions",IF($F7<Assumptions!$B$4,"Prep overdue",IF($F7<=Assumptions!$B$4+Assumptions!$B$6,"Prep due soon","On schedule")))))))))),"Check status"))) | N7: =IF(Assumptions!$D$7="","",Assumptions!$D$7) | O7: =IF(Assumptions!$G$7="","",Assumptions!$G$7)
A8: Cedar Court (Fictional) | B8: Unit 204 (Fictional) | C8: Starlight Household (Fictional) | D8: 46315 | E8: 46316 | F8: 46305 | G8: Human check: possession is entered after the lease start. | H8: Avery Example (Fictional) | I8: Planned | J8: =IF($D8="","",$D8-Assumptions!$B$4) | K8: =IF(COUNTA($A8:$I8)=0,"",IF($A8="","Check property",IFERROR(IF(OR($D8="",$E8="",$F8=""),"Check missing date",IF($E8>$D8,"Check possession date",IF($F8>$E8,"Check prep date",IF($H8="","Assign staff",IF(VLOOKUP($I8,Assumptions!$D$4:$E$9,2,FALSE)="Yes","Closed",IF($I8="On Hold","Review on hold",IF($I8="Ready for Move-In","Ready",IF(OR(Assumptions!$B$4="",Assumptions!$B$6=""),"Check assumptions",IF($F8<Assumptions!$B$4,"Prep overdue",IF($F8<=Assumptions!$B$4+Assumptions!$B$6,"Prep due soon","On schedule")))))))))),"Check status"))) | N8: =IF(Assumptions!$D$8="","",Assumptions!$D$8)
A9: Harbor Flats (Fictional) | B9: Unit B4 (Fictional) | C9: Willow Household (Fictional) | D9: 46283 | E9: 46283 | F9: 46274 | G9: Verify final cleaning and key labeling. | H9: Jordan Sample (Fictional) | I9: Planned | J9: =IF($D9="","",$D9-Assumptions!$B$4) | K9: =IF(COUNTA($A9:$I9)=0,"",IF($A9="","Check property",IFERROR(IF(OR($D9="",$E9="",$F9=""),"Check missing date",IF($E9>$D9,"Check possession date",IF($F9>$E9,"Check prep date",IF($H9="","Assign staff",IF(VLOOKUP($I9,Assumptions!$D$4:$E$9,2,FALSE)="Yes","Closed",IF($I9="On Hold","Review on hold",IF($I9="Ready for Move-In","Ready",IF(OR(Assumptions!$B$4="",Assumptions!$B$6=""),"Check assumptions",IF($F9<Assumptions!$B$4,"Prep overdue",IF($F9<=Assumptions!$B$4+Assumptions!$B$6,"Prep due soon","On schedule")))))))))),"Check status"))) | N9: =IF(Assumptions!$D$9="","",Assumptions!$D$9)
A10: Maple Homes (Fictional) | B10: Unit M8 (Fictional) | C10: Moonrise Household (Fictional) | D10: 46330 | E10: 46328 | F10: 46320 | G10: Review the hold before confirming possession. | H10: Morgan Placeholder (Fictional) | I10: On Hold | J10: =IF($D10="","",$D10-Assumptions!$B$4) | K10: =IF(COUNTA($A10:$I10)=0,"",IF($A10="","Check property",IFERROR(IF(OR($D10="",$E10="",$F10=""),"Check missing date",IF($E10>$D10,"Check possession date",IF($F10>$E10,"Check prep date",IF($H10="","Assign staff",IF(VLOOKUP($I10,Assumptions!$D$4:$E$9,2,FALSE)="Yes","Closed",IF($I10="On Hold","Review on hold",IF($I10="Ready for Move-In","Ready",IF(OR(Assumptions!$B$4="",Assumptions!$B$6=""),"Check assumptions",IF($F10<Assumptions!$B$4,"Prep overdue",IF($F10<=Assumptions!$B$4+Assumptions!$B$6,"Prep due soon","On schedule")))))))))),"Check status")))
A11: Juniper Place (Fictional) | B11: Unit J6 (Fictional) | C11: Fern Household (Fictional) | D11: 46335 | E11: 46335 | F11: 46325 | G11: Schedule the key handoff and orientation. | H11: Casey Demo (Fictional) | I11: Planned | J11: =IF($D11="","",$D11-Assumptions!$B$4) | K11: =IF(COUNTA($A11:$I11)=0,"",IF($A11="","Check property",IFERROR(IF(OR($D11="",$E11="",$F11=""),"Check missing date",IF($E11>$D11,"Check possession date",IF($F11>$E11,"Check prep date",IF($H11="","Assign staff",IF(VLOOKUP($I11,Assumptions!$D$4:$E$9,2,FALSE)="Yes","Closed",IF($I11="On Hold","Review on hold",IF($I11="Ready for Move-In","Ready",IF(OR(Assumptions!$B$4="",Assumptions!$B$6=""),"Check assumptions",IF($F11<Assumptions!$B$4,"Prep overdue",IF($F11<=Assumptions!$B$4+Assumptions!$B$6,"Prep due soon","On schedule")))))))))),"Check status")))
A12: Cedar Court (Fictional) | B12: Unit 305 (Fictional) | C12: Sparrow Household (Fictional) | D12: 46275 | E12: 46275 | F12: 46273 | G12: Confirm same-day possession details. | H12: Avery Example (Fictional) | I12: Ready for Move-In | J12: =IF($D12="","",$D12-Assumptions!$B$4) | K12: =IF(COUNTA($A12:$I12)=0,"",IF($A12="","Check property",IFERROR(IF(OR($D12="",$E12="",$F12=""),"Check missing date",IF($E12>$D12,"Check possession date",IF($F12>$E12,"Check prep date",IF($H12="","Assign staff",IF(VLOOKUP($I12,Assumptions!$D$4:$E$9,2,FALSE)="Yes","Closed",IF($I12="On Hold","Review on hold",IF($I12="Ready for Move-In","Ready",IF(OR(Assumptions!$B$4="",Assumptions!$B$6=""),"Check assumptions",IF($F12<Assumptions!$B$4,"Prep overdue",IF($F12<=Assumptions!$B$4+Assumptions!$B$6,"Prep due soon","On schedule")))))))))),"Check status")))
A13: Harbor Flats (Fictional) | B13: Unit C7 (Fictional) | C13: Raindrop Household (Fictional) | D13: 46305 | E13: 46304 | F13: 46306 | G13: Human check: preparation due date follows possession. | H13: Jordan Sample (Fictional) | I13: Prep in Progress | J13: =IF($D13="","",$D13-Assumptions!$B$4) | K13: =IF(COUNTA($A13:$I13)=0,"",IF($A13="","Check property",IFERROR(IF(OR($D13="",$E13="",$F13=""),"Check missing date",IF($E13>$D13,"Check possession date",IF($F13>$E13,"Check prep date",IF($H13="","Assign staff",IF(VLOOKUP($I13,Assumptions!$D$4:$E$9,2,FALSE)="Yes","Closed",IF($I13="On Hold","Review on hold",IF($I13="Ready for Move-In","Ready",IF(OR(Assumptions!$B$4="",Assumptions!$B$6=""),"Check assumptions",IF($F13<Assumptions!$B$4,"Prep overdue",IF($F13<=Assumptions!$B$4+Assumptions!$B$6,"Prep due soon","On schedule")))))))))),"Check status")))
J14: =IF($D14="","",$D14-Assumptions!$B$4) | K14: =IF(COUNTA($A14:$I14)=0,"",IF($A14="","Check property",IFERROR(IF(OR($D14="",$E14="",$F14=""),"Check missing date",IF($E14>$D14,"Check possession date",IF($F14>$E14,"Check prep date",IF($H14="","Assign staff",IF(VLOOKUP($I14,Assumptions!$D$4:$E$9,2,FALSE)="Yes","Closed",IF($I14="On Hold","Review on hold",IF($I14="Ready for Move-In","Ready",IF(OR(Assumptions!$B$4="",Assumptions!$B$6=""),"Check assumptions",IF($F14<Assumptions!$B$4,"Prep overdue",IF($F14<=Assumptions!$B$4+Assumptions!$B$6,"Prep due soon","On schedule")))))))))),"Check status")))
J15: =IF($D15="","",$D15-Assumptions!$B$4) | K15: =IF(COUNTA($A15:$I15)=0,"",IF($A15="","Check property",IFERROR(IF(OR($D15="",$E15="",$F15=""),"Check missing date",IF($E15>$D15,"Check possession date",IF($F15>$E15,"Check prep date",IF($H15="","Assign staff",IF(VLOOKUP($I15,Assumptions!$D$4:$E$9,2,FALSE)="Yes","Closed",IF($I15="On Hold","Review on hold",IF($I15="Ready for Move-In","Ready",IF(OR(Assumptions!$B$4="",Assumptions!$B$6=""),"Check assumptions",IF($F15<Assumptions!$B$4,"Prep overdue",IF($F15<=Assumptions!$B$4+Assumptions!$B$6,"Prep due soon","On schedule")))))))))),"Check status")))
J16: =IF($D16="","",$D16-Assumptions!$B$4) | K16: =IF(COUNTA($A16:$I16)=0,"",IF($A16="","Check property",IFERROR(IF(OR($D16="",$E16="",$F16=""),"Check missing date",IF($E16>$D16,"Check possession date",IF($F16>$E16,"Check prep date",IF($H16="","Assign staff",IF(VLOOKUP($I16,Assumptions!$D$4:$E$9,2,FALSE)="Yes","Closed",IF($I16="On Hold","Review on hold",IF($I16="Ready for Move-In","Ready",IF(OR(Assumptions!$B$4="",Assumptions!$B$6=""),"Check assumptions",IF($F16<Assumptions!$B$4,"Prep overdue",IF($F16<=Assumptions!$B$4+Assumptions!$B$6,"Prep due soon","On schedule")))))))))),"Check status")))
J17: =IF($D17="","",$D17-Assumptions!$B$4) | K17: =IF(COUNTA($A17:$I17)=0,"",IF($A17="","Check property",IFERROR(IF(OR($D17="",$E17="",$F17=""),"Check missing date",IF($E17>$D17,"Check possession date",IF($F17>$E17,"Check prep date",IF($H17="","Assign staff",IF(VLOOKUP($I17,Assumptions!$D$4:$E$9,2,FALSE)="Yes","Closed",IF($I17="On Hold","Review on hold",IF($I17="Ready for Move-In","Ready",IF(OR(Assumptions!$B$4="",Assumptions!$B$6=""),"Check assumptions",IF($F17<Assumptions!$B$4,"Prep overdue",IF($F17<=Assumptions!$B$4+Assumptions!$B$6,"Prep due soon","On schedule")))))))))),"Check status")))
J18: =IF($D18="","",$D18-Assumptions!$B$4) | K18: =IF(COUNTA($A18:$I18)=0,"",IF($A18="","Check property",IFERROR(IF(OR($D18="",$E18="",$F18=""),"Check missing date",IF($E18>$D18,"Check possession date",IF($F18>$E18,"Check prep date",IF($H18="","Assign staff",IF(VLOOKUP($I18,Assumptions!$D$4:$E$9,2,FALSE)="Yes","Closed",IF($I18="On Hold","Review on hold",IF($I18="Ready for Move-In","Ready",IF(OR(Assumptions!$B$4="",Assumptions!$B$6=""),"Check assumptions",IF($F18<Assumptions!$B$4,"Prep overdue",IF($F18<=Assumptions!$B$4+Assumptions!$B$6,"Prep due soon","On schedule")))))))))),"Check status")))
J19: =IF($D19="","",$D19-Assumptions!$B$4) | K19: =IF(COUNTA($A19:$I19)=0,"",IF($A19="","Check property",IFERROR(IF(OR($D19="",$E19="",$F19=""),"Check missing date",IF($E19>$D19,"Check possession date",IF($F19>$E19,"Check prep date",IF($H19="","Assign staff",IF(VLOOKUP($I19,Assumptions!$D$4:$E$9,2,FALSE)="Yes","Closed",IF($I19="On Hold","Review on hold",IF($I19="Ready for Move-In","Ready",IF(OR(Assumptions!$B$4="",Assumptions!$B$6=""),"Check assumptions",IF($F19<Assumptions!$B$4,"Prep overdue",IF($F19<=Assumptions!$B$4+Assumptions!$B$6,"Prep due soon","On schedule")))))))))),"Check status")))
J20: =IF($D20="","",$D20-Assumptions!$B$4) | K20: =IF(COUNTA($A20:$I20)=0,"",IF($A20="","Check property",IFERROR(IF(OR($D20="",$E20="",$F20=""),"Check missing date",IF($E20>$D20,"Check possession date",IF($F20>$E20,"Check prep date",IF($H20="","Assign staff",IF(VLOOKUP($I20,Assumptions!$D$4:$E$9,2,FALSE)="Yes","Closed",IF($I20="On Hold","Review on hold",IF($I20="Ready for Move-In","Ready",IF(OR(Assumptions!$B$4="",Assumptions!$B$6=""),"Check assumptions",IF($F20<Assumptions!$B$4,"Prep overdue",IF($F20<=Assumptions!$B$4+Assumptions!$B$6,"Prep due soon","On schedule")))))))))),"Check status")))
J21: =IF($D21="","",$D21-Assumptions!$B$4) | K21: =IF(COUNTA($A21:$I21)=0,"",IF($A21="","Check property",IFERROR(IF(OR($D21="",$E21="",$F21=""),"Check missing date",IF($E21>$D21,"Check possession date",IF($F21>$E21,"Check prep date",IF($H21="","Assign staff",IF(VLOOKUP($I21,Assumptions!$D$4:$E$9,2,FALSE)="Yes","Closed",IF($I21="On Hold","Review on hold",IF($I21="Ready for Move-In","Ready",IF(OR(Assumptions!$B$4="",Assumptions!$B$6=""),"Check assumptions",IF($F21<Assumptions!$B$4,"Prep overdue",IF($F21<=Assumptions!$B$4+Assumptions!$B$6,"Prep due soon","On schedule")))))))))),"Check status")))
J22: =IF($D22="","",$D22-Assumptions!$B$4) | K22: =IF(COUNTA($A22:$I22)=0,"",IF($A22="","Check property",IFERROR(IF(OR($D22="",$E22="",$F22=""),"Check missing date",IF($E22>$D22,"Check possession date",IF($F22>$E22,"Check prep date",IF($H22="","Assign staff",IF(VLOOKUP($I22,Assumptions!$D$4:$E$9,2,FALSE)="Yes","Closed",IF($I22="On Hold","Review on hold",IF($I22="Ready for Move-In","Ready",IF(OR(Assumptions!$B$4="",Assumptions!$B$6=""),"Check assumptions",IF($F22<Assumptions!$B$4,"Prep overdue",IF($F22<=Assumptions!$B$4+Assumptions!$B$6,"Prep due soon","On schedule")))))))))),"Check status")))
J23: =IF($D23="","",$D23-Assumptions!$B$4) | K23: =IF(COUNTA($A23:$I23)=0,"",IF($A23="","Check property",IFERROR(IF(OR($D23="",$E23="",$F23=""),"Check missing date",IF($E23>$D23,"Check possession date",IF($F23>$E23,"Check prep date",IF($H23="","Assign staff",IF(VLOOKUP($I23,Assumptions!$D$4:$E$9,2,FALSE)="Yes","Closed",IF($I23="On Hold","Review on hold",IF($I23="Ready for Move-In","Ready",IF(OR(Assumptions!$B$4="",Assumptions!$B$6=""),"Check assumptions",IF($F23<Assumptions!$B$4,"Prep overdue",IF($F23<=Assumptions!$B$4+Assumptions!$B$6,"Prep due soon","On schedule")))))))))),"Check status")))
J24: =IF($D24="","",$D24-Assumptions!$B$4) | K24: =IF(COUNTA($A24:$I24)=0,"",IF($A24="","Check property",IFERROR(IF(OR($D24="",$E24="",$F24=""),"Check missing date",IF($E24>$D24,"Check possession date",IF($F24>$E24,"Check prep date",IF($H24="","Assign staff",IF(VLOOKUP($I24,Assumptions!$D$4:$E$9,2,FALSE)="Yes","Closed",IF($I24="On Hold","Review on hold",IF($I24="Ready for Move-In","Ready",IF(OR(Assumptions!$B$4="",Assumptions!$B$6=""),"Check assumptions",IF($F24<Assumptions!$B$4,"Prep overdue",IF($F24<=Assumptions!$B$4+Assumptions!$B$6,"Prep due soon","On schedule")))))))))),"Check status")))
J25: =IF($D25="","",$D25-Assumptions!$B$4) | K25: =IF(COUNTA($A25:$I25)=0,"",IF($A25="","Check property",IFERROR(IF(OR($D25="",$E25="",$F25=""),"Check missing date",IF($E25>$D25,"Check possession date",IF($F25>$E25,"Check prep date",IF($H25="","Assign staff",IF(VLOOKUP($I25,Assumptions!$D$4:$E$9,2,FALSE)="Yes","Closed",IF($I25="On Hold","Review on hold",IF($I25="Ready for Move-In","Ready",IF(OR(Assumptions!$B$4="",Assumptions!$B$6=""),"Check assumptions",IF($F25<Assumptions!$B$4,"Prep overdue",IF($F25<=Assumptions!$B$4+Assumptions!$B$6,"Prep due soon","On schedule")))))))))),"Check status")))
... J103: =IF($D103="","",$D103-Assumptions!$B$4) | K103: =IF(COUNTA($A103:$I103)=0,"",IF($A103="","Check property",IFERROR(IF(OR($D103="",$E103="",$F103=""),"Check missing date",IF($E103>$D103,"Check possession date",IF($F103>$E103,"Check prep date",IF($H103="","Assign staff",IF(VLOOKUP($I103,Assumptions!$D$4:$E$9,2,FALSE)="Yes","Closed",IF($I103="On Hold","Review on hold",IF($I103="Ready for Move-In","Ready",IF(OR(Assumptions!$B$4="",Assumptions!$B$6=""),"Check assumptions",IF($F103<Assumptions!$B$4,"Prep overdue",IF($F103<=Assumptions!$B$4+Assumptions!$B$6,"Prep due soon","On schedule")))))))))),"Check status")))

Sheet Assumptions
A1: Lease Commencement Calendar Assumptions
A3: Planning Setting | B3: Value | C3: Purpose | D3: Status | E3: Closed for Scheduling? | G3: Assigned Staff
A4: As-of Date | B4: 46275 | C4: Drives calendar alerts and summary windows. | D4: Planned | E4: No | G4: Avery Example (Fictional)
A5: Upcoming Window (Days) | B5: 60 | C5: Sets the forward-looking summary period. | D5: Prep in Progress | E5: No | G5: Jordan Sample (Fictional)
A6: Due-Soon Threshold (Days) | B6: 7 | C6: Flags preparation deadlines approaching this many days ahead. | D6: Ready for Move-In | E6: No | G6: Morgan Placeholder (Fictional)
A7: Earliest Accepted Date | B7: 45545 | C7: Sets the earliest date accepted in the calendar. | D7: Possession Complete | E7: Yes | G7: Casey Demo (Fictional)
A8: Latest Accepted Date | B8: 47370 | C8: Sets the latest date accepted in the calendar. | D8: On Hold | E8: No
D9: Canceled | E9: Yes
