Workbook

Sheet Summary
A1: Lease Renewal Calendar Summary
A2: Planning indicators calculated from the Renewal Calendar and Assumptions.
A3: As-of date | B3: =Assumptions!B3
A4: Indicator | B4: Value | D4: Month | E4: Lease Ends
A5: Open lease records | B5: =COUNTIFS('Renewal Calendar'!$E$5:$E$124,"<>",'Renewal Calendar'!$L$5:$L$124,"<>Closed") | D5: =DATE(YEAR($B$3),MONTH($B$3),1) | E5: =COUNTIFS('Renewal Calendar'!$E$5:$E$124,">="&D5,'Renewal Calendar'!$E$5:$E$124,"<"&DATE(YEAR(D5),MONTH(D5)+1,1))
A6: Lease ends in urgent window | B6: =COUNTIFS('Renewal Calendar'!$E$5:$E$124,">="&$B$3,'Renewal Calendar'!$E$5:$E$124,"<="&$B$3+Assumptions!$B$7,'Renewal Calendar'!$L$5:$L$124,"<>Closed") | D6: =DATE(YEAR(D5),MONTH(D5)+1,1) | E6: =COUNTIFS('Renewal Calendar'!$E$5:$E$124,">="&D6,'Renewal Calendar'!$E$5:$E$124,"<"&DATE(YEAR(D6),MONTH(D6)+1,1))
A7: Lease ends in planning window | B7: =COUNTIFS('Renewal Calendar'!$E$5:$E$124,">="&$B$3,'Renewal Calendar'!$E$5:$E$124,"<="&$B$3+Assumptions!$B$6,'Renewal Calendar'!$L$5:$L$124,"<>Closed") | D7: =DATE(YEAR(D6),MONTH(D6)+1,1) | E7: =COUNTIFS('Renewal Calendar'!$E$5:$E$124,">="&D7,'Renewal Calendar'!$E$5:$E$124,"<"&DATE(YEAR(D7),MONTH(D7)+1,1))
A8: Past-due open lease ends | B8: =COUNTIFS('Renewal Calendar'!$E$5:$E$124,"<"&$B$3,'Renewal Calendar'!$E$5:$E$124,"<>",'Renewal Calendar'!$L$5:$L$124,"<>Closed") | D8: =DATE(YEAR(D7),MONTH(D7)+1,1) | E8: =COUNTIFS('Renewal Calendar'!$E$5:$E$124,">="&D8,'Renewal Calendar'!$E$5:$E$124,"<"&DATE(YEAR(D8),MONTH(D8)+1,1))
A9: Review milestones reached | B9: =COUNTIFS('Renewal Calendar'!$F$5:$F$124,"<>",'Renewal Calendar'!$F$5:$F$124,"<="&$B$3,'Renewal Calendar'!$L$5:$L$124,"<>Closed",'Renewal Calendar'!$L$5:$L$124,"<>Renewal Signed") | D9: =DATE(YEAR(D8),MONTH(D8)+1,1) | E9: =COUNTIFS('Renewal Calendar'!$E$5:$E$124,">="&D9,'Renewal Calendar'!$E$5:$E$124,"<"&DATE(YEAR(D9),MONTH(D9)+1,1))
A10: Notice milestones reached | B10: =COUNTIFS('Renewal Calendar'!$G$5:$G$124,"<>",'Renewal Calendar'!$G$5:$G$124,"<="&$B$3,'Renewal Calendar'!$L$5:$L$124,"<>Closed",'Renewal Calendar'!$L$5:$L$124,"<>Renewal Signed") | D10: =DATE(YEAR(D9),MONTH(D9)+1,1) | E10: =COUNTIFS('Renewal Calendar'!$E$5:$E$124,">="&D10,'Renewal Calendar'!$E$5:$E$124,"<"&DATE(YEAR(D10),MONTH(D10)+1,1))
A11: Pending renewal decisions | B11: =COUNTIFS('Renewal Calendar'!$E$5:$E$124,"<>",'Renewal Calendar'!$I$5:$I$124,"Pending",'Renewal Calendar'!$L$5:$L$124,"<>Closed") | D11: =DATE(YEAR(D10),MONTH(D10)+1,1) | E11: =COUNTIFS('Renewal Calendar'!$E$5:$E$124,">="&D11,'Renewal Calendar'!$E$5:$E$124,"<"&DATE(YEAR(D11),MONTH(D11)+1,1))
A12: Renewals signed | B12: =COUNTIF('Renewal Calendar'!$L$5:$L$124,"Renewal Signed") | D12: =DATE(YEAR(D11),MONTH(D11)+1,1) | E12: =COUNTIFS('Renewal Calendar'!$E$5:$E$124,">="&D12,'Renewal Calendar'!$E$5:$E$124,"<"&DATE(YEAR(D12),MONTH(D12)+1,1))
A13: Move-outs planned | B13: =COUNTIF('Renewal Calendar'!$L$5:$L$124,"Move-Out Planned") | D13: =DATE(YEAR(D12),MONTH(D12)+1,1) | E13: =COUNTIFS('Renewal Calendar'!$E$5:$E$124,">="&D13,'Renewal Calendar'!$E$5:$E$124,"<"&DATE(YEAR(D13),MONTH(D13)+1,1))
A14: Average proposed monthly rent | B14: =IFERROR(SUM('Renewal Calendar'!$J$5:$J$124)/COUNT('Renewal Calendar'!$J$5:$J$124),"") | D14: =DATE(YEAR(D13),MONTH(D13)+1,1) | E14: =COUNTIFS('Renewal Calendar'!$E$5:$E$124,">="&D14,'Renewal Calendar'!$E$5:$E$124,"<"&DATE(YEAR(D14),MONTH(D14)+1,1))
D15: =DATE(YEAR(D14),MONTH(D14)+1,1) | E15: =COUNTIFS('Renewal Calendar'!$E$5:$E$124,">="&D15,'Renewal Calendar'!$E$5:$E$124,"<"&DATE(YEAR(D15),MONTH(D15)+1,1))
D16: =DATE(YEAR(D15),MONTH(D15)+1,1) | E16: =COUNTIFS('Renewal Calendar'!$E$5:$E$124,">="&D16,'Renewal Calendar'!$E$5:$E$124,"<"&DATE(YEAR(D16),MONTH(D16)+1,1))

Sheet Renewal Calendar
A1: Lease Renewal Calendar
A2: Planning prompts only; review each lease and applicable requirements before acting.
A4: Property | B4: Unit | C4: Tenant | D4: Lease Start | E4: Lease End | F4: Internal Review Date | G4: Notice Milestone Date | H4: Days Left | I4: Renewal Decision | J4: Proposed Monthly Rent | K4: Responsibility | L4: Status | M4: Next Action | N4: Notes
A5: Fictional Cedar Court | B5: Fictional Unit C-101 | C5: Fictional Tenant Alpha | D5: 45901 | E5: 46265 | F5: =IF(E5="","",E5-Assumptions!$B$4) | G5: =IF(E5="","",E5-Assumptions!$B$5) | H5: =IF(E5="","",E5-Assumptions!$B$3) | I5: Vacate | J5: 1325 | K5: Manager | L5: Closed | M5: =IF(E5="","",IF(L5="Closed","No action - closed",IF(L5="Renewal Signed","File signed renewal",IF(H5<0,"Human check: lease end passed",IF(I5="Pending",IF(F5<=Assumptions!$B$3,"Review renewal now","Review on "&TEXT(F5,"mm/dd/yyyy")),IF(OR(I5="Do Not Renew",I5="Vacate"),IF(G5<=Assumptions!$B$3,"Human check: notice milestone reached","Review notice plan by "&TEXT(G5,"mm/dd/yyyy")),IF(I5="Renew","Prepare or track renewal terms","Confirm decision and next step"))))))) | N5: Fictional sample: archived move-out review.
A6: Fictional Cedar Court | B6: Fictional Unit C-102 | C6: Fictional Tenant Bravo | D6: 45911 | E6: 46275 | F6: =IF(E6="","",E6-Assumptions!$B$4) | G6: =IF(E6="","",E6-Assumptions!$B$5) | H6: =IF(E6="","",E6-Assumptions!$B$3) | I6: Pending | J6: 1450 | K6: Owner | L6: Review Needed | M6: =IF(E6="","",IF(L6="Closed","No action - closed",IF(L6="Renewal Signed","File signed renewal",IF(H6<0,"Human check: lease end passed",IF(I6="Pending",IF(F6<=Assumptions!$B$3,"Review renewal now","Review on "&TEXT(F6,"mm/dd/yyyy")),IF(OR(I6="Do Not Renew",I6="Vacate"),IF(G6<=Assumptions!$B$3,"Human check: notice milestone reached","Review notice plan by "&TEXT(G6,"mm/dd/yyyy")),IF(I6="Renew","Prepare or track renewal terms","Confirm decision and next step"))))))) | N6: Fictional sample: lease end is the as-of date.
A7: Fictional Harbor Flats | B7: Fictional Unit H-201 | C7: Fictional Tenant Charlie | D7: 45940 | E7: 46304 | F7: =IF(E7="","",E7-Assumptions!$B$4) | G7: =IF(E7="","",E7-Assumptions!$B$5) | H7: =IF(E7="","",E7-Assumptions!$B$3) | I7: Pending | J7: 1575 | K7: Leasing Team | L7: Review Needed | M7: =IF(E7="","",IF(L7="Closed","No action - closed",IF(L7="Renewal Signed","File signed renewal",IF(H7<0,"Human check: lease end passed",IF(I7="Pending",IF(F7<=Assumptions!$B$3,"Review renewal now","Review on "&TEXT(F7,"mm/dd/yyyy")),IF(OR(I7="Do Not Renew",I7="Vacate"),IF(G7<=Assumptions!$B$3,"Human check: notice milestone reached","Review notice plan by "&TEXT(G7,"mm/dd/yyyy")),IF(I7="Renew","Prepare or track renewal terms","Confirm decision and next step"))))))) | N7: Fictional sample: inside the urgent planning window.
A8: Fictional Harbor Flats | B8: Fictional Unit H-202 | C8: Fictional Tenant Delta | D8: 45941 | E8: 46305 | F8: =IF(E8="","",E8-Assumptions!$B$4) | G8: =IF(E8="","",E8-Assumptions!$B$5) | H8: =IF(E8="","",E8-Assumptions!$B$3) | I8: Do Not Renew | J8: 1610 | K8: Manager | L8: Notice Pending | M8: =IF(E8="","",IF(L8="Closed","No action - closed",IF(L8="Renewal Signed","File signed renewal",IF(H8<0,"Human check: lease end passed",IF(I8="Pending",IF(F8<=Assumptions!$B$3,"Review renewal now","Review on "&TEXT(F8,"mm/dd/yyyy")),IF(OR(I8="Do Not Renew",I8="Vacate"),IF(G8<=Assumptions!$B$3,"Human check: notice milestone reached","Review notice plan by "&TEXT(G8,"mm/dd/yyyy")),IF(I8="Renew","Prepare or track renewal terms","Confirm decision and next step"))))))) | N8: Fictional sample: urgent-window boundary record.
A9: Fictional Juniper Row | B9: Fictional Unit J-301 | C9: Fictional Tenant Echo | D9: 45942 | E9: 46306 | F9: =IF(E9="","",E9-Assumptions!$B$4) | G9: =IF(E9="","",E9-Assumptions!$B$5) | H9: =IF(E9="","",E9-Assumptions!$B$3) | I9: Renew | J9: 1725 | K9: Owner | L9: Offer Pending | M9: =IF(E9="","",IF(L9="Closed","No action - closed",IF(L9="Renewal Signed","File signed renewal",IF(H9<0,"Human check: lease end passed",IF(I9="Pending",IF(F9<=Assumptions!$B$3,"Review renewal now","Review on "&TEXT(F9,"mm/dd/yyyy")),IF(OR(I9="Do Not Renew",I9="Vacate"),IF(G9<=Assumptions!$B$3,"Human check: notice milestone reached","Review notice plan by "&TEXT(G9,"mm/dd/yyyy")),IF(I9="Renew","Prepare or track renewal terms","Confirm decision and next step"))))))) | N9: Fictional sample: renewal terms under internal review.
A10: Fictional Juniper Row | B10: Fictional Unit J-302 | C10: Fictional Tenant Foxtrot | D10: 45971 | E10: 46335 | F10: =IF(E10="","",E10-Assumptions!$B$4) | G10: =IF(E10="","",E10-Assumptions!$B$5) | H10: =IF(E10="","",E10-Assumptions!$B$3) | I10: Renew | J10: 1800 | K10: Leasing Team | L10: Offer Pending | M10: =IF(E10="","",IF(L10="Closed","No action - closed",IF(L10="Renewal Signed","File signed renewal",IF(H10<0,"Human check: lease end passed",IF(I10="Pending",IF(F10<=Assumptions!$B$3,"Review renewal now","Review on "&TEXT(F10,"mm/dd/yyyy")),IF(OR(I10="Do Not Renew",I10="Vacate"),IF(G10<=Assumptions!$B$3,"Human check: notice milestone reached","Review notice plan by "&TEXT(G10,"mm/dd/yyyy")),IF(I10="Renew","Prepare or track renewal terms","Confirm decision and next step"))))))) | N10: Fictional sample: notice-milestone boundary record.
A11: Fictional Maple Mews | B11: Fictional Unit M-401 | C11: Fictional Tenant Golf | D11: 46001 | E11: 46365 | F11: =IF(E11="","",E11-Assumptions!$B$4) | G11: =IF(E11="","",E11-Assumptions!$B$5) | H11: =IF(E11="","",E11-Assumptions!$B$3) | I11: Pending | J11: 1895 | K11: Resident Liaison | L11: Review Needed | M11: =IF(E11="","",IF(L11="Closed","No action - closed",IF(L11="Renewal Signed","File signed renewal",IF(H11<0,"Human check: lease end passed",IF(I11="Pending",IF(F11<=Assumptions!$B$3,"Review renewal now","Review on "&TEXT(F11,"mm/dd/yyyy")),IF(OR(I11="Do Not Renew",I11="Vacate"),IF(G11<=Assumptions!$B$3,"Human check: notice milestone reached","Review notice plan by "&TEXT(G11,"mm/dd/yyyy")),IF(I11="Renew","Prepare or track renewal terms","Confirm decision and next step"))))))) | N11: Fictional sample: planning-window boundary record.
A12: Fictional Maple Mews | B12: Fictional Unit M-402 | C12: Fictional Tenant Hotel | D12: 46002 | E12: 46366 | F12: =IF(E12="","",E12-Assumptions!$B$4) | G12: =IF(E12="","",E12-Assumptions!$B$5) | H12: =IF(E12="","",E12-Assumptions!$B$3) | I12: Hold | K12: Manager | L12: Review Needed | M12: =IF(E12="","",IF(L12="Closed","No action - closed",IF(L12="Renewal Signed","File signed renewal",IF(H12<0,"Human check: lease end passed",IF(I12="Pending",IF(F12<=Assumptions!$B$3,"Review renewal now","Review on "&TEXT(F12,"mm/dd/yyyy")),IF(OR(I12="Do Not Renew",I12="Vacate"),IF(G12<=Assumptions!$B$3,"Human check: notice milestone reached","Review notice plan by "&TEXT(G12,"mm/dd/yyyy")),IF(I12="Renew","Prepare or track renewal terms","Confirm decision and next step"))))))) | N12: Fictional sample: just outside the planning window.
A13: Fictional Willow Place | B13: Fictional Unit W-501 | C13: Fictional Tenant Indigo | D13: 46091 | E13: 46455 | F13: =IF(E13="","",E13-Assumptions!$B$4) | G13: =IF(E13="","",E13-Assumptions!$B$5) | H13: =IF(E13="","",E13-Assumptions!$B$3) | I13: Renew | J13: 2050 | K13: Owner | L13: Renewal Signed | M13: =IF(E13="","",IF(L13="Closed","No action - closed",IF(L13="Renewal Signed","File signed renewal",IF(H13<0,"Human check: lease end passed",IF(I13="Pending",IF(F13<=Assumptions!$B$3,"Review renewal now","Review on "&TEXT(F13,"mm/dd/yyyy")),IF(OR(I13="Do Not Renew",I13="Vacate"),IF(G13<=Assumptions!$B$3,"Human check: notice milestone reached","Review notice plan by "&TEXT(G13,"mm/dd/yyyy")),IF(I13="Renew","Prepare or track renewal terms","Confirm decision and next step"))))))) | N13: Fictional sample: signed-renewal workflow example.
A14: Fictional Willow Place | B14: Fictional Unit W-502 | C14: Fictional Tenant Juliett | D14: 46276 | E14: 46640 | F14: =IF(E14="","",E14-Assumptions!$B$4) | G14: =IF(E14="","",E14-Assumptions!$B$5) | H14: =IF(E14="","",E14-Assumptions!$B$3) | I14: Pending | J14: 2175 | K14: Leasing Team | L14: Active | M14: =IF(E14="","",IF(L14="Closed","No action - closed",IF(L14="Renewal Signed","File signed renewal",IF(H14<0,"Human check: lease end passed",IF(I14="Pending",IF(F14<=Assumptions!$B$3,"Review renewal now","Review on "&TEXT(F14,"mm/dd/yyyy")),IF(OR(I14="Do Not Renew",I14="Vacate"),IF(G14<=Assumptions!$B$3,"Human check: notice milestone reached","Review notice plan by "&TEXT(G14,"mm/dd/yyyy")),IF(I14="Renew","Prepare or track renewal terms","Confirm decision and next step"))))))) | N14: Fictional sample: later lease-end planning record.
F15: =IF(E15="","",E15-Assumptions!$B$4) | G15: =IF(E15="","",E15-Assumptions!$B$5) | H15: =IF(E15="","",E15-Assumptions!$B$3) | M15: =IF(E15="","",IF(L15="Closed","No action - closed",IF(L15="Renewal Signed","File signed renewal",IF(H15<0,"Human check: lease end passed",IF(I15="Pending",IF(F15<=Assumptions!$B$3,"Review renewal now","Review on "&TEXT(F15,"mm/dd/yyyy")),IF(OR(I15="Do Not Renew",I15="Vacate"),IF(G15<=Assumptions!$B$3,"Human check: notice milestone reached","Review notice plan by "&TEXT(G15,"mm/dd/yyyy")),IF(I15="Renew","Prepare or track renewal terms","Confirm decision and next step")))))))
F16: =IF(E16="","",E16-Assumptions!$B$4) | G16: =IF(E16="","",E16-Assumptions!$B$5) | H16: =IF(E16="","",E16-Assumptions!$B$3) | M16: =IF(E16="","",IF(L16="Closed","No action - closed",IF(L16="Renewal Signed","File signed renewal",IF(H16<0,"Human check: lease end passed",IF(I16="Pending",IF(F16<=Assumptions!$B$3,"Review renewal now","Review on "&TEXT(F16,"mm/dd/yyyy")),IF(OR(I16="Do Not Renew",I16="Vacate"),IF(G16<=Assumptions!$B$3,"Human check: notice milestone reached","Review notice plan by "&TEXT(G16,"mm/dd/yyyy")),IF(I16="Renew","Prepare or track renewal terms","Confirm decision and next step")))))))
F17: =IF(E17="","",E17-Assumptions!$B$4) | G17: =IF(E17="","",E17-Assumptions!$B$5) | H17: =IF(E17="","",E17-Assumptions!$B$3) | M17: =IF(E17="","",IF(L17="Closed","No action - closed",IF(L17="Renewal Signed","File signed renewal",IF(H17<0,"Human check: lease end passed",IF(I17="Pending",IF(F17<=Assumptions!$B$3,"Review renewal now","Review on "&TEXT(F17,"mm/dd/yyyy")),IF(OR(I17="Do Not Renew",I17="Vacate"),IF(G17<=Assumptions!$B$3,"Human check: notice milestone reached","Review notice plan by "&TEXT(G17,"mm/dd/yyyy")),IF(I17="Renew","Prepare or track renewal terms","Confirm decision and next step")))))))
F18: =IF(E18="","",E18-Assumptions!$B$4) | G18: =IF(E18="","",E18-Assumptions!$B$5) | H18: =IF(E18="","",E18-Assumptions!$B$3) | M18: =IF(E18="","",IF(L18="Closed","No action - closed",IF(L18="Renewal Signed","File signed renewal",IF(H18<0,"Human check: lease end passed",IF(I18="Pending",IF(F18<=Assumptions!$B$3,"Review renewal now","Review on "&TEXT(F18,"mm/dd/yyyy")),IF(OR(I18="Do Not Renew",I18="Vacate"),IF(G18<=Assumptions!$B$3,"Human check: notice milestone reached","Review notice plan by "&TEXT(G18,"mm/dd/yyyy")),IF(I18="Renew","Prepare or track renewal terms","Confirm decision and next step")))))))
F19: =IF(E19="","",E19-Assumptions!$B$4) | G19: =IF(E19="","",E19-Assumptions!$B$5) | H19: =IF(E19="","",E19-Assumptions!$B$3) | M19: =IF(E19="","",IF(L19="Closed","No action - closed",IF(L19="Renewal Signed","File signed renewal",IF(H19<0,"Human check: lease end passed",IF(I19="Pending",IF(F19<=Assumptions!$B$3,"Review renewal now","Review on "&TEXT(F19,"mm/dd/yyyy")),IF(OR(I19="Do Not Renew",I19="Vacate"),IF(G19<=Assumptions!$B$3,"Human check: notice milestone reached","Review notice plan by "&TEXT(G19,"mm/dd/yyyy")),IF(I19="Renew","Prepare or track renewal terms","Confirm decision and next step")))))))
F20: =IF(E20="","",E20-Assumptions!$B$4) | G20: =IF(E20="","",E20-Assumptions!$B$5) | H20: =IF(E20="","",E20-Assumptions!$B$3) | M20: =IF(E20="","",IF(L20="Closed","No action - closed",IF(L20="Renewal Signed","File signed renewal",IF(H20<0,"Human check: lease end passed",IF(I20="Pending",IF(F20<=Assumptions!$B$3,"Review renewal now","Review on "&TEXT(F20,"mm/dd/yyyy")),IF(OR(I20="Do Not Renew",I20="Vacate"),IF(G20<=Assumptions!$B$3,"Human check: notice milestone reached","Review notice plan by "&TEXT(G20,"mm/dd/yyyy")),IF(I20="Renew","Prepare or track renewal terms","Confirm decision and next step")))))))
F21: =IF(E21="","",E21-Assumptions!$B$4) | G21: =IF(E21="","",E21-Assumptions!$B$5) | H21: =IF(E21="","",E21-Assumptions!$B$3) | M21: =IF(E21="","",IF(L21="Closed","No action - closed",IF(L21="Renewal Signed","File signed renewal",IF(H21<0,"Human check: lease end passed",IF(I21="Pending",IF(F21<=Assumptions!$B$3,"Review renewal now","Review on "&TEXT(F21,"mm/dd/yyyy")),IF(OR(I21="Do Not Renew",I21="Vacate"),IF(G21<=Assumptions!$B$3,"Human check: notice milestone reached","Review notice plan by "&TEXT(G21,"mm/dd/yyyy")),IF(I21="Renew","Prepare or track renewal terms","Confirm decision and next step")))))))
F22: =IF(E22="","",E22-Assumptions!$B$4) | G22: =IF(E22="","",E22-Assumptions!$B$5) | H22: =IF(E22="","",E22-Assumptions!$B$3) | M22: =IF(E22="","",IF(L22="Closed","No action - closed",IF(L22="Renewal Signed","File signed renewal",IF(H22<0,"Human check: lease end passed",IF(I22="Pending",IF(F22<=Assumptions!$B$3,"Review renewal now","Review on "&TEXT(F22,"mm/dd/yyyy")),IF(OR(I22="Do Not Renew",I22="Vacate"),IF(G22<=Assumptions!$B$3,"Human check: notice milestone reached","Review notice plan by "&TEXT(G22,"mm/dd/yyyy")),IF(I22="Renew","Prepare or track renewal terms","Confirm decision and next step")))))))
F23: =IF(E23="","",E23-Assumptions!$B$4) | G23: =IF(E23="","",E23-Assumptions!$B$5) | H23: =IF(E23="","",E23-Assumptions!$B$3) | M23: =IF(E23="","",IF(L23="Closed","No action - closed",IF(L23="Renewal Signed","File signed renewal",IF(H23<0,"Human check: lease end passed",IF(I23="Pending",IF(F23<=Assumptions!$B$3,"Review renewal now","Review on "&TEXT(F23,"mm/dd/yyyy")),IF(OR(I23="Do Not Renew",I23="Vacate"),IF(G23<=Assumptions!$B$3,"Human check: notice milestone reached","Review notice plan by "&TEXT(G23,"mm/dd/yyyy")),IF(I23="Renew","Prepare or track renewal terms","Confirm decision and next step")))))))
F24: =IF(E24="","",E24-Assumptions!$B$4) | G24: =IF(E24="","",E24-Assumptions!$B$5) | H24: =IF(E24="","",E24-Assumptions!$B$3) | M24: =IF(E24="","",IF(L24="Closed","No action - closed",IF(L24="Renewal Signed","File signed renewal",IF(H24<0,"Human check: lease end passed",IF(I24="Pending",IF(F24<=Assumptions!$B$3,"Review renewal now","Review on "&TEXT(F24,"mm/dd/yyyy")),IF(OR(I24="Do Not Renew",I24="Vacate"),IF(G24<=Assumptions!$B$3,"Human check: notice milestone reached","Review notice plan by "&TEXT(G24,"mm/dd/yyyy")),IF(I24="Renew","Prepare or track renewal terms","Confirm decision and next step")))))))
F25: =IF(E25="","",E25-Assumptions!$B$4) | G25: =IF(E25="","",E25-Assumptions!$B$5) | H25: =IF(E25="","",E25-Assumptions!$B$3) | M25: =IF(E25="","",IF(L25="Closed","No action - closed",IF(L25="Renewal Signed","File signed renewal",IF(H25<0,"Human check: lease end passed",IF(I25="Pending",IF(F25<=Assumptions!$B$3,"Review renewal now","Review on "&TEXT(F25,"mm/dd/yyyy")),IF(OR(I25="Do Not Renew",I25="Vacate"),IF(G25<=Assumptions!$B$3,"Human check: notice milestone reached","Review notice plan by "&TEXT(G25,"mm/dd/yyyy")),IF(I25="Renew","Prepare or track renewal terms","Confirm decision and next step")))))))
F26: =IF(E26="","",E26-Assumptions!$B$4) | G26: =IF(E26="","",E26-Assumptions!$B$5) | H26: =IF(E26="","",E26-Assumptions!$B$3) | M26: =IF(E26="","",IF(L26="Closed","No action - closed",IF(L26="Renewal Signed","File signed renewal",IF(H26<0,"Human check: lease end passed",IF(I26="Pending",IF(F26<=Assumptions!$B$3,"Review renewal now","Review on "&TEXT(F26,"mm/dd/yyyy")),IF(OR(I26="Do Not Renew",I26="Vacate"),IF(G26<=Assumptions!$B$3,"Human check: notice milestone reached","Review notice plan by "&TEXT(G26,"mm/dd/yyyy")),IF(I26="Renew","Prepare or track renewal terms","Confirm decision and next step")))))))
... F124: =IF(E124="","",E124-Assumptions!$B$4) | G124: =IF(E124="","",E124-Assumptions!$B$5) | H124: =IF(E124="","",E124-Assumptions!$B$3) | M124: =IF(E124="","",IF(L124="Closed","No action - closed",IF(L124="Renewal Signed","File signed renewal",IF(H124<0,"Human check: lease end passed",IF(I124="Pending",IF(F124<=Assumptions!$B$3,"Review renewal now","Review on "&TEXT(F124,"mm/dd/yyyy")),IF(OR(I124="Do Not Renew",I124="Vacate"),IF(G124<=Assumptions!$B$3,"Human check: notice milestone reached","Review notice plan by "&TEXT(G124,"mm/dd/yyyy")),IF(I124="Renew","Prepare or track renewal terms","Confirm decision and next step")))))))

Sheet Assumptions
A1: Lease Renewal Calendar Assumptions
A2: Setting | B2: Value | C2: Planning Use | D2: Decision Choice | E2: Status Choice | F2: Responsibility Choice
A3: As-of date | B3: 46275 | C3: Update for each review session. | D3: Pending | E3: Active | F3: Manager
A4: Internal review lead days | B4: 120 | C4: Planning lead time before the lease end date. | D4: Renew | E4: Review Needed | F4: Owner
A5: Notice milestone lead days | B5: 60 | C5: Internal prompt only; verify the lease and applicable requirements. | D5: Do Not Renew | E5: Offer Pending | F5: Leasing Team
A6: Planning window days | B6: 90 | C6: Forward-looking window used on Summary. | D6: Month-to-Month | E6: Notice Pending | F6: Resident Liaison
A7: Urgent window days | B7: 30 | C7: Short-term window used on Summary. | D7: Vacate | E7: Renewal Signed
D8: Hold | E8: Move-Out Planned
E9: Closed
