Workbook

Sheet Summary
A1: Rental Applicant Document Request Tracker
A3: Indicator | B3: Value | D3: Request Status | E3: Requests
A4: As of | B4: =TODAY() | D4: Open | E4: =COUNTIF(Requests!$M$5:$M$104,D4)
A5: Total document requests | B5: =COUNTIF(Requests!$A$5:$A$104,"<>") | D5: Received | E5: =COUNTIF(Requests!$M$5:$M$104,D5)
A6: Open request records | B6: =COUNTIF(Requests!$M$5:$M$104,"Open") | D6: Waived | E6: =COUNTIF(Requests!$M$5:$M$104,D6)
A7: Completed receipts | B7: =COUNTIF(Requests!$O$5:$O$104,"Complete") | D7: Withdrawn | E7: =COUNTIF(Requests!$M$5:$M$104,D7)
A8: Action prompts | B8: =COUNTIF(Requests!$O$5:$O$104,"Check*")+COUNTIF(Requests!$O$5:$O$104,"Set*")+COUNTIF(Requests!$O$5:$O$104,"Overdue")+COUNTIF(Requests!$O$5:$O$104,"Due today")+COUNTIF(Requests!$O$5:$O$104,"Due soon")+COUNTIF(Requests!$O$5:$O$104,"Reminder check")
A9: Overdue requests | B9: =COUNTIF(Requests!$O$5:$O$104,"Overdue")
A10: Completion rate | B10: =IFERROR(B7/(B5-COUNTIF(Requests!$M$5:$M$104,"Waived")-COUNTIF(Requests!$M$5:$M$104,"Withdrawn")),0)

Sheet Requests
A1: Rental Applicant Document Requests
A2: Yellow cells are editable. Alerts are prompts for human review and do not send reminders.
A4: Request ID | B4: Applicant Record | C4: Property | D4: Unit | E4: Application Date | F4: Document Requested | G4: Request Date | H4: Due Date | I4: Last Reminder Date | J4: Reminder Count | K4: Received Date | L4: Responsibility | M4: Status | N4: Days Open | O4: Alert | P4: Notes
A5: FIC-REQ-001 | B5: Fictional Applicant Aster | C5: Fictional Maple Court | D5: Demo-A1 | E5: 46260 | F5: Income evidence | G5: 46263 | H5: 46271 | I5: 46269 | J5: 2 | L5: Applicant | M5: Open | N5: =IF($A5="","",IF(OR($G5="",$M5="Waived",$M5="Withdrawn"),"",IFERROR(MAX(0,IF($K5<>"",$K5,TODAY())-$G5),""))) | O5: =IF($A5="","",IF(OR(AND($G5<>"",$H5<>"",$H5<$G5),AND($G5<>"",$I5<>"",$I5<$G5),AND($G5<>"",$K5<>"",$K5<$G5)),"Check date order",IF($M5="","Set status",IF($G5="","Set request date",IF(AND($M5="Received",$K5=""),"Check received date",IF(AND($M5="Open",$K5<>""),"Check status",IF($M5="Received","Complete",IF(OR($M5="Waived",$M5="Withdrawn"),"Closed",IF($H5="","Set due date",IF(TODAY()>$H5,"Overdue",IF(TODAY()=$H5,"Due today",IF(TODAY()+Assumptions!$B$5>=$H5,"Due soon",IF(AND($I5="",TODAY()+Assumptions!$B$4>=$H5),"Reminder check","On track"))))))))))))) | P5: Fictional overdue example for review.
A6: FIC-REQ-002 | B6: Fictional Applicant Birch | C6: Fictional Maple Court | D6: Demo-A2 | E6: 46268 | F6: Photo identification | G6: 46270 | H6: 46275 | I6: 46273 | J6: 1 | L6: Applicant | M6: Open | N6: =IF($A6="","",IF(OR($G6="",$M6="Waived",$M6="Withdrawn"),"",IFERROR(MAX(0,IF($K6<>"",$K6,TODAY())-$G6),""))) | O6: =IF($A6="","",IF(OR(AND($G6<>"",$H6<>"",$H6<$G6),AND($G6<>"",$I6<>"",$I6<$G6),AND($G6<>"",$K6<>"",$K6<$G6)),"Check date order",IF($M6="","Set status",IF($G6="","Set request date",IF(AND($M6="Received",$K6=""),"Check received date",IF(AND($M6="Open",$K6<>""),"Check status",IF($M6="Received","Complete",IF(OR($M6="Waived",$M6="Withdrawn"),"Closed",IF($H6="","Set due date",IF(TODAY()>$H6,"Overdue",IF(TODAY()=$H6,"Due today",IF(TODAY()+Assumptions!$B$5>=$H6,"Due soon",IF(AND($I6="",TODAY()+Assumptions!$B$4>=$H6),"Reminder check","On track"))))))))))))) | P6: Fictional request due today.
A7: FIC-REQ-003 | B7: Fictional Applicant Clover | C7: Imaginary Harbor Flats | D7: Demo-B1 | E7: 46271 | F7: Rental history detail | G7: 46272 | H7: 46277 | J7: 0 | L7: Applicant | M7: Open | N7: =IF($A7="","",IF(OR($G7="",$M7="Waived",$M7="Withdrawn"),"",IFERROR(MAX(0,IF($K7<>"",$K7,TODAY())-$G7),""))) | O7: =IF($A7="","",IF(OR(AND($G7<>"",$H7<>"",$H7<$G7),AND($G7<>"",$I7<>"",$I7<$G7),AND($G7<>"",$K7<>"",$K7<$G7)),"Check date order",IF($M7="","Set status",IF($G7="","Set request date",IF(AND($M7="Received",$K7=""),"Check received date",IF(AND($M7="Open",$K7<>""),"Check status",IF($M7="Received","Complete",IF(OR($M7="Waived",$M7="Withdrawn"),"Closed",IF($H7="","Set due date",IF(TODAY()>$H7,"Overdue",IF(TODAY()=$H7,"Due today",IF(TODAY()+Assumptions!$B$5>=$H7,"Due soon",IF(AND($I7="",TODAY()+Assumptions!$B$4>=$H7),"Reminder check","On track"))))))))))))) | P7: Fictional request approaching its due date.
A8: FIC-REQ-004 | B8: Fictional Applicant Dune | C8: Demo Juniper Place | D8: Demo-C3 | E8: 46269 | F8: Employment confirmation | G8: 46270 | H8: 46280 | J8: 0 | L8: Applicant | M8: Open | N8: =IF($A8="","",IF(OR($G8="",$M8="Waived",$M8="Withdrawn"),"",IFERROR(MAX(0,IF($K8<>"",$K8,TODAY())-$G8),""))) | O8: =IF($A8="","",IF(OR(AND($G8<>"",$H8<>"",$H8<$G8),AND($G8<>"",$I8<>"",$I8<$G8),AND($G8<>"",$K8<>"",$K8<$G8)),"Check date order",IF($M8="","Set status",IF($G8="","Set request date",IF(AND($M8="Received",$K8=""),"Check received date",IF(AND($M8="Open",$K8<>""),"Check status",IF($M8="Received","Complete",IF(OR($M8="Waived",$M8="Withdrawn"),"Closed",IF($H8="","Set due date",IF(TODAY()>$H8,"Overdue",IF(TODAY()=$H8,"Due today",IF(TODAY()+Assumptions!$B$5>=$H8,"Due soon",IF(AND($I8="",TODAY()+Assumptions!$B$4>=$H8),"Reminder check","On track"))))))))))))) | P8: Fictional reminder review example.
A9: FIC-REQ-005 | B9: Fictional Applicant Ember | C9: Fictional Maple Court | D9: Demo-A3 | E9: 46273 | F9: Pet information | G9: 46274 | H9: 46287 | J9: 0 | L9: Applicant | M9: Open | N9: =IF($A9="","",IF(OR($G9="",$M9="Waived",$M9="Withdrawn"),"",IFERROR(MAX(0,IF($K9<>"",$K9,TODAY())-$G9),""))) | O9: =IF($A9="","",IF(OR(AND($G9<>"",$H9<>"",$H9<$G9),AND($G9<>"",$I9<>"",$I9<$G9),AND($G9<>"",$K9<>"",$K9<$G9)),"Check date order",IF($M9="","Set status",IF($G9="","Set request date",IF(AND($M9="Received",$K9=""),"Check received date",IF(AND($M9="Open",$K9<>""),"Check status",IF($M9="Received","Complete",IF(OR($M9="Waived",$M9="Withdrawn"),"Closed",IF($H9="","Set due date",IF(TODAY()>$H9,"Overdue",IF(TODAY()=$H9,"Due today",IF(TODAY()+Assumptions!$B$5>=$H9,"Due soon",IF(AND($I9="",TODAY()+Assumptions!$B$4>=$H9),"Reminder check","On track"))))))))))))) | P9: Fictional request currently on track.
A10: FIC-REQ-006 | B10: Fictional Applicant Fable | C10: Imaginary Harbor Flats | D10: Demo-B2 | E10: 46263 | F10: Guarantor information | G10: 46265 | H10: 46272 | I10: 46269 | J10: 1 | K10: 46271 | L10: Guarantor | M10: Received | N10: =IF($A10="","",IF(OR($G10="",$M10="Waived",$M10="Withdrawn"),"",IFERROR(MAX(0,IF($K10<>"",$K10,TODAY())-$G10),""))) | O10: =IF($A10="","",IF(OR(AND($G10<>"",$H10<>"",$H10<$G10),AND($G10<>"",$I10<>"",$I10<$G10),AND($G10<>"",$K10<>"",$K10<$G10)),"Check date order",IF($M10="","Set status",IF($G10="","Set request date",IF(AND($M10="Received",$K10=""),"Check received date",IF(AND($M10="Open",$K10<>""),"Check status",IF($M10="Received","Complete",IF(OR($M10="Waived",$M10="Withdrawn"),"Closed",IF($H10="","Set due date",IF(TODAY()>$H10,"Overdue",IF(TODAY()=$H10,"Due today",IF(TODAY()+Assumptions!$B$5>=$H10,"Due soon",IF(AND($I10="",TODAY()+Assumptions!$B$4>=$H10),"Reminder check","On track"))))))))))))) | P10: Fictional document receipt recorded.
A11: FIC-REQ-007 | B11: Fictional Applicant Glimmer | C11: Fictional Copper Landing | D11: Demo-D1 | E11: 46267 | F11: Application clarification | G11: 46268 | H11: 46276 | J11: 0 | L11: Property manager | M11: Waived | N11: =IF($A11="","",IF(OR($G11="",$M11="Waived",$M11="Withdrawn"),"",IFERROR(MAX(0,IF($K11<>"",$K11,TODAY())-$G11),""))) | O11: =IF($A11="","",IF(OR(AND($G11<>"",$H11<>"",$H11<$G11),AND($G11<>"",$I11<>"",$I11<$G11),AND($G11<>"",$K11<>"",$K11<$G11)),"Check date order",IF($M11="","Set status",IF($G11="","Set request date",IF(AND($M11="Received",$K11=""),"Check received date",IF(AND($M11="Open",$K11<>""),"Check status",IF($M11="Received","Complete",IF(OR($M11="Waived",$M11="Withdrawn"),"Closed",IF($H11="","Set due date",IF(TODAY()>$H11,"Overdue",IF(TODAY()=$H11,"Due today",IF(TODAY()+Assumptions!$B$5>=$H11,"Due soon",IF(AND($I11="",TODAY()+Assumptions!$B$4>=$H11),"Reminder check","On track"))))))))))))) | P11: Fictional waived request.
A12: FIC-REQ-008 | B12: Fictional Applicant Harbor | C12: Imaginary Orchard Homes | D12: Demo-E2 | E12: 46266 | F12: Income evidence | G12: 46267 | H12: 46273 | I12: 46270 | J12: 1 | L12: Co-applicant | M12: Received | N12: =IF($A12="","",IF(OR($G12="",$M12="Waived",$M12="Withdrawn"),"",IFERROR(MAX(0,IF($K12<>"",$K12,TODAY())-$G12),""))) | O12: =IF($A12="","",IF(OR(AND($G12<>"",$H12<>"",$H12<$G12),AND($G12<>"",$I12<>"",$I12<$G12),AND($G12<>"",$K12<>"",$K12<$G12)),"Check date order",IF($M12="","Set status",IF($G12="","Set request date",IF(AND($M12="Received",$K12=""),"Check received date",IF(AND($M12="Open",$K12<>""),"Check status",IF($M12="Received","Complete",IF(OR($M12="Waived",$M12="Withdrawn"),"Closed",IF($H12="","Set due date",IF(TODAY()>$H12,"Overdue",IF(TODAY()=$H12,"Due today",IF(TODAY()+Assumptions!$B$5>=$H12,"Due soon",IF(AND($I12="",TODAY()+Assumptions!$B$4>=$H12),"Reminder check","On track"))))))))))))) | P12: Fictional status requires a receipt-date check.
A13: FIC-REQ-009 | B13: Fictional Applicant Indigo | C13: Fictional Maple Court | D13: Demo-A4 | E13: 46269 | F13: Photo identification | G13: 46270 | H13: 46277 | I13: 46274 | J13: 1 | K13: 46274 | L13: Applicant | M13: Open | N13: =IF($A13="","",IF(OR($G13="",$M13="Waived",$M13="Withdrawn"),"",IFERROR(MAX(0,IF($K13<>"",$K13,TODAY())-$G13),""))) | O13: =IF($A13="","",IF(OR(AND($G13<>"",$H13<>"",$H13<$G13),AND($G13<>"",$I13<>"",$I13<$G13),AND($G13<>"",$K13<>"",$K13<$G13)),"Check date order",IF($M13="","Set status",IF($G13="","Set request date",IF(AND($M13="Received",$K13=""),"Check received date",IF(AND($M13="Open",$K13<>""),"Check status",IF($M13="Received","Complete",IF(OR($M13="Waived",$M13="Withdrawn"),"Closed",IF($H13="","Set due date",IF(TODAY()>$H13,"Overdue",IF(TODAY()=$H13,"Due today",IF(TODAY()+Assumptions!$B$5>=$H13,"Due soon",IF(AND($I13="",TODAY()+Assumptions!$B$4>=$H13),"Reminder check","On track"))))))))))))) | P13: Fictional received date requires a status check.
A14: FIC-REQ-010 | B14: Fictional Applicant Juniper | C14: Imaginary Harbor Flats | D14: Demo-B4 | E14: 46270 | F14: Other requested document | G14: 46271 | J14: 0 | L14: Applicant | M14: Open | N14: =IF($A14="","",IF(OR($G14="",$M14="Waived",$M14="Withdrawn"),"",IFERROR(MAX(0,IF($K14<>"",$K14,TODAY())-$G14),""))) | O14: =IF($A14="","",IF(OR(AND($G14<>"",$H14<>"",$H14<$G14),AND($G14<>"",$I14<>"",$I14<$G14),AND($G14<>"",$K14<>"",$K14<$G14)),"Check date order",IF($M14="","Set status",IF($G14="","Set request date",IF(AND($M14="Received",$K14=""),"Check received date",IF(AND($M14="Open",$K14<>""),"Check status",IF($M14="Received","Complete",IF(OR($M14="Waived",$M14="Withdrawn"),"Closed",IF($H14="","Set due date",IF(TODAY()>$H14,"Overdue",IF(TODAY()=$H14,"Due today",IF(TODAY()+Assumptions!$B$5>=$H14,"Due soon",IF(AND($I14="",TODAY()+Assumptions!$B$4>=$H14),"Reminder check","On track"))))))))))))) | P14: Fictional request needs a due date.
A15: FIC-REQ-011 | B15: Fictional Applicant Kite | C15: Demo Juniper Place | D15: Demo-C1 | E15: 46270 | F15: Rental history detail | G15: 46271 | H15: 46269 | J15: 0 | L15: Applicant | M15: Open | N15: =IF($A15="","",IF(OR($G15="",$M15="Waived",$M15="Withdrawn"),"",IFERROR(MAX(0,IF($K15<>"",$K15,TODAY())-$G15),""))) | O15: =IF($A15="","",IF(OR(AND($G15<>"",$H15<>"",$H15<$G15),AND($G15<>"",$I15<>"",$I15<$G15),AND($G15<>"",$K15<>"",$K15<$G15)),"Check date order",IF($M15="","Set status",IF($G15="","Set request date",IF(AND($M15="Received",$K15=""),"Check received date",IF(AND($M15="Open",$K15<>""),"Check status",IF($M15="Received","Complete",IF(OR($M15="Waived",$M15="Withdrawn"),"Closed",IF($H15="","Set due date",IF(TODAY()>$H15,"Overdue",IF(TODAY()=$H15,"Due today",IF(TODAY()+Assumptions!$B$5>=$H15,"Due soon",IF(AND($I15="",TODAY()+Assumptions!$B$4>=$H15),"Reminder check","On track"))))))))))))) | P15: Fictional boundary test for date order.
A16: FIC-REQ-012 | B16: Fictional Applicant Lumen | C16: Fictional Copper Landing | D16: Demo-D2 | E16: 46271 | F16: Employment confirmation | G16: 46272 | H16: 46279 | J16: 0 | L16: Applicant | M16: Withdrawn | N16: =IF($A16="","",IF(OR($G16="",$M16="Waived",$M16="Withdrawn"),"",IFERROR(MAX(0,IF($K16<>"",$K16,TODAY())-$G16),""))) | O16: =IF($A16="","",IF(OR(AND($G16<>"",$H16<>"",$H16<$G16),AND($G16<>"",$I16<>"",$I16<$G16),AND($G16<>"",$K16<>"",$K16<$G16)),"Check date order",IF($M16="","Set status",IF($G16="","Set request date",IF(AND($M16="Received",$K16=""),"Check received date",IF(AND($M16="Open",$K16<>""),"Check status",IF($M16="Received","Complete",IF(OR($M16="Waived",$M16="Withdrawn"),"Closed",IF($H16="","Set due date",IF(TODAY()>$H16,"Overdue",IF(TODAY()=$H16,"Due today",IF(TODAY()+Assumptions!$B$5>=$H16,"Due soon",IF(AND($I16="",TODAY()+Assumptions!$B$4>=$H16),"Reminder check","On track"))))))))))))) | P16: Fictional withdrawn application example.
N17: =IF($A17="","",IF(OR($G17="",$M17="Waived",$M17="Withdrawn"),"",IFERROR(MAX(0,IF($K17<>"",$K17,TODAY())-$G17),""))) | O17: =IF($A17="","",IF(OR(AND($G17<>"",$H17<>"",$H17<$G17),AND($G17<>"",$I17<>"",$I17<$G17),AND($G17<>"",$K17<>"",$K17<$G17)),"Check date order",IF($M17="","Set status",IF($G17="","Set request date",IF(AND($M17="Received",$K17=""),"Check received date",IF(AND($M17="Open",$K17<>""),"Check status",IF($M17="Received","Complete",IF(OR($M17="Waived",$M17="Withdrawn"),"Closed",IF($H17="","Set due date",IF(TODAY()>$H17,"Overdue",IF(TODAY()=$H17,"Due today",IF(TODAY()+Assumptions!$B$5>=$H17,"Due soon",IF(AND($I17="",TODAY()+Assumptions!$B$4>=$H17),"Reminder check","On track")))))))))))))
N18: =IF($A18="","",IF(OR($G18="",$M18="Waived",$M18="Withdrawn"),"",IFERROR(MAX(0,IF($K18<>"",$K18,TODAY())-$G18),""))) | O18: =IF($A18="","",IF(OR(AND($G18<>"",$H18<>"",$H18<$G18),AND($G18<>"",$I18<>"",$I18<$G18),AND($G18<>"",$K18<>"",$K18<$G18)),"Check date order",IF($M18="","Set status",IF($G18="","Set request date",IF(AND($M18="Received",$K18=""),"Check received date",IF(AND($M18="Open",$K18<>""),"Check status",IF($M18="Received","Complete",IF(OR($M18="Waived",$M18="Withdrawn"),"Closed",IF($H18="","Set due date",IF(TODAY()>$H18,"Overdue",IF(TODAY()=$H18,"Due today",IF(TODAY()+Assumptions!$B$5>=$H18,"Due soon",IF(AND($I18="",TODAY()+Assumptions!$B$4>=$H18),"Reminder check","On track")))))))))))))
N19: =IF($A19="","",IF(OR($G19="",$M19="Waived",$M19="Withdrawn"),"",IFERROR(MAX(0,IF($K19<>"",$K19,TODAY())-$G19),""))) | O19: =IF($A19="","",IF(OR(AND($G19<>"",$H19<>"",$H19<$G19),AND($G19<>"",$I19<>"",$I19<$G19),AND($G19<>"",$K19<>"",$K19<$G19)),"Check date order",IF($M19="","Set status",IF($G19="","Set request date",IF(AND($M19="Received",$K19=""),"Check received date",IF(AND($M19="Open",$K19<>""),"Check status",IF($M19="Received","Complete",IF(OR($M19="Waived",$M19="Withdrawn"),"Closed",IF($H19="","Set due date",IF(TODAY()>$H19,"Overdue",IF(TODAY()=$H19,"Due today",IF(TODAY()+Assumptions!$B$5>=$H19,"Due soon",IF(AND($I19="",TODAY()+Assumptions!$B$4>=$H19),"Reminder check","On track")))))))))))))
N20: =IF($A20="","",IF(OR($G20="",$M20="Waived",$M20="Withdrawn"),"",IFERROR(MAX(0,IF($K20<>"",$K20,TODAY())-$G20),""))) | O20: =IF($A20="","",IF(OR(AND($G20<>"",$H20<>"",$H20<$G20),AND($G20<>"",$I20<>"",$I20<$G20),AND($G20<>"",$K20<>"",$K20<$G20)),"Check date order",IF($M20="","Set status",IF($G20="","Set request date",IF(AND($M20="Received",$K20=""),"Check received date",IF(AND($M20="Open",$K20<>""),"Check status",IF($M20="Received","Complete",IF(OR($M20="Waived",$M20="Withdrawn"),"Closed",IF($H20="","Set due date",IF(TODAY()>$H20,"Overdue",IF(TODAY()=$H20,"Due today",IF(TODAY()+Assumptions!$B$5>=$H20,"Due soon",IF(AND($I20="",TODAY()+Assumptions!$B$4>=$H20),"Reminder check","On track")))))))))))))
N21: =IF($A21="","",IF(OR($G21="",$M21="Waived",$M21="Withdrawn"),"",IFERROR(MAX(0,IF($K21<>"",$K21,TODAY())-$G21),""))) | O21: =IF($A21="","",IF(OR(AND($G21<>"",$H21<>"",$H21<$G21),AND($G21<>"",$I21<>"",$I21<$G21),AND($G21<>"",$K21<>"",$K21<$G21)),"Check date order",IF($M21="","Set status",IF($G21="","Set request date",IF(AND($M21="Received",$K21=""),"Check received date",IF(AND($M21="Open",$K21<>""),"Check status",IF($M21="Received","Complete",IF(OR($M21="Waived",$M21="Withdrawn"),"Closed",IF($H21="","Set due date",IF(TODAY()>$H21,"Overdue",IF(TODAY()=$H21,"Due today",IF(TODAY()+Assumptions!$B$5>=$H21,"Due soon",IF(AND($I21="",TODAY()+Assumptions!$B$4>=$H21),"Reminder check","On track")))))))))))))
N22: =IF($A22="","",IF(OR($G22="",$M22="Waived",$M22="Withdrawn"),"",IFERROR(MAX(0,IF($K22<>"",$K22,TODAY())-$G22),""))) | O22: =IF($A22="","",IF(OR(AND($G22<>"",$H22<>"",$H22<$G22),AND($G22<>"",$I22<>"",$I22<$G22),AND($G22<>"",$K22<>"",$K22<$G22)),"Check date order",IF($M22="","Set status",IF($G22="","Set request date",IF(AND($M22="Received",$K22=""),"Check received date",IF(AND($M22="Open",$K22<>""),"Check status",IF($M22="Received","Complete",IF(OR($M22="Waived",$M22="Withdrawn"),"Closed",IF($H22="","Set due date",IF(TODAY()>$H22,"Overdue",IF(TODAY()=$H22,"Due today",IF(TODAY()+Assumptions!$B$5>=$H22,"Due soon",IF(AND($I22="",TODAY()+Assumptions!$B$4>=$H22),"Reminder check","On track")))))))))))))
N23: =IF($A23="","",IF(OR($G23="",$M23="Waived",$M23="Withdrawn"),"",IFERROR(MAX(0,IF($K23<>"",$K23,TODAY())-$G23),""))) | O23: =IF($A23="","",IF(OR(AND($G23<>"",$H23<>"",$H23<$G23),AND($G23<>"",$I23<>"",$I23<$G23),AND($G23<>"",$K23<>"",$K23<$G23)),"Check date order",IF($M23="","Set status",IF($G23="","Set request date",IF(AND($M23="Received",$K23=""),"Check received date",IF(AND($M23="Open",$K23<>""),"Check status",IF($M23="Received","Complete",IF(OR($M23="Waived",$M23="Withdrawn"),"Closed",IF($H23="","Set due date",IF(TODAY()>$H23,"Overdue",IF(TODAY()=$H23,"Due today",IF(TODAY()+Assumptions!$B$5>=$H23,"Due soon",IF(AND($I23="",TODAY()+Assumptions!$B$4>=$H23),"Reminder check","On track")))))))))))))
N24: =IF($A24="","",IF(OR($G24="",$M24="Waived",$M24="Withdrawn"),"",IFERROR(MAX(0,IF($K24<>"",$K24,TODAY())-$G24),""))) | O24: =IF($A24="","",IF(OR(AND($G24<>"",$H24<>"",$H24<$G24),AND($G24<>"",$I24<>"",$I24<$G24),AND($G24<>"",$K24<>"",$K24<$G24)),"Check date order",IF($M24="","Set status",IF($G24="","Set request date",IF(AND($M24="Received",$K24=""),"Check received date",IF(AND($M24="Open",$K24<>""),"Check status",IF($M24="Received","Complete",IF(OR($M24="Waived",$M24="Withdrawn"),"Closed",IF($H24="","Set due date",IF(TODAY()>$H24,"Overdue",IF(TODAY()=$H24,"Due today",IF(TODAY()+Assumptions!$B$5>=$H24,"Due soon",IF(AND($I24="",TODAY()+Assumptions!$B$4>=$H24),"Reminder check","On track")))))))))))))
N25: =IF($A25="","",IF(OR($G25="",$M25="Waived",$M25="Withdrawn"),"",IFERROR(MAX(0,IF($K25<>"",$K25,TODAY())-$G25),""))) | O25: =IF($A25="","",IF(OR(AND($G25<>"",$H25<>"",$H25<$G25),AND($G25<>"",$I25<>"",$I25<$G25),AND($G25<>"",$K25<>"",$K25<$G25)),"Check date order",IF($M25="","Set status",IF($G25="","Set request date",IF(AND($M25="Received",$K25=""),"Check received date",IF(AND($M25="Open",$K25<>""),"Check status",IF($M25="Received","Complete",IF(OR($M25="Waived",$M25="Withdrawn"),"Closed",IF($H25="","Set due date",IF(TODAY()>$H25,"Overdue",IF(TODAY()=$H25,"Due today",IF(TODAY()+Assumptions!$B$5>=$H25,"Due soon",IF(AND($I25="",TODAY()+Assumptions!$B$4>=$H25),"Reminder check","On track")))))))))))))
N26: =IF($A26="","",IF(OR($G26="",$M26="Waived",$M26="Withdrawn"),"",IFERROR(MAX(0,IF($K26<>"",$K26,TODAY())-$G26),""))) | O26: =IF($A26="","",IF(OR(AND($G26<>"",$H26<>"",$H26<$G26),AND($G26<>"",$I26<>"",$I26<$G26),AND($G26<>"",$K26<>"",$K26<$G26)),"Check date order",IF($M26="","Set status",IF($G26="","Set request date",IF(AND($M26="Received",$K26=""),"Check received date",IF(AND($M26="Open",$K26<>""),"Check status",IF($M26="Received","Complete",IF(OR($M26="Waived",$M26="Withdrawn"),"Closed",IF($H26="","Set due date",IF(TODAY()>$H26,"Overdue",IF(TODAY()=$H26,"Due today",IF(TODAY()+Assumptions!$B$5>=$H26,"Due soon",IF(AND($I26="",TODAY()+Assumptions!$B$4>=$H26),"Reminder check","On track")))))))))))))
N27: =IF($A27="","",IF(OR($G27="",$M27="Waived",$M27="Withdrawn"),"",IFERROR(MAX(0,IF($K27<>"",$K27,TODAY())-$G27),""))) | O27: =IF($A27="","",IF(OR(AND($G27<>"",$H27<>"",$H27<$G27),AND($G27<>"",$I27<>"",$I27<$G27),AND($G27<>"",$K27<>"",$K27<$G27)),"Check date order",IF($M27="","Set status",IF($G27="","Set request date",IF(AND($M27="Received",$K27=""),"Check received date",IF(AND($M27="Open",$K27<>""),"Check status",IF($M27="Received","Complete",IF(OR($M27="Waived",$M27="Withdrawn"),"Closed",IF($H27="","Set due date",IF(TODAY()>$H27,"Overdue",IF(TODAY()=$H27,"Due today",IF(TODAY()+Assumptions!$B$5>=$H27,"Due soon",IF(AND($I27="",TODAY()+Assumptions!$B$4>=$H27),"Reminder check","On track")))))))))))))
N28: =IF($A28="","",IF(OR($G28="",$M28="Waived",$M28="Withdrawn"),"",IFERROR(MAX(0,IF($K28<>"",$K28,TODAY())-$G28),""))) | O28: =IF($A28="","",IF(OR(AND($G28<>"",$H28<>"",$H28<$G28),AND($G28<>"",$I28<>"",$I28<$G28),AND($G28<>"",$K28<>"",$K28<$G28)),"Check date order",IF($M28="","Set status",IF($G28="","Set request date",IF(AND($M28="Received",$K28=""),"Check received date",IF(AND($M28="Open",$K28<>""),"Check status",IF($M28="Received","Complete",IF(OR($M28="Waived",$M28="Withdrawn"),"Closed",IF($H28="","Set due date",IF(TODAY()>$H28,"Overdue",IF(TODAY()=$H28,"Due today",IF(TODAY()+Assumptions!$B$5>=$H28,"Due soon",IF(AND($I28="",TODAY()+Assumptions!$B$4>=$H28),"Reminder check","On track")))))))))))))
... N104: =IF($A104="","",IF(OR($G104="",$M104="Waived",$M104="Withdrawn"),"",IFERROR(MAX(0,IF($K104<>"",$K104,TODAY())-$G104),""))) | O104: =IF($A104="","",IF(OR(AND($G104<>"",$H104<>"",$H104<$G104),AND($G104<>"",$I104<>"",$I104<$G104),AND($G104<>"",$K104<>"",$K104<$G104)),"Check date order",IF($M104="","Set status",IF($G104="","Set request date",IF(AND($M104="Received",$K104=""),"Check received date",IF(AND($M104="Open",$K104<>""),"Check status",IF($M104="Received","Complete",IF(OR($M104="Waived",$M104="Withdrawn"),"Closed",IF($H104="","Set due date",IF(TODAY()>$H104,"Overdue",IF(TODAY()=$H104,"Due today",IF(TODAY()+Assumptions!$B$5>=$H104,"Due soon",IF(AND($I104="",TODAY()+Assumptions!$B$4>=$H104),"Reminder check","On track")))))))))))))

Sheet Assumptions
A1: Editable Workflow Assumptions
A2: Edit yellow values to fit the local workflow. These values are not legal requirements.
A3: Setting | B3: Value | C3: Purpose
A4: Reminder lead days | B4: 7 | C4: Prompts review when no reminder is recorded near the due date.
A5: Due soon days | B5: 3 | C5: Marks open requests approaching the due date.
A6: Maximum reminder count | B6: 20 | C6: Limits reminder-count entries for consistency.
A7: Earliest accepted date | B7: 45292 | C7: Lower date-entry boundary.
A8: Latest accepted date | B8: 47118 | C8: Upper date-entry boundary.
A10: Order | B10: Property Choice
A11: 1 | B11: Fictional Maple Court
A12: 2 | B12: Imaginary Harbor Flats
A13: 3 | B13: Demo Juniper Place
A14: 4 | B14: Fictional Copper Landing
A15: 5 | B15: Imaginary Orchard Homes
A18: Order | B18: Document Choice
A19: 1 | B19: Income evidence
A20: 2 | B20: Photo identification
A21: 3 | B21: Rental history detail
A22: 4 | B22: Employment confirmation
A23: 5 | B23: Pet information
A24: 6 | B24: Guarantor information
A25: 7 | B25: Application clarification
A26: 8 | B26: Other requested document
A28: Order | B28: Responsibility Choice
A29: 1 | B29: Applicant
A30: 2 | B30: Co-applicant
A31: 3 | B31: Guarantor
A32: 4 | B32: Property manager
A34: Order | B34: Status Choice
A35: 1 | B35: Open
A36: 2 | B36: Received
A37: 3 | B37: Waived
A38: 4 | B38: Withdrawn
