Workbook

Sheet Summary
A1: Rental Leasing Conversion Dashboard
A2: Indicators use only entered fictional lead records and milestone dates.
A3: View Filters | B3: Editable Selection | J3: All | K3: All | L3: =Assumptions!B3
A4: Analysis Start | B4: 46023 | J4: =Assumptions!A8 | K4: =Assumptions!D8 | L4: =Assumptions!B4
A5: Analysis End | B5: 46387 | J5: =Assumptions!A9 | K5: =Assumptions!D9
A6: Property | B6: All | J6: =Assumptions!A10 | K6: =Assumptions!D10
A7: Channel | B7: All | J7: =Assumptions!A11 | K7: =Assumptions!D11
J8: =Assumptions!A12 | K8: =Assumptions!D12
J9: =Assumptions!A13 | K9: =Assumptions!D13
A10: Funnel Stage | B10: Lead Count | C10: Conversion from Prior Stage | J10: =Assumptions!A14 | K10: =Assumptions!D14
A11: Inquiries | B11: =IF(OR($B$4="",$B$5="",$B$5<$B$4),"",SUMPRODUCT(--(Leads!$A$4:$A$103<>""),--(Leads!$D$4:$D$103>=$B$4),--(Leads!$D$4:$D$103<=$B$5),--(((Leads!$B$4:$B$103=$B$6)+($B$6="All"))>0),--(((Leads!$E$4:$E$103=$B$7)+($B$7="All"))>0))) | J11: =Assumptions!A15 | K11: =Assumptions!D15
A12: Showings Held | B12: =IF(OR($B$4="",$B$5="",$B$5<$B$4),"",SUMPRODUCT(--(Leads!$A$4:$A$103<>""),--(Leads!$D$4:$D$103>=$B$4),--(Leads!$D$4:$D$103<=$B$5),--(((Leads!$B$4:$B$103=$B$6)+($B$6="All"))>0),--(((Leads!$E$4:$E$103=$B$7)+($B$7="All"))>0),--(Leads!$F$4:$F$103<>""))) | C12: =IF(OR(B11="",B11=0,B12=""),"",IFERROR(B12/B11,"")) | J12: =Assumptions!A16 | K12: =Assumptions!D16
A13: Applications | B13: =IF(OR($B$4="",$B$5="",$B$5<$B$4),"",SUMPRODUCT(--(Leads!$A$4:$A$103<>""),--(Leads!$D$4:$D$103>=$B$4),--(Leads!$D$4:$D$103<=$B$5),--(((Leads!$B$4:$B$103=$B$6)+($B$6="All"))>0),--(((Leads!$E$4:$E$103=$B$7)+($B$7="All"))>0),--(Leads!$G$4:$G$103<>""))) | C13: =IF(OR(B12="",B12=0,B13=""),"",IFERROR(B13/B12,"")) | J13: =Assumptions!A17 | K13: =Assumptions!D17
A14: Leases Signed | B14: =IF(OR($B$4="",$B$5="",$B$5<$B$4),"",SUMPRODUCT(--(Leads!$A$4:$A$103<>""),--(Leads!$D$4:$D$103>=$B$4),--(Leads!$D$4:$D$103<=$B$5),--(((Leads!$B$4:$B$103=$B$6)+($B$6="All"))>0),--(((Leads!$E$4:$E$103=$B$7)+($B$7="All"))>0),--(Leads!$H$4:$H$103<>""))) | C14: =IF(OR(B13="",B13=0,B14=""),"",IFERROR(B14/B13,""))
A15: Rows Needing Review | B15: =COUNTIF(Leads!$K$4:$K$103,"Check*")
A26: Conversion by Property
A27: Property | B27: Inquiries | C27: Showings | D27: Applications | E27: Leases | F27: Inquiry to Showing | G27: Showing to Application | H27: Application to Lease
A28: =Assumptions!A8 | B28: =IF(OR($B$4="",$B$5="",$B$5<$B$4,$A28=""),"",SUMPRODUCT(--(Leads!$A$4:$A$103<>""),--(Leads!$D$4:$D$103>=$B$4),--(Leads!$D$4:$D$103<=$B$5),--(Leads!$B$4:$B$103=$A28),--(((Leads!$E$4:$E$103=$B$7)+($B$7="All"))>0))) | C28: =IF(OR($B$4="",$B$5="",$B$5<$B$4,$A28=""),"",SUMPRODUCT(--(Leads!$A$4:$A$103<>""),--(Leads!$D$4:$D$103>=$B$4),--(Leads!$D$4:$D$103<=$B$5),--(Leads!$B$4:$B$103=$A28),--(((Leads!$E$4:$E$103=$B$7)+($B$7="All"))>0),--(Leads!$F$4:$F$103<>""))) | D28: =IF(OR($B$4="",$B$5="",$B$5<$B$4,$A28=""),"",SUMPRODUCT(--(Leads!$A$4:$A$103<>""),--(Leads!$D$4:$D$103>=$B$4),--(Leads!$D$4:$D$103<=$B$5),--(Leads!$B$4:$B$103=$A28),--(((Leads!$E$4:$E$103=$B$7)+($B$7="All"))>0),--(Leads!$G$4:$G$103<>""))) | E28: =IF(OR($B$4="",$B$5="",$B$5<$B$4,$A28=""),"",SUMPRODUCT(--(Leads!$A$4:$A$103<>""),--(Leads!$D$4:$D$103>=$B$4),--(Leads!$D$4:$D$103<=$B$5),--(Leads!$B$4:$B$103=$A28),--(((Leads!$E$4:$E$103=$B$7)+($B$7="All"))>0),--(Leads!$H$4:$H$103<>""))) | F28: =IF(OR(B28="",B28=0,C28=""),"",IFERROR(C28/B28,"")) | G28: =IF(OR(C28="",C28=0,D28=""),"",IFERROR(D28/C28,"")) | H28: =IF(OR(D28="",D28=0,E28=""),"",IFERROR(E28/D28,""))
A29: =Assumptions!A9 | B29: =IF(OR($B$4="",$B$5="",$B$5<$B$4,$A29=""),"",SUMPRODUCT(--(Leads!$A$4:$A$103<>""),--(Leads!$D$4:$D$103>=$B$4),--(Leads!$D$4:$D$103<=$B$5),--(Leads!$B$4:$B$103=$A29),--(((Leads!$E$4:$E$103=$B$7)+($B$7="All"))>0))) | C29: =IF(OR($B$4="",$B$5="",$B$5<$B$4,$A29=""),"",SUMPRODUCT(--(Leads!$A$4:$A$103<>""),--(Leads!$D$4:$D$103>=$B$4),--(Leads!$D$4:$D$103<=$B$5),--(Leads!$B$4:$B$103=$A29),--(((Leads!$E$4:$E$103=$B$7)+($B$7="All"))>0),--(Leads!$F$4:$F$103<>""))) | D29: =IF(OR($B$4="",$B$5="",$B$5<$B$4,$A29=""),"",SUMPRODUCT(--(Leads!$A$4:$A$103<>""),--(Leads!$D$4:$D$103>=$B$4),--(Leads!$D$4:$D$103<=$B$5),--(Leads!$B$4:$B$103=$A29),--(((Leads!$E$4:$E$103=$B$7)+($B$7="All"))>0),--(Leads!$G$4:$G$103<>""))) | E29: =IF(OR($B$4="",$B$5="",$B$5<$B$4,$A29=""),"",SUMPRODUCT(--(Leads!$A$4:$A$103<>""),--(Leads!$D$4:$D$103>=$B$4),--(Leads!$D$4:$D$103<=$B$5),--(Leads!$B$4:$B$103=$A29),--(((Leads!$E$4:$E$103=$B$7)+($B$7="All"))>0),--(Leads!$H$4:$H$103<>""))) | F29: =IF(OR(B29="",B29=0,C29=""),"",IFERROR(C29/B29,"")) | G29: =IF(OR(C29="",C29=0,D29=""),"",IFERROR(D29/C29,"")) | H29: =IF(OR(D29="",D29=0,E29=""),"",IFERROR(E29/D29,""))
A30: =Assumptions!A10 | B30: =IF(OR($B$4="",$B$5="",$B$5<$B$4,$A30=""),"",SUMPRODUCT(--(Leads!$A$4:$A$103<>""),--(Leads!$D$4:$D$103>=$B$4),--(Leads!$D$4:$D$103<=$B$5),--(Leads!$B$4:$B$103=$A30),--(((Leads!$E$4:$E$103=$B$7)+($B$7="All"))>0))) | C30: =IF(OR($B$4="",$B$5="",$B$5<$B$4,$A30=""),"",SUMPRODUCT(--(Leads!$A$4:$A$103<>""),--(Leads!$D$4:$D$103>=$B$4),--(Leads!$D$4:$D$103<=$B$5),--(Leads!$B$4:$B$103=$A30),--(((Leads!$E$4:$E$103=$B$7)+($B$7="All"))>0),--(Leads!$F$4:$F$103<>""))) | D30: =IF(OR($B$4="",$B$5="",$B$5<$B$4,$A30=""),"",SUMPRODUCT(--(Leads!$A$4:$A$103<>""),--(Leads!$D$4:$D$103>=$B$4),--(Leads!$D$4:$D$103<=$B$5),--(Leads!$B$4:$B$103=$A30),--(((Leads!$E$4:$E$103=$B$7)+($B$7="All"))>0),--(Leads!$G$4:$G$103<>""))) | E30: =IF(OR($B$4="",$B$5="",$B$5<$B$4,$A30=""),"",SUMPRODUCT(--(Leads!$A$4:$A$103<>""),--(Leads!$D$4:$D$103>=$B$4),--(Leads!$D$4:$D$103<=$B$5),--(Leads!$B$4:$B$103=$A30),--(((Leads!$E$4:$E$103=$B$7)+($B$7="All"))>0),--(Leads!$H$4:$H$103<>""))) | F30: =IF(OR(B30="",B30=0,C30=""),"",IFERROR(C30/B30,"")) | G30: =IF(OR(C30="",C30=0,D30=""),"",IFERROR(D30/C30,"")) | H30: =IF(OR(D30="",D30=0,E30=""),"",IFERROR(E30/D30,""))
A31: =Assumptions!A11 | B31: =IF(OR($B$4="",$B$5="",$B$5<$B$4,$A31=""),"",SUMPRODUCT(--(Leads!$A$4:$A$103<>""),--(Leads!$D$4:$D$103>=$B$4),--(Leads!$D$4:$D$103<=$B$5),--(Leads!$B$4:$B$103=$A31),--(((Leads!$E$4:$E$103=$B$7)+($B$7="All"))>0))) | C31: =IF(OR($B$4="",$B$5="",$B$5<$B$4,$A31=""),"",SUMPRODUCT(--(Leads!$A$4:$A$103<>""),--(Leads!$D$4:$D$103>=$B$4),--(Leads!$D$4:$D$103<=$B$5),--(Leads!$B$4:$B$103=$A31),--(((Leads!$E$4:$E$103=$B$7)+($B$7="All"))>0),--(Leads!$F$4:$F$103<>""))) | D31: =IF(OR($B$4="",$B$5="",$B$5<$B$4,$A31=""),"",SUMPRODUCT(--(Leads!$A$4:$A$103<>""),--(Leads!$D$4:$D$103>=$B$4),--(Leads!$D$4:$D$103<=$B$5),--(Leads!$B$4:$B$103=$A31),--(((Leads!$E$4:$E$103=$B$7)+($B$7="All"))>0),--(Leads!$G$4:$G$103<>""))) | E31: =IF(OR($B$4="",$B$5="",$B$5<$B$4,$A31=""),"",SUMPRODUCT(--(Leads!$A$4:$A$103<>""),--(Leads!$D$4:$D$103>=$B$4),--(Leads!$D$4:$D$103<=$B$5),--(Leads!$B$4:$B$103=$A31),--(((Leads!$E$4:$E$103=$B$7)+($B$7="All"))>0),--(Leads!$H$4:$H$103<>""))) | F31: =IF(OR(B31="",B31=0,C31=""),"",IFERROR(C31/B31,"")) | G31: =IF(OR(C31="",C31=0,D31=""),"",IFERROR(D31/C31,"")) | H31: =IF(OR(D31="",D31=0,E31=""),"",IFERROR(E31/D31,""))
A32: =Assumptions!A12 | B32: =IF(OR($B$4="",$B$5="",$B$5<$B$4,$A32=""),"",SUMPRODUCT(--(Leads!$A$4:$A$103<>""),--(Leads!$D$4:$D$103>=$B$4),--(Leads!$D$4:$D$103<=$B$5),--(Leads!$B$4:$B$103=$A32),--(((Leads!$E$4:$E$103=$B$7)+($B$7="All"))>0))) | C32: =IF(OR($B$4="",$B$5="",$B$5<$B$4,$A32=""),"",SUMPRODUCT(--(Leads!$A$4:$A$103<>""),--(Leads!$D$4:$D$103>=$B$4),--(Leads!$D$4:$D$103<=$B$5),--(Leads!$B$4:$B$103=$A32),--(((Leads!$E$4:$E$103=$B$7)+($B$7="All"))>0),--(Leads!$F$4:$F$103<>""))) | D32: =IF(OR($B$4="",$B$5="",$B$5<$B$4,$A32=""),"",SUMPRODUCT(--(Leads!$A$4:$A$103<>""),--(Leads!$D$4:$D$103>=$B$4),--(Leads!$D$4:$D$103<=$B$5),--(Leads!$B$4:$B$103=$A32),--(((Leads!$E$4:$E$103=$B$7)+($B$7="All"))>0),--(Leads!$G$4:$G$103<>""))) | E32: =IF(OR($B$4="",$B$5="",$B$5<$B$4,$A32=""),"",SUMPRODUCT(--(Leads!$A$4:$A$103<>""),--(Leads!$D$4:$D$103>=$B$4),--(Leads!$D$4:$D$103<=$B$5),--(Leads!$B$4:$B$103=$A32),--(((Leads!$E$4:$E$103=$B$7)+($B$7="All"))>0),--(Leads!$H$4:$H$103<>""))) | F32: =IF(OR(B32="",B32=0,C32=""),"",IFERROR(C32/B32,"")) | G32: =IF(OR(C32="",C32=0,D32=""),"",IFERROR(D32/C32,"")) | H32: =IF(OR(D32="",D32=0,E32=""),"",IFERROR(E32/D32,""))
A33: =Assumptions!A13 | B33: =IF(OR($B$4="",$B$5="",$B$5<$B$4,$A33=""),"",SUMPRODUCT(--(Leads!$A$4:$A$103<>""),--(Leads!$D$4:$D$103>=$B$4),--(Leads!$D$4:$D$103<=$B$5),--(Leads!$B$4:$B$103=$A33),--(((Leads!$E$4:$E$103=$B$7)+($B$7="All"))>0))) | C33: =IF(OR($B$4="",$B$5="",$B$5<$B$4,$A33=""),"",SUMPRODUCT(--(Leads!$A$4:$A$103<>""),--(Leads!$D$4:$D$103>=$B$4),--(Leads!$D$4:$D$103<=$B$5),--(Leads!$B$4:$B$103=$A33),--(((Leads!$E$4:$E$103=$B$7)+($B$7="All"))>0),--(Leads!$F$4:$F$103<>""))) | D33: =IF(OR($B$4="",$B$5="",$B$5<$B$4,$A33=""),"",SUMPRODUCT(--(Leads!$A$4:$A$103<>""),--(Leads!$D$4:$D$103>=$B$4),--(Leads!$D$4:$D$103<=$B$5),--(Leads!$B$4:$B$103=$A33),--(((Leads!$E$4:$E$103=$B$7)+($B$7="All"))>0),--(Leads!$G$4:$G$103<>""))) | E33: =IF(OR($B$4="",$B$5="",$B$5<$B$4,$A33=""),"",SUMPRODUCT(--(Leads!$A$4:$A$103<>""),--(Leads!$D$4:$D$103>=$B$4),--(Leads!$D$4:$D$103<=$B$5),--(Leads!$B$4:$B$103=$A33),--(((Leads!$E$4:$E$103=$B$7)+($B$7="All"))>0),--(Leads!$H$4:$H$103<>""))) | F33: =IF(OR(B33="",B33=0,C33=""),"",IFERROR(C33/B33,"")) | G33: =IF(OR(C33="",C33=0,D33=""),"",IFERROR(D33/C33,"")) | H33: =IF(OR(D33="",D33=0,E33=""),"",IFERROR(E33/D33,""))
A34: =Assumptions!A14 | B34: =IF(OR($B$4="",$B$5="",$B$5<$B$4,$A34=""),"",SUMPRODUCT(--(Leads!$A$4:$A$103<>""),--(Leads!$D$4:$D$103>=$B$4),--(Leads!$D$4:$D$103<=$B$5),--(Leads!$B$4:$B$103=$A34),--(((Leads!$E$4:$E$103=$B$7)+($B$7="All"))>0))) | C34: =IF(OR($B$4="",$B$5="",$B$5<$B$4,$A34=""),"",SUMPRODUCT(--(Leads!$A$4:$A$103<>""),--(Leads!$D$4:$D$103>=$B$4),--(Leads!$D$4:$D$103<=$B$5),--(Leads!$B$4:$B$103=$A34),--(((Leads!$E$4:$E$103=$B$7)+($B$7="All"))>0),--(Leads!$F$4:$F$103<>""))) | D34: =IF(OR($B$4="",$B$5="",$B$5<$B$4,$A34=""),"",SUMPRODUCT(--(Leads!$A$4:$A$103<>""),--(Leads!$D$4:$D$103>=$B$4),--(Leads!$D$4:$D$103<=$B$5),--(Leads!$B$4:$B$103=$A34),--(((Leads!$E$4:$E$103=$B$7)+($B$7="All"))>0),--(Leads!$G$4:$G$103<>""))) | E34: =IF(OR($B$4="",$B$5="",$B$5<$B$4,$A34=""),"",SUMPRODUCT(--(Leads!$A$4:$A$103<>""),--(Leads!$D$4:$D$103>=$B$4),--(Leads!$D$4:$D$103<=$B$5),--(Leads!$B$4:$B$103=$A34),--(((Leads!$E$4:$E$103=$B$7)+($B$7="All"))>0),--(Leads!$H$4:$H$103<>""))) | F34: =IF(OR(B34="",B34=0,C34=""),"",IFERROR(C34/B34,"")) | G34: =IF(OR(C34="",C34=0,D34=""),"",IFERROR(D34/C34,"")) | H34: =IF(OR(D34="",D34=0,E34=""),"",IFERROR(E34/D34,""))
A35: =Assumptions!A15 | B35: =IF(OR($B$4="",$B$5="",$B$5<$B$4,$A35=""),"",SUMPRODUCT(--(Leads!$A$4:$A$103<>""),--(Leads!$D$4:$D$103>=$B$4),--(Leads!$D$4:$D$103<=$B$5),--(Leads!$B$4:$B$103=$A35),--(((Leads!$E$4:$E$103=$B$7)+($B$7="All"))>0))) | C35: =IF(OR($B$4="",$B$5="",$B$5<$B$4,$A35=""),"",SUMPRODUCT(--(Leads!$A$4:$A$103<>""),--(Leads!$D$4:$D$103>=$B$4),--(Leads!$D$4:$D$103<=$B$5),--(Leads!$B$4:$B$103=$A35),--(((Leads!$E$4:$E$103=$B$7)+($B$7="All"))>0),--(Leads!$F$4:$F$103<>""))) | D35: =IF(OR($B$4="",$B$5="",$B$5<$B$4,$A35=""),"",SUMPRODUCT(--(Leads!$A$4:$A$103<>""),--(Leads!$D$4:$D$103>=$B$4),--(Leads!$D$4:$D$103<=$B$5),--(Leads!$B$4:$B$103=$A35),--(((Leads!$E$4:$E$103=$B$7)+($B$7="All"))>0),--(Leads!$G$4:$G$103<>""))) | E35: =IF(OR($B$4="",$B$5="",$B$5<$B$4,$A35=""),"",SUMPRODUCT(--(Leads!$A$4:$A$103<>""),--(Leads!$D$4:$D$103>=$B$4),--(Leads!$D$4:$D$103<=$B$5),--(Leads!$B$4:$B$103=$A35),--(((Leads!$E$4:$E$103=$B$7)+($B$7="All"))>0),--(Leads!$H$4:$H$103<>""))) | F35: =IF(OR(B35="",B35=0,C35=""),"",IFERROR(C35/B35,"")) | G35: =IF(OR(C35="",C35=0,D35=""),"",IFERROR(D35/C35,"")) | H35: =IF(OR(D35="",D35=0,E35=""),"",IFERROR(E35/D35,""))
A36: =Assumptions!A16 | B36: =IF(OR($B$4="",$B$5="",$B$5<$B$4,$A36=""),"",SUMPRODUCT(--(Leads!$A$4:$A$103<>""),--(Leads!$D$4:$D$103>=$B$4),--(Leads!$D$4:$D$103<=$B$5),--(Leads!$B$4:$B$103=$A36),--(((Leads!$E$4:$E$103=$B$7)+($B$7="All"))>0))) | C36: =IF(OR($B$4="",$B$5="",$B$5<$B$4,$A36=""),"",SUMPRODUCT(--(Leads!$A$4:$A$103<>""),--(Leads!$D$4:$D$103>=$B$4),--(Leads!$D$4:$D$103<=$B$5),--(Leads!$B$4:$B$103=$A36),--(((Leads!$E$4:$E$103=$B$7)+($B$7="All"))>0),--(Leads!$F$4:$F$103<>""))) | D36: =IF(OR($B$4="",$B$5="",$B$5<$B$4,$A36=""),"",SUMPRODUCT(--(Leads!$A$4:$A$103<>""),--(Leads!$D$4:$D$103>=$B$4),--(Leads!$D$4:$D$103<=$B$5),--(Leads!$B$4:$B$103=$A36),--(((Leads!$E$4:$E$103=$B$7)+($B$7="All"))>0),--(Leads!$G$4:$G$103<>""))) | E36: =IF(OR($B$4="",$B$5="",$B$5<$B$4,$A36=""),"",SUMPRODUCT(--(Leads!$A$4:$A$103<>""),--(Leads!$D$4:$D$103>=$B$4),--(Leads!$D$4:$D$103<=$B$5),--(Leads!$B$4:$B$103=$A36),--(((Leads!$E$4:$E$103=$B$7)+($B$7="All"))>0),--(Leads!$H$4:$H$103<>""))) | F36: =IF(OR(B36="",B36=0,C36=""),"",IFERROR(C36/B36,"")) | G36: =IF(OR(C36="",C36=0,D36=""),"",IFERROR(D36/C36,"")) | H36: =IF(OR(D36="",D36=0,E36=""),"",IFERROR(E36/D36,""))
A37: =Assumptions!A17 | B37: =IF(OR($B$4="",$B$5="",$B$5<$B$4,$A37=""),"",SUMPRODUCT(--(Leads!$A$4:$A$103<>""),--(Leads!$D$4:$D$103>=$B$4),--(Leads!$D$4:$D$103<=$B$5),--(Leads!$B$4:$B$103=$A37),--(((Leads!$E$4:$E$103=$B$7)+($B$7="All"))>0))) | C37: =IF(OR($B$4="",$B$5="",$B$5<$B$4,$A37=""),"",SUMPRODUCT(--(Leads!$A$4:$A$103<>""),--(Leads!$D$4:$D$103>=$B$4),--(Leads!$D$4:$D$103<=$B$5),--(Leads!$B$4:$B$103=$A37),--(((Leads!$E$4:$E$103=$B$7)+($B$7="All"))>0),--(Leads!$F$4:$F$103<>""))) | D37: =IF(OR($B$4="",$B$5="",$B$5<$B$4,$A37=""),"",SUMPRODUCT(--(Leads!$A$4:$A$103<>""),--(Leads!$D$4:$D$103>=$B$4),--(Leads!$D$4:$D$103<=$B$5),--(Leads!$B$4:$B$103=$A37),--(((Leads!$E$4:$E$103=$B$7)+($B$7="All"))>0),--(Leads!$G$4:$G$103<>""))) | E37: =IF(OR($B$4="",$B$5="",$B$5<$B$4,$A37=""),"",SUMPRODUCT(--(Leads!$A$4:$A$103<>""),--(Leads!$D$4:$D$103>=$B$4),--(Leads!$D$4:$D$103<=$B$5),--(Leads!$B$4:$B$103=$A37),--(((Leads!$E$4:$E$103=$B$7)+($B$7="All"))>0),--(Leads!$H$4:$H$103<>""))) | F37: =IF(OR(B37="",B37=0,C37=""),"",IFERROR(C37/B37,"")) | G37: =IF(OR(C37="",C37=0,D37=""),"",IFERROR(D37/C37,"")) | H37: =IF(OR(D37="",D37=0,E37=""),"",IFERROR(E37/D37,""))
A40: Conversion by Channel
A41: Channel | B41: Inquiries | C41: Showings | D41: Applications | E41: Leases | F41: Inquiry to Showing | G41: Showing to Application | H41: Application to Lease
A42: =Assumptions!D8 | B42: =IF(OR($B$4="",$B$5="",$B$5<$B$4,$A42=""),"",SUMPRODUCT(--(Leads!$A$4:$A$103<>""),--(Leads!$D$4:$D$103>=$B$4),--(Leads!$D$4:$D$103<=$B$5),--(((Leads!$B$4:$B$103=$B$6)+($B$6="All"))>0),--(Leads!$E$4:$E$103=$A42))) | C42: =IF(OR($B$4="",$B$5="",$B$5<$B$4,$A42=""),"",SUMPRODUCT(--(Leads!$A$4:$A$103<>""),--(Leads!$D$4:$D$103>=$B$4),--(Leads!$D$4:$D$103<=$B$5),--(((Leads!$B$4:$B$103=$B$6)+($B$6="All"))>0),--(Leads!$E$4:$E$103=$A42),--(Leads!$F$4:$F$103<>""))) | D42: =IF(OR($B$4="",$B$5="",$B$5<$B$4,$A42=""),"",SUMPRODUCT(--(Leads!$A$4:$A$103<>""),--(Leads!$D$4:$D$103>=$B$4),--(Leads!$D$4:$D$103<=$B$5),--(((Leads!$B$4:$B$103=$B$6)+($B$6="All"))>0),--(Leads!$E$4:$E$103=$A42),--(Leads!$G$4:$G$103<>""))) | E42: =IF(OR($B$4="",$B$5="",$B$5<$B$4,$A42=""),"",SUMPRODUCT(--(Leads!$A$4:$A$103<>""),--(Leads!$D$4:$D$103>=$B$4),--(Leads!$D$4:$D$103<=$B$5),--(((Leads!$B$4:$B$103=$B$6)+($B$6="All"))>0),--(Leads!$E$4:$E$103=$A42),--(Leads!$H$4:$H$103<>""))) | F42: =IF(OR(B42="",B42=0,C42=""),"",IFERROR(C42/B42,"")) | G42: =IF(OR(C42="",C42=0,D42=""),"",IFERROR(D42/C42,"")) | H42: =IF(OR(D42="",D42=0,E42=""),"",IFERROR(E42/D42,""))
A43: =Assumptions!D9 | B43: =IF(OR($B$4="",$B$5="",$B$5<$B$4,$A43=""),"",SUMPRODUCT(--(Leads!$A$4:$A$103<>""),--(Leads!$D$4:$D$103>=$B$4),--(Leads!$D$4:$D$103<=$B$5),--(((Leads!$B$4:$B$103=$B$6)+($B$6="All"))>0),--(Leads!$E$4:$E$103=$A43))) | C43: =IF(OR($B$4="",$B$5="",$B$5<$B$4,$A43=""),"",SUMPRODUCT(--(Leads!$A$4:$A$103<>""),--(Leads!$D$4:$D$103>=$B$4),--(Leads!$D$4:$D$103<=$B$5),--(((Leads!$B$4:$B$103=$B$6)+($B$6="All"))>0),--(Leads!$E$4:$E$103=$A43),--(Leads!$F$4:$F$103<>""))) | D43: =IF(OR($B$4="",$B$5="",$B$5<$B$4,$A43=""),"",SUMPRODUCT(--(Leads!$A$4:$A$103<>""),--(Leads!$D$4:$D$103>=$B$4),--(Leads!$D$4:$D$103<=$B$5),--(((Leads!$B$4:$B$103=$B$6)+($B$6="All"))>0),--(Leads!$E$4:$E$103=$A43),--(Leads!$G$4:$G$103<>""))) | E43: =IF(OR($B$4="",$B$5="",$B$5<$B$4,$A43=""),"",SUMPRODUCT(--(Leads!$A$4:$A$103<>""),--(Leads!$D$4:$D$103>=$B$4),--(Leads!$D$4:$D$103<=$B$5),--(((Leads!$B$4:$B$103=$B$6)+($B$6="All"))>0),--(Leads!$E$4:$E$103=$A43),--(Leads!$H$4:$H$103<>""))) | F43: =IF(OR(B43="",B43=0,C43=""),"",IFERROR(C43/B43,"")) | G43: =IF(OR(C43="",C43=0,D43=""),"",IFERROR(D43/C43,"")) | H43: =IF(OR(D43="",D43=0,E43=""),"",IFERROR(E43/D43,""))
A44: =Assumptions!D10 | B44: =IF(OR($B$4="",$B$5="",$B$5<$B$4,$A44=""),"",SUMPRODUCT(--(Leads!$A$4:$A$103<>""),--(Leads!$D$4:$D$103>=$B$4),--(Leads!$D$4:$D$103<=$B$5),--(((Leads!$B$4:$B$103=$B$6)+($B$6="All"))>0),--(Leads!$E$4:$E$103=$A44))) | C44: =IF(OR($B$4="",$B$5="",$B$5<$B$4,$A44=""),"",SUMPRODUCT(--(Leads!$A$4:$A$103<>""),--(Leads!$D$4:$D$103>=$B$4),--(Leads!$D$4:$D$103<=$B$5),--(((Leads!$B$4:$B$103=$B$6)+($B$6="All"))>0),--(Leads!$E$4:$E$103=$A44),--(Leads!$F$4:$F$103<>""))) | D44: =IF(OR($B$4="",$B$5="",$B$5<$B$4,$A44=""),"",SUMPRODUCT(--(Leads!$A$4:$A$103<>""),--(Leads!$D$4:$D$103>=$B$4),--(Leads!$D$4:$D$103<=$B$5),--(((Leads!$B$4:$B$103=$B$6)+($B$6="All"))>0),--(Leads!$E$4:$E$103=$A44),--(Leads!$G$4:$G$103<>""))) | E44: =IF(OR($B$4="",$B$5="",$B$5<$B$4,$A44=""),"",SUMPRODUCT(--(Leads!$A$4:$A$103<>""),--(Leads!$D$4:$D$103>=$B$4),--(Leads!$D$4:$D$103<=$B$5),--(((Leads!$B$4:$B$103=$B$6)+($B$6="All"))>0),--(Leads!$E$4:$E$103=$A44),--(Leads!$H$4:$H$103<>""))) | F44: =IF(OR(B44="",B44=0,C44=""),"",IFERROR(C44/B44,"")) | G44: =IF(OR(C44="",C44=0,D44=""),"",IFERROR(D44/C44,"")) | H44: =IF(OR(D44="",D44=0,E44=""),"",IFERROR(E44/D44,""))
A45: =Assumptions!D11 | B45: =IF(OR($B$4="",$B$5="",$B$5<$B$4,$A45=""),"",SUMPRODUCT(--(Leads!$A$4:$A$103<>""),--(Leads!$D$4:$D$103>=$B$4),--(Leads!$D$4:$D$103<=$B$5),--(((Leads!$B$4:$B$103=$B$6)+($B$6="All"))>0),--(Leads!$E$4:$E$103=$A45))) | C45: =IF(OR($B$4="",$B$5="",$B$5<$B$4,$A45=""),"",SUMPRODUCT(--(Leads!$A$4:$A$103<>""),--(Leads!$D$4:$D$103>=$B$4),--(Leads!$D$4:$D$103<=$B$5),--(((Leads!$B$4:$B$103=$B$6)+($B$6="All"))>0),--(Leads!$E$4:$E$103=$A45),--(Leads!$F$4:$F$103<>""))) | D45: =IF(OR($B$4="",$B$5="",$B$5<$B$4,$A45=""),"",SUMPRODUCT(--(Leads!$A$4:$A$103<>""),--(Leads!$D$4:$D$103>=$B$4),--(Leads!$D$4:$D$103<=$B$5),--(((Leads!$B$4:$B$103=$B$6)+($B$6="All"))>0),--(Leads!$E$4:$E$103=$A45),--(Leads!$G$4:$G$103<>""))) | E45: =IF(OR($B$4="",$B$5="",$B$5<$B$4,$A45=""),"",SUMPRODUCT(--(Leads!$A$4:$A$103<>""),--(Leads!$D$4:$D$103>=$B$4),--(Leads!$D$4:$D$103<=$B$5),--(((Leads!$B$4:$B$103=$B$6)+($B$6="All"))>0),--(Leads!$E$4:$E$103=$A45),--(Leads!$H$4:$H$103<>""))) | F45: =IF(OR(B45="",B45=0,C45=""),"",IFERROR(C45/B45,"")) | G45: =IF(OR(C45="",C45=0,D45=""),"",IFERROR(D45/C45,"")) | H45: =IF(OR(D45="",D45=0,E45=""),"",IFERROR(E45/D45,""))
A46: =Assumptions!D12 | B46: =IF(OR($B$4="",$B$5="",$B$5<$B$4,$A46=""),"",SUMPRODUCT(--(Leads!$A$4:$A$103<>""),--(Leads!$D$4:$D$103>=$B$4),--(Leads!$D$4:$D$103<=$B$5),--(((Leads!$B$4:$B$103=$B$6)+($B$6="All"))>0),--(Leads!$E$4:$E$103=$A46))) | C46: =IF(OR($B$4="",$B$5="",$B$5<$B$4,$A46=""),"",SUMPRODUCT(--(Leads!$A$4:$A$103<>""),--(Leads!$D$4:$D$103>=$B$4),--(Leads!$D$4:$D$103<=$B$5),--(((Leads!$B$4:$B$103=$B$6)+($B$6="All"))>0),--(Leads!$E$4:$E$103=$A46),--(Leads!$F$4:$F$103<>""))) | D46: =IF(OR($B$4="",$B$5="",$B$5<$B$4,$A46=""),"",SUMPRODUCT(--(Leads!$A$4:$A$103<>""),--(Leads!$D$4:$D$103>=$B$4),--(Leads!$D$4:$D$103<=$B$5),--(((Leads!$B$4:$B$103=$B$6)+($B$6="All"))>0),--(Leads!$E$4:$E$103=$A46),--(Leads!$G$4:$G$103<>""))) | E46: =IF(OR($B$4="",$B$5="",$B$5<$B$4,$A46=""),"",SUMPRODUCT(--(Leads!$A$4:$A$103<>""),--(Leads!$D$4:$D$103>=$B$4),--(Leads!$D$4:$D$103<=$B$5),--(((Leads!$B$4:$B$103=$B$6)+($B$6="All"))>0),--(Leads!$E$4:$E$103=$A46),--(Leads!$H$4:$H$103<>""))) | F46: =IF(OR(B46="",B46=0,C46=""),"",IFERROR(C46/B46,"")) | G46: =IF(OR(C46="",C46=0,D46=""),"",IFERROR(D46/C46,"")) | H46: =IF(OR(D46="",D46=0,E46=""),"",IFERROR(E46/D46,""))
A47: =Assumptions!D13 | B47: =IF(OR($B$4="",$B$5="",$B$5<$B$4,$A47=""),"",SUMPRODUCT(--(Leads!$A$4:$A$103<>""),--(Leads!$D$4:$D$103>=$B$4),--(Leads!$D$4:$D$103<=$B$5),--(((Leads!$B$4:$B$103=$B$6)+($B$6="All"))>0),--(Leads!$E$4:$E$103=$A47))) | C47: =IF(OR($B$4="",$B$5="",$B$5<$B$4,$A47=""),"",SUMPRODUCT(--(Leads!$A$4:$A$103<>""),--(Leads!$D$4:$D$103>=$B$4),--(Leads!$D$4:$D$103<=$B$5),--(((Leads!$B$4:$B$103=$B$6)+($B$6="All"))>0),--(Leads!$E$4:$E$103=$A47),--(Leads!$F$4:$F$103<>""))) | D47: =IF(OR($B$4="",$B$5="",$B$5<$B$4,$A47=""),"",SUMPRODUCT(--(Leads!$A$4:$A$103<>""),--(Leads!$D$4:$D$103>=$B$4),--(Leads!$D$4:$D$103<=$B$5),--(((Leads!$B$4:$B$103=$B$6)+($B$6="All"))>0),--(Leads!$E$4:$E$103=$A47),--(Leads!$G$4:$G$103<>""))) | E47: =IF(OR($B$4="",$B$5="",$B$5<$B$4,$A47=""),"",SUMPRODUCT(--(Leads!$A$4:$A$103<>""),--(Leads!$D$4:$D$103>=$B$4),--(Leads!$D$4:$D$103<=$B$5),--(((Leads!$B$4:$B$103=$B$6)+($B$6="All"))>0),--(Leads!$E$4:$E$103=$A47),--(Leads!$H$4:$H$103<>""))) | F47: =IF(OR(B47="",B47=0,C47=""),"",IFERROR(C47/B47,"")) | G47: =IF(OR(C47="",C47=0,D47=""),"",IFERROR(D47/C47,"")) | H47: =IF(OR(D47="",D47=0,E47=""),"",IFERROR(E47/D47,""))
A48: =Assumptions!D14 | B48: =IF(OR($B$4="",$B$5="",$B$5<$B$4,$A48=""),"",SUMPRODUCT(--(Leads!$A$4:$A$103<>""),--(Leads!$D$4:$D$103>=$B$4),--(Leads!$D$4:$D$103<=$B$5),--(((Leads!$B$4:$B$103=$B$6)+($B$6="All"))>0),--(Leads!$E$4:$E$103=$A48))) | C48: =IF(OR($B$4="",$B$5="",$B$5<$B$4,$A48=""),"",SUMPRODUCT(--(Leads!$A$4:$A$103<>""),--(Leads!$D$4:$D$103>=$B$4),--(Leads!$D$4:$D$103<=$B$5),--(((Leads!$B$4:$B$103=$B$6)+($B$6="All"))>0),--(Leads!$E$4:$E$103=$A48),--(Leads!$F$4:$F$103<>""))) | D48: =IF(OR($B$4="",$B$5="",$B$5<$B$4,$A48=""),"",SUMPRODUCT(--(Leads!$A$4:$A$103<>""),--(Leads!$D$4:$D$103>=$B$4),--(Leads!$D$4:$D$103<=$B$5),--(((Leads!$B$4:$B$103=$B$6)+($B$6="All"))>0),--(Leads!$E$4:$E$103=$A48),--(Leads!$G$4:$G$103<>""))) | E48: =IF(OR($B$4="",$B$5="",$B$5<$B$4,$A48=""),"",SUMPRODUCT(--(Leads!$A$4:$A$103<>""),--(Leads!$D$4:$D$103>=$B$4),--(Leads!$D$4:$D$103<=$B$5),--(((Leads!$B$4:$B$103=$B$6)+($B$6="All"))>0),--(Leads!$E$4:$E$103=$A48),--(Leads!$H$4:$H$103<>""))) | F48: =IF(OR(B48="",B48=0,C48=""),"",IFERROR(C48/B48,"")) | G48: =IF(OR(C48="",C48=0,D48=""),"",IFERROR(D48/C48,"")) | H48: =IF(OR(D48="",D48=0,E48=""),"",IFERROR(E48/D48,""))
A49: =Assumptions!D15 | B49: =IF(OR($B$4="",$B$5="",$B$5<$B$4,$A49=""),"",SUMPRODUCT(--(Leads!$A$4:$A$103<>""),--(Leads!$D$4:$D$103>=$B$4),--(Leads!$D$4:$D$103<=$B$5),--(((Leads!$B$4:$B$103=$B$6)+($B$6="All"))>0),--(Leads!$E$4:$E$103=$A49))) | C49: =IF(OR($B$4="",$B$5="",$B$5<$B$4,$A49=""),"",SUMPRODUCT(--(Leads!$A$4:$A$103<>""),--(Leads!$D$4:$D$103>=$B$4),--(Leads!$D$4:$D$103<=$B$5),--(((Leads!$B$4:$B$103=$B$6)+($B$6="All"))>0),--(Leads!$E$4:$E$103=$A49),--(Leads!$F$4:$F$103<>""))) | D49: =IF(OR($B$4="",$B$5="",$B$5<$B$4,$A49=""),"",SUMPRODUCT(--(Leads!$A$4:$A$103<>""),--(Leads!$D$4:$D$103>=$B$4),--(Leads!$D$4:$D$103<=$B$5),--(((Leads!$B$4:$B$103=$B$6)+($B$6="All"))>0),--(Leads!$E$4:$E$103=$A49),--(Leads!$G$4:$G$103<>""))) | E49: =IF(OR($B$4="",$B$5="",$B$5<$B$4,$A49=""),"",SUMPRODUCT(--(Leads!$A$4:$A$103<>""),--(Leads!$D$4:$D$103>=$B$4),--(Leads!$D$4:$D$103<=$B$5),--(((Leads!$B$4:$B$103=$B$6)+($B$6="All"))>0),--(Leads!$E$4:$E$103=$A49),--(Leads!$H$4:$H$103<>""))) | F49: =IF(OR(B49="",B49=0,C49=""),"",IFERROR(C49/B49,"")) | G49: =IF(OR(C49="",C49=0,D49=""),"",IFERROR(D49/C49,"")) | H49: =IF(OR(D49="",D49=0,E49=""),"",IFERROR(E49/D49,""))
A50: =Assumptions!D16 | B50: =IF(OR($B$4="",$B$5="",$B$5<$B$4,$A50=""),"",SUMPRODUCT(--(Leads!$A$4:$A$103<>""),--(Leads!$D$4:$D$103>=$B$4),--(Leads!$D$4:$D$103<=$B$5),--(((Leads!$B$4:$B$103=$B$6)+($B$6="All"))>0),--(Leads!$E$4:$E$103=$A50))) | C50: =IF(OR($B$4="",$B$5="",$B$5<$B$4,$A50=""),"",SUMPRODUCT(--(Leads!$A$4:$A$103<>""),--(Leads!$D$4:$D$103>=$B$4),--(Leads!$D$4:$D$103<=$B$5),--(((Leads!$B$4:$B$103=$B$6)+($B$6="All"))>0),--(Leads!$E$4:$E$103=$A50),--(Leads!$F$4:$F$103<>""))) | D50: =IF(OR($B$4="",$B$5="",$B$5<$B$4,$A50=""),"",SUMPRODUCT(--(Leads!$A$4:$A$103<>""),--(Leads!$D$4:$D$103>=$B$4),--(Leads!$D$4:$D$103<=$B$5),--(((Leads!$B$4:$B$103=$B$6)+($B$6="All"))>0),--(Leads!$E$4:$E$103=$A50),--(Leads!$G$4:$G$103<>""))) | E50: =IF(OR($B$4="",$B$5="",$B$5<$B$4,$A50=""),"",SUMPRODUCT(--(Leads!$A$4:$A$103<>""),--(Leads!$D$4:$D$103>=$B$4),--(Leads!$D$4:$D$103<=$B$5),--(((Leads!$B$4:$B$103=$B$6)+($B$6="All"))>0),--(Leads!$E$4:$E$103=$A50),--(Leads!$H$4:$H$103<>""))) | F50: =IF(OR(B50="",B50=0,C50=""),"",IFERROR(C50/B50,"")) | G50: =IF(OR(C50="",C50=0,D50=""),"",IFERROR(D50/C50,"")) | H50: =IF(OR(D50="",D50=0,E50=""),"",IFERROR(E50/D50,""))
A51: =Assumptions!D17 | B51: =IF(OR($B$4="",$B$5="",$B$5<$B$4,$A51=""),"",SUMPRODUCT(--(Leads!$A$4:$A$103<>""),--(Leads!$D$4:$D$103>=$B$4),--(Leads!$D$4:$D$103<=$B$5),--(((Leads!$B$4:$B$103=$B$6)+($B$6="All"))>0),--(Leads!$E$4:$E$103=$A51))) | C51: =IF(OR($B$4="",$B$5="",$B$5<$B$4,$A51=""),"",SUMPRODUCT(--(Leads!$A$4:$A$103<>""),--(Leads!$D$4:$D$103>=$B$4),--(Leads!$D$4:$D$103<=$B$5),--(((Leads!$B$4:$B$103=$B$6)+($B$6="All"))>0),--(Leads!$E$4:$E$103=$A51),--(Leads!$F$4:$F$103<>""))) | D51: =IF(OR($B$4="",$B$5="",$B$5<$B$4,$A51=""),"",SUMPRODUCT(--(Leads!$A$4:$A$103<>""),--(Leads!$D$4:$D$103>=$B$4),--(Leads!$D$4:$D$103<=$B$5),--(((Leads!$B$4:$B$103=$B$6)+($B$6="All"))>0),--(Leads!$E$4:$E$103=$A51),--(Leads!$G$4:$G$103<>""))) | E51: =IF(OR($B$4="",$B$5="",$B$5<$B$4,$A51=""),"",SUMPRODUCT(--(Leads!$A$4:$A$103<>""),--(Leads!$D$4:$D$103>=$B$4),--(Leads!$D$4:$D$103<=$B$5),--(((Leads!$B$4:$B$103=$B$6)+($B$6="All"))>0),--(Leads!$E$4:$E$103=$A51),--(Leads!$H$4:$H$103<>""))) | F51: =IF(OR(B51="",B51=0,C51=""),"",IFERROR(C51/B51,"")) | G51: =IF(OR(C51="",C51=0,D51=""),"",IFERROR(D51/C51,"")) | H51: =IF(OR(D51="",D51=0,E51=""),"",IFERROR(E51/D51,""))

Sheet Leads
A1: Fictional Leasing Lead Records
A2: Yellow cells are editable. Funnel checks prompt manual review and do not verify outside records.
A3: Lead ID | B3: Property | C3: Unit | D3: Inquiry Date | E3: Channel | F3: Showing Held Date | G3: Application Date | H3: Lease Signed Date | I3: Responsibility | J3: Status | K3: Funnel Check
A4: FIC-LEAD-001 | B4: Fictional Cedar Court | C4: Fictional Unit A1 | D4: 46023 | E4: Online listing | F4: 46025 | G4: 46026 | H4: 46030 | I4: Fictional Leasing Team A | J4: Leased | K4: =IF(A4="","",IF(COUNTIF($A$4:$A$103,A4)>1,"Check duplicate lead ID",IF(OR(B4="",D4="",E4="",I4="",J4=""),"Check required inputs",IF(OR(AND(F4<>"",F4<D4),AND(G4<>"",OR(F4="",G4<F4)),AND(H4<>"",OR(G4="",H4<G4))),"Check milestone dates",IF(AND(J4="Leased",H4=""),"Check lease date",IF(AND(H4<>"",J4<>"Leased"),"Check status",IF(AND(J4="Applied",G4=""),"Check application date",IF(AND(J4="Showing held",F4=""),"Check showing date","OK")))))))) | M4: =Assumptions!A8 | N4: =Assumptions!D8 | O4: =Assumptions!F8 | P4: =Assumptions!H8 | Q4: =Assumptions!B3
A5: FIC-LEAD-002 | B5: Fictional Maple Landing | C5: Fictional Unit B2 | D5: 46042 | E5: Resident referral | F5: 46046 | G5: 46049 | I5: Fictional Leasing Team B | J5: Applied | K5: =IF(A5="","",IF(COUNTIF($A$4:$A$103,A5)>1,"Check duplicate lead ID",IF(OR(B5="",D5="",E5="",I5="",J5=""),"Check required inputs",IF(OR(AND(F5<>"",F5<D5),AND(G5<>"",OR(F5="",G5<F5)),AND(H5<>"",OR(G5="",H5<G5))),"Check milestone dates",IF(AND(J5="Leased",H5=""),"Check lease date",IF(AND(H5<>"",J5<>"Leased"),"Check status",IF(AND(J5="Applied",G5=""),"Check application date",IF(AND(J5="Showing held",F5=""),"Check showing date","OK")))))))) | M5: =Assumptions!A9 | N5: =Assumptions!D9 | O5: =Assumptions!F9 | P5: =Assumptions!H9 | Q5: =Assumptions!B4
A6: FIC-LEAD-003 | B6: Fictional Harbor Flats | C6: Fictional Unit C3 | D6: 46056 | E6: Property sign | F6: 46059 | I6: Fictional Leasing Team A | J6: Showing held | K6: =IF(A6="","",IF(COUNTIF($A$4:$A$103,A6)>1,"Check duplicate lead ID",IF(OR(B6="",D6="",E6="",I6="",J6=""),"Check required inputs",IF(OR(AND(F6<>"",F6<D6),AND(G6<>"",OR(F6="",G6<F6)),AND(H6<>"",OR(G6="",H6<G6))),"Check milestone dates",IF(AND(J6="Leased",H6=""),"Check lease date",IF(AND(H6<>"",J6<>"Leased"),"Check status",IF(AND(J6="Applied",G6=""),"Check application date",IF(AND(J6="Showing held",F6=""),"Check showing date","OK")))))))) | M6: =Assumptions!A10 | N6: =Assumptions!D10 | O6: =Assumptions!F10 | P6: =Assumptions!H10
A7: FIC-LEAD-004 | B7: Fictional Juniper Place | C7: Fictional Unit D4 | D7: 46067 | E7: Social media | I7: Fictional Leasing Team C | J7: Contacted | K7: =IF(A7="","",IF(COUNTIF($A$4:$A$103,A7)>1,"Check duplicate lead ID",IF(OR(B7="",D7="",E7="",I7="",J7=""),"Check required inputs",IF(OR(AND(F7<>"",F7<D7),AND(G7<>"",OR(F7="",G7<F7)),AND(H7<>"",OR(G7="",H7<G7))),"Check milestone dates",IF(AND(J7="Leased",H7=""),"Check lease date",IF(AND(H7<>"",J7<>"Leased"),"Check status",IF(AND(J7="Applied",G7=""),"Check application date",IF(AND(J7="Showing held",F7=""),"Check showing date","OK")))))))) | M7: =Assumptions!A11 | N7: =Assumptions!D11 | O7: =Assumptions!F11 | P7: =Assumptions!H11
A8: FIC-LEAD-005 | B8: Fictional Cedar Court | C8: Fictional Unit A2 | D8: 46083 | E8: Walk-in | F8: 46085 | G8: 46087 | H8: 46091 | I8: Fictional Leasing Team B | J8: Leased | K8: =IF(A8="","",IF(COUNTIF($A$4:$A$103,A8)>1,"Check duplicate lead ID",IF(OR(B8="",D8="",E8="",I8="",J8=""),"Check required inputs",IF(OR(AND(F8<>"",F8<D8),AND(G8<>"",OR(F8="",G8<F8)),AND(H8<>"",OR(G8="",H8<G8))),"Check milestone dates",IF(AND(J8="Leased",H8=""),"Check lease date",IF(AND(H8<>"",J8<>"Leased"),"Check status",IF(AND(J8="Applied",G8=""),"Check application date",IF(AND(J8="Showing held",F8=""),"Check showing date","OK")))))))) | M8: =Assumptions!A12 | N8: =Assumptions!D12 | O8: =Assumptions!F12 | P8: =Assumptions!H12
A9: FIC-LEAD-006 | B9: Fictional Maple Landing | C9: Fictional Unit B4 | D9: 46123 | E9: Online listing | F9: 46127 | G9: 46132 | I9: Fictional Leasing Team C | J9: Applied | K9: =IF(A9="","",IF(COUNTIF($A$4:$A$103,A9)>1,"Check duplicate lead ID",IF(OR(B9="",D9="",E9="",I9="",J9=""),"Check required inputs",IF(OR(AND(F9<>"",F9<D9),AND(G9<>"",OR(F9="",G9<F9)),AND(H9<>"",OR(G9="",H9<G9))),"Check milestone dates",IF(AND(J9="Leased",H9=""),"Check lease date",IF(AND(H9<>"",J9<>"Leased"),"Check status",IF(AND(J9="Applied",G9=""),"Check application date",IF(AND(J9="Showing held",F9=""),"Check showing date","OK")))))))) | M9: =Assumptions!A13 | N9: =Assumptions!D13 | O9: =Assumptions!F13 | P9: =Assumptions!H13
A10: FIC-LEAD-007 | B10: Fictional Harbor Flats | C10: Fictional Unit C1 | D10: 46143 | E10: Resident referral | F10: 46147 | I10: Fictional Leasing Team A | J10: Closed | K10: =IF(A10="","",IF(COUNTIF($A$4:$A$103,A10)>1,"Check duplicate lead ID",IF(OR(B10="",D10="",E10="",I10="",J10=""),"Check required inputs",IF(OR(AND(F10<>"",F10<D10),AND(G10<>"",OR(F10="",G10<F10)),AND(H10<>"",OR(G10="",H10<G10))),"Check milestone dates",IF(AND(J10="Leased",H10=""),"Check lease date",IF(AND(H10<>"",J10<>"Leased"),"Check status",IF(AND(J10="Applied",G10=""),"Check application date",IF(AND(J10="Showing held",F10=""),"Check showing date","OK")))))))) | M10: =Assumptions!A14 | N10: =Assumptions!D14 | O10: =Assumptions!F14 | P10: =Assumptions!H14
A11: FIC-LEAD-008 | B11: Fictional Juniper Place | C11: Fictional Unit D2 | D11: 46182 | E11: Property sign | I11: Fictional Leasing Team B | J11: Closed | K11: =IF(A11="","",IF(COUNTIF($A$4:$A$103,A11)>1,"Check duplicate lead ID",IF(OR(B11="",D11="",E11="",I11="",J11=""),"Check required inputs",IF(OR(AND(F11<>"",F11<D11),AND(G11<>"",OR(F11="",G11<F11)),AND(H11<>"",OR(G11="",H11<G11))),"Check milestone dates",IF(AND(J11="Leased",H11=""),"Check lease date",IF(AND(H11<>"",J11<>"Leased"),"Check status",IF(AND(J11="Applied",G11=""),"Check application date",IF(AND(J11="Showing held",F11=""),"Check showing date","OK")))))))) | M11: =Assumptions!A15 | N11: =Assumptions!D15 | O11: =Assumptions!F15 | P11: =Assumptions!H15
A12: FIC-LEAD-009 | B12: Fictional Cedar Court | C12: Fictional Unit A3 | D12: 46206 | E12: Social media | F12: 46210 | G12: 46213 | H12: 46218 | I12: Fictional Leasing Team C | J12: Leased | K12: =IF(A12="","",IF(COUNTIF($A$4:$A$103,A12)>1,"Check duplicate lead ID",IF(OR(B12="",D12="",E12="",I12="",J12=""),"Check required inputs",IF(OR(AND(F12<>"",F12<D12),AND(G12<>"",OR(F12="",G12<F12)),AND(H12<>"",OR(G12="",H12<G12))),"Check milestone dates",IF(AND(J12="Leased",H12=""),"Check lease date",IF(AND(H12<>"",J12<>"Leased"),"Check status",IF(AND(J12="Applied",G12=""),"Check application date",IF(AND(J12="Showing held",F12=""),"Check showing date","OK")))))))) | M12: =Assumptions!A16 | N12: =Assumptions!D16 | O12: =Assumptions!F16 | P12: =Assumptions!H16
A13: FIC-LEAD-010 | B13: Fictional Maple Landing | C13: Fictional Unit B1 | D13: 46252 | E13: Online listing | F13: 46256 | I13: Fictional Leasing Team A | J13: Showing held | K13: =IF(A13="","",IF(COUNTIF($A$4:$A$103,A13)>1,"Check duplicate lead ID",IF(OR(B13="",D13="",E13="",I13="",J13=""),"Check required inputs",IF(OR(AND(F13<>"",F13<D13),AND(G13<>"",OR(F13="",G13<F13)),AND(H13<>"",OR(G13="",H13<G13))),"Check milestone dates",IF(AND(J13="Leased",H13=""),"Check lease date",IF(AND(H13<>"",J13<>"Leased"),"Check status",IF(AND(J13="Applied",G13=""),"Check application date",IF(AND(J13="Showing held",F13=""),"Check showing date","OK")))))))) | M13: =Assumptions!A17 | N13: =Assumptions!D17 | O13: =Assumptions!F17 | P13: =Assumptions!H17
K14: =IF(A14="","",IF(COUNTIF($A$4:$A$103,A14)>1,"Check duplicate lead ID",IF(OR(B14="",D14="",E14="",I14="",J14=""),"Check required inputs",IF(OR(AND(F14<>"",F14<D14),AND(G14<>"",OR(F14="",G14<F14)),AND(H14<>"",OR(G14="",H14<G14))),"Check milestone dates",IF(AND(J14="Leased",H14=""),"Check lease date",IF(AND(H14<>"",J14<>"Leased"),"Check status",IF(AND(J14="Applied",G14=""),"Check application date",IF(AND(J14="Showing held",F14=""),"Check showing date","OK")))))))) | M14: =Assumptions!A18 | N14: =Assumptions!D18 | O14: =Assumptions!F18 | P14: =Assumptions!H18
K15: =IF(A15="","",IF(COUNTIF($A$4:$A$103,A15)>1,"Check duplicate lead ID",IF(OR(B15="",D15="",E15="",I15="",J15=""),"Check required inputs",IF(OR(AND(F15<>"",F15<D15),AND(G15<>"",OR(F15="",G15<F15)),AND(H15<>"",OR(G15="",H15<G15))),"Check milestone dates",IF(AND(J15="Leased",H15=""),"Check lease date",IF(AND(H15<>"",J15<>"Leased"),"Check status",IF(AND(J15="Applied",G15=""),"Check application date",IF(AND(J15="Showing held",F15=""),"Check showing date","OK")))))))) | M15: =Assumptions!A19 | N15: =Assumptions!D19 | O15: =Assumptions!F19 | P15: =Assumptions!H19
K16: =IF(A16="","",IF(COUNTIF($A$4:$A$103,A16)>1,"Check duplicate lead ID",IF(OR(B16="",D16="",E16="",I16="",J16=""),"Check required inputs",IF(OR(AND(F16<>"",F16<D16),AND(G16<>"",OR(F16="",G16<F16)),AND(H16<>"",OR(G16="",H16<G16))),"Check milestone dates",IF(AND(J16="Leased",H16=""),"Check lease date",IF(AND(H16<>"",J16<>"Leased"),"Check status",IF(AND(J16="Applied",G16=""),"Check application date",IF(AND(J16="Showing held",F16=""),"Check showing date","OK")))))))) | M16: =Assumptions!A20 | N16: =Assumptions!D20 | O16: =Assumptions!F20 | P16: =Assumptions!H20
K17: =IF(A17="","",IF(COUNTIF($A$4:$A$103,A17)>1,"Check duplicate lead ID",IF(OR(B17="",D17="",E17="",I17="",J17=""),"Check required inputs",IF(OR(AND(F17<>"",F17<D17),AND(G17<>"",OR(F17="",G17<F17)),AND(H17<>"",OR(G17="",H17<G17))),"Check milestone dates",IF(AND(J17="Leased",H17=""),"Check lease date",IF(AND(H17<>"",J17<>"Leased"),"Check status",IF(AND(J17="Applied",G17=""),"Check application date",IF(AND(J17="Showing held",F17=""),"Check showing date","OK")))))))) | M17: =Assumptions!A21 | N17: =Assumptions!D21 | O17: =Assumptions!F21 | P17: =Assumptions!H21
K18: =IF(A18="","",IF(COUNTIF($A$4:$A$103,A18)>1,"Check duplicate lead ID",IF(OR(B18="",D18="",E18="",I18="",J18=""),"Check required inputs",IF(OR(AND(F18<>"",F18<D18),AND(G18<>"",OR(F18="",G18<F18)),AND(H18<>"",OR(G18="",H18<G18))),"Check milestone dates",IF(AND(J18="Leased",H18=""),"Check lease date",IF(AND(H18<>"",J18<>"Leased"),"Check status",IF(AND(J18="Applied",G18=""),"Check application date",IF(AND(J18="Showing held",F18=""),"Check showing date","OK")))))))) | M18: =Assumptions!A22 | N18: =Assumptions!D22 | O18: =Assumptions!F22 | P18: =Assumptions!H22
K19: =IF(A19="","",IF(COUNTIF($A$4:$A$103,A19)>1,"Check duplicate lead ID",IF(OR(B19="",D19="",E19="",I19="",J19=""),"Check required inputs",IF(OR(AND(F19<>"",F19<D19),AND(G19<>"",OR(F19="",G19<F19)),AND(H19<>"",OR(G19="",H19<G19))),"Check milestone dates",IF(AND(J19="Leased",H19=""),"Check lease date",IF(AND(H19<>"",J19<>"Leased"),"Check status",IF(AND(J19="Applied",G19=""),"Check application date",IF(AND(J19="Showing held",F19=""),"Check showing date","OK")))))))) | M19: =Assumptions!A23 | N19: =Assumptions!D23 | O19: =Assumptions!F23 | P19: =Assumptions!H23
K20: =IF(A20="","",IF(COUNTIF($A$4:$A$103,A20)>1,"Check duplicate lead ID",IF(OR(B20="",D20="",E20="",I20="",J20=""),"Check required inputs",IF(OR(AND(F20<>"",F20<D20),AND(G20<>"",OR(F20="",G20<F20)),AND(H20<>"",OR(G20="",H20<G20))),"Check milestone dates",IF(AND(J20="Leased",H20=""),"Check lease date",IF(AND(H20<>"",J20<>"Leased"),"Check status",IF(AND(J20="Applied",G20=""),"Check application date",IF(AND(J20="Showing held",F20=""),"Check showing date","OK")))))))) | M20: =Assumptions!A24 | N20: =Assumptions!D24 | O20: =Assumptions!F24 | P20: =Assumptions!H24
K21: =IF(A21="","",IF(COUNTIF($A$4:$A$103,A21)>1,"Check duplicate lead ID",IF(OR(B21="",D21="",E21="",I21="",J21=""),"Check required inputs",IF(OR(AND(F21<>"",F21<D21),AND(G21<>"",OR(F21="",G21<F21)),AND(H21<>"",OR(G21="",H21<G21))),"Check milestone dates",IF(AND(J21="Leased",H21=""),"Check lease date",IF(AND(H21<>"",J21<>"Leased"),"Check status",IF(AND(J21="Applied",G21=""),"Check application date",IF(AND(J21="Showing held",F21=""),"Check showing date","OK")))))))) | M21: =Assumptions!A25 | N21: =Assumptions!D25 | O21: =Assumptions!F25 | P21: =Assumptions!H25
K22: =IF(A22="","",IF(COUNTIF($A$4:$A$103,A22)>1,"Check duplicate lead ID",IF(OR(B22="",D22="",E22="",I22="",J22=""),"Check required inputs",IF(OR(AND(F22<>"",F22<D22),AND(G22<>"",OR(F22="",G22<F22)),AND(H22<>"",OR(G22="",H22<G22))),"Check milestone dates",IF(AND(J22="Leased",H22=""),"Check lease date",IF(AND(H22<>"",J22<>"Leased"),"Check status",IF(AND(J22="Applied",G22=""),"Check application date",IF(AND(J22="Showing held",F22=""),"Check showing date","OK")))))))) | M22: =Assumptions!A26 | N22: =Assumptions!D26 | O22: =Assumptions!F26 | P22: =Assumptions!H26
K23: =IF(A23="","",IF(COUNTIF($A$4:$A$103,A23)>1,"Check duplicate lead ID",IF(OR(B23="",D23="",E23="",I23="",J23=""),"Check required inputs",IF(OR(AND(F23<>"",F23<D23),AND(G23<>"",OR(F23="",G23<F23)),AND(H23<>"",OR(G23="",H23<G23))),"Check milestone dates",IF(AND(J23="Leased",H23=""),"Check lease date",IF(AND(H23<>"",J23<>"Leased"),"Check status",IF(AND(J23="Applied",G23=""),"Check application date",IF(AND(J23="Showing held",F23=""),"Check showing date","OK")))))))) | M23: =Assumptions!A27 | N23: =Assumptions!D27 | O23: =Assumptions!F27 | P23: =Assumptions!H27
K24: =IF(A24="","",IF(COUNTIF($A$4:$A$103,A24)>1,"Check duplicate lead ID",IF(OR(B24="",D24="",E24="",I24="",J24=""),"Check required inputs",IF(OR(AND(F24<>"",F24<D24),AND(G24<>"",OR(F24="",G24<F24)),AND(H24<>"",OR(G24="",H24<G24))),"Check milestone dates",IF(AND(J24="Leased",H24=""),"Check lease date",IF(AND(H24<>"",J24<>"Leased"),"Check status",IF(AND(J24="Applied",G24=""),"Check application date",IF(AND(J24="Showing held",F24=""),"Check showing date","OK")))))))) | M24: =Assumptions!A28 | N24: =Assumptions!D28 | O24: =Assumptions!F28 | P24: =Assumptions!H28
K25: =IF(A25="","",IF(COUNTIF($A$4:$A$103,A25)>1,"Check duplicate lead ID",IF(OR(B25="",D25="",E25="",I25="",J25=""),"Check required inputs",IF(OR(AND(F25<>"",F25<D25),AND(G25<>"",OR(F25="",G25<F25)),AND(H25<>"",OR(G25="",H25<G25))),"Check milestone dates",IF(AND(J25="Leased",H25=""),"Check lease date",IF(AND(H25<>"",J25<>"Leased"),"Check status",IF(AND(J25="Applied",G25=""),"Check application date",IF(AND(J25="Showing held",F25=""),"Check showing date","OK")))))))) | M25: =Assumptions!A29 | N25: =Assumptions!D29 | O25: =Assumptions!F29 | P25: =Assumptions!H29
... K103: =IF(A103="","",IF(COUNTIF($A$4:$A$103,A103)>1,"Check duplicate lead ID",IF(OR(B103="",D103="",E103="",I103="",J103=""),"Check required inputs",IF(OR(AND(F103<>"",F103<D103),AND(G103<>"",OR(F103="",G103<F103)),AND(H103<>"",OR(G103="",H103<G103))),"Check milestone dates",IF(AND(J103="Leased",H103=""),"Check lease date",IF(AND(H103<>"",J103<>"Leased"),"Check status",IF(AND(J103="Applied",G103=""),"Check application date",IF(AND(J103="Showing held",F103=""),"Check showing date","OK")))))))) | M103: =Assumptions!A107 | N103: =Assumptions!D107 | O103: =Assumptions!F107 | P103: =Assumptions!H107

Sheet Assumptions
A1: Editable Leasing Dashboard Assumptions
A2: These internal data-entry choices and limits are editable and are not legal requirements.
A3: Earliest Accepted Date | B3: 45292
A4: Latest Accepted Date | B4: 48213
A7: Properties | D7: Channels | F7: Statuses | H7: Responsibilities
A8: Fictional Cedar Court | D8: Online listing | F8: New | H8: Fictional Leasing Team A
A9: Fictional Maple Landing | D9: Resident referral | F9: Contacted | H9: Fictional Leasing Team B
A10: Fictional Harbor Flats | D10: Property sign | F10: Showing held | H10: Fictional Leasing Team C
A11: Fictional Juniper Place | D11: Social media | F11: Applied
D12: Walk-in | F12: Leased
F13: Closed
