Workbook

Sheet Summary
A1: Rental Listing Performance Tracker
A2: Calculated indicators based on the fictional sample records and user-entered listing data.
A4: Listing-channel records | B4: =COUNTIF(Listings!$A$5:$A$104,"<>") | D4: Total showings | E4: =IF($B$4=0,"",SUM(Listings!$H$5:$H$104))
A5: Active records | B5: =IF($B$4=0,"",COUNTIF(Listings!$J$5:$J$104,"Active")) | D5: Total applications | E5: =IF($B$4=0,"",SUM(Listings!$I$5:$I$104))
A6: Total inquiries | B6: =IF($B$4=0,"",SUM(Listings!$G$5:$G$104)) | D6: Inquiry-to-showing | E6: =IF($B$4=0,"",IFERROR($E$4/$B$6,""))
A7: Earliest listing date | B7: =IF(COUNT(Listings!$C$5:$C$104)=0,"",MIN(Listings!$C$5:$C$104)) | D7: Showing-to-application | E7: =IF($B$4=0,"",IFERROR($E$5/$E$4,""))
A8: Average days listed | B8: =IF($B$4=0,"",IFERROR(AVERAGE(Listings!$K$5:$K$104),"")) | D8: Records needing review | E8: =IF($B$4=0,"",COUNTIF(Listings!$N$5:$N$104,"?*"))
A9: Channel comparison
A10: Channel | B10: Records | C10: Active | D10: Inquiries | E10: Showings | F10: Applications | G10: Inquiry-to-Showing | H10: Showing-to-Application | I10: Average Days Listed | J10: Inquiries per Day
A11: =Assumptions!$G$5 | B11: =IF($A11="","",COUNTIF(Listings!$E$5:$E$104,$A11)) | C11: =IF($A11="","",COUNTIFS(Listings!$E$5:$E$104,$A11,Listings!$J$5:$J$104,"Active")) | D11: =IF(OR($A11="",$B11=0),"",SUMIF(Listings!$E$5:$E$104,$A11,Listings!$G$5:$G$104)) | E11: =IF(OR($A11="",$B11=0),"",SUMIF(Listings!$E$5:$E$104,$A11,Listings!$H$5:$H$104)) | F11: =IF(OR($A11="",$B11=0),"",SUMIF(Listings!$E$5:$E$104,$A11,Listings!$I$5:$I$104)) | G11: =IF($B11=0,"",IFERROR($E11/$D11,"")) | H11: =IF($B11=0,"",IFERROR($F11/$E11,"")) | I11: =IF($B11=0,"",IFERROR(AVERAGEIF(Listings!$E$5:$E$104,$A11,Listings!$K$5:$K$104),"")) | J11: =IF($B11=0,"",IFERROR($D11/SUMIF(Listings!$E$5:$E$104,$A11,Listings!$K$5:$K$104),""))
A12: =Assumptions!$G$6 | B12: =IF($A12="","",COUNTIF(Listings!$E$5:$E$104,$A12)) | C12: =IF($A12="","",COUNTIFS(Listings!$E$5:$E$104,$A12,Listings!$J$5:$J$104,"Active")) | D12: =IF(OR($A12="",$B12=0),"",SUMIF(Listings!$E$5:$E$104,$A12,Listings!$G$5:$G$104)) | E12: =IF(OR($A12="",$B12=0),"",SUMIF(Listings!$E$5:$E$104,$A12,Listings!$H$5:$H$104)) | F12: =IF(OR($A12="",$B12=0),"",SUMIF(Listings!$E$5:$E$104,$A12,Listings!$I$5:$I$104)) | G12: =IF($B12=0,"",IFERROR($E12/$D12,"")) | H12: =IF($B12=0,"",IFERROR($F12/$E12,"")) | I12: =IF($B12=0,"",IFERROR(AVERAGEIF(Listings!$E$5:$E$104,$A12,Listings!$K$5:$K$104),"")) | J12: =IF($B12=0,"",IFERROR($D12/SUMIF(Listings!$E$5:$E$104,$A12,Listings!$K$5:$K$104),""))
A13: =Assumptions!$G$7 | B13: =IF($A13="","",COUNTIF(Listings!$E$5:$E$104,$A13)) | C13: =IF($A13="","",COUNTIFS(Listings!$E$5:$E$104,$A13,Listings!$J$5:$J$104,"Active")) | D13: =IF(OR($A13="",$B13=0),"",SUMIF(Listings!$E$5:$E$104,$A13,Listings!$G$5:$G$104)) | E13: =IF(OR($A13="",$B13=0),"",SUMIF(Listings!$E$5:$E$104,$A13,Listings!$H$5:$H$104)) | F13: =IF(OR($A13="",$B13=0),"",SUMIF(Listings!$E$5:$E$104,$A13,Listings!$I$5:$I$104)) | G13: =IF($B13=0,"",IFERROR($E13/$D13,"")) | H13: =IF($B13=0,"",IFERROR($F13/$E13,"")) | I13: =IF($B13=0,"",IFERROR(AVERAGEIF(Listings!$E$5:$E$104,$A13,Listings!$K$5:$K$104),"")) | J13: =IF($B13=0,"",IFERROR($D13/SUMIF(Listings!$E$5:$E$104,$A13,Listings!$K$5:$K$104),""))
A14: =Assumptions!$G$8 | B14: =IF($A14="","",COUNTIF(Listings!$E$5:$E$104,$A14)) | C14: =IF($A14="","",COUNTIFS(Listings!$E$5:$E$104,$A14,Listings!$J$5:$J$104,"Active")) | D14: =IF(OR($A14="",$B14=0),"",SUMIF(Listings!$E$5:$E$104,$A14,Listings!$G$5:$G$104)) | E14: =IF(OR($A14="",$B14=0),"",SUMIF(Listings!$E$5:$E$104,$A14,Listings!$H$5:$H$104)) | F14: =IF(OR($A14="",$B14=0),"",SUMIF(Listings!$E$5:$E$104,$A14,Listings!$I$5:$I$104)) | G14: =IF($B14=0,"",IFERROR($E14/$D14,"")) | H14: =IF($B14=0,"",IFERROR($F14/$E14,"")) | I14: =IF($B14=0,"",IFERROR(AVERAGEIF(Listings!$E$5:$E$104,$A14,Listings!$K$5:$K$104),"")) | J14: =IF($B14=0,"",IFERROR($D14/SUMIF(Listings!$E$5:$E$104,$A14,Listings!$K$5:$K$104),""))
A15: =Assumptions!$G$9 | B15: =IF($A15="","",COUNTIF(Listings!$E$5:$E$104,$A15)) | C15: =IF($A15="","",COUNTIFS(Listings!$E$5:$E$104,$A15,Listings!$J$5:$J$104,"Active")) | D15: =IF(OR($A15="",$B15=0),"",SUMIF(Listings!$E$5:$E$104,$A15,Listings!$G$5:$G$104)) | E15: =IF(OR($A15="",$B15=0),"",SUMIF(Listings!$E$5:$E$104,$A15,Listings!$H$5:$H$104)) | F15: =IF(OR($A15="",$B15=0),"",SUMIF(Listings!$E$5:$E$104,$A15,Listings!$I$5:$I$104)) | G15: =IF($B15=0,"",IFERROR($E15/$D15,"")) | H15: =IF($B15=0,"",IFERROR($F15/$E15,"")) | I15: =IF($B15=0,"",IFERROR(AVERAGEIF(Listings!$E$5:$E$104,$A15,Listings!$K$5:$K$104),"")) | J15: =IF($B15=0,"",IFERROR($D15/SUMIF(Listings!$E$5:$E$104,$A15,Listings!$K$5:$K$104),""))

Sheet Listings
A1: Listings
A2: Enter one row for each unit-and-channel listing record. All sample properties, units, channels, and activity are fictional.
A3: Yellow cells are editable. Review prompts identify entries for human checking and do not represent an outside service.
A4: Property | B4: Unit | C4: Listing Date | D4: End Date | E4: Channel | F4: Monthly Asking Rent | G4: Inquiries | H4: Showings | I4: Applications | J4: Status | K4: Days Listed | L4: Inquiry-to-Showing | M4: Showing-to-Application | N4: Human Review Prompt
A5: Fictional Cedar Court | B5: Fictional Unit A1 | C5: 46249 | E5: Fictional Portal A | F5: 1850 | G5: 12 | H5: 6 | I5: 2 | J5: Active | K5: =IF(OR($A5="",COUNT($C5)=0),"",IF($J5="Active",MAX(0,TODAY()-$C5),IF(COUNT($D5)=0,"",MAX(0,$D5-$C5)))) | L5: =IF(OR($A5="",COUNT($G5:$H5)<2,$G5=0),"",IFERROR($H5/$G5,"")) | M5: =IF(OR($A5="",COUNT($H5:$I5)<2,$H5=0),"",IFERROR($I5/$H5,"")) | N5: =IF(COUNTA($A5:$J5)=0,"",IF(OR($A5="",$B5="",COUNT($C5)=0,$E5="",COUNT($F5:$I5)<4,$J5=""),"Complete key fields",IF(AND(COUNT($D5)=1,$D5<$C5),"Check dates",IF(OR($H5>$G5,$I5>$H5),"Check counts",IF(AND($J5="Active",$D5<>""),"Check status/end date",IF(AND($J5<>"Active",COUNT($D5)=0),"Add end date",IF(AND($J5="Active",COUNT(Assumptions!$B$5:$B$6)=2,$K5>=Assumptions!$B$5,$G5<=Assumptions!$B$6),"Review response",""))))))) | P5: =Assumptions!$E$5 | Q5: =Assumptions!$G$5 | R5: =Assumptions!$B$7
A6: Fictional Cedar Court | B6: Fictional Unit A1 | C6: 46249 | E6: Fictional Portal B | F6: 1850 | G6: 7 | H6: 3 | I6: 1 | J6: Active | K6: =IF(OR($A6="",COUNT($C6)=0),"",IF($J6="Active",MAX(0,TODAY()-$C6),IF(COUNT($D6)=0,"",MAX(0,$D6-$C6)))) | L6: =IF(OR($A6="",COUNT($G6:$H6)<2,$G6=0),"",IFERROR($H6/$G6,"")) | M6: =IF(OR($A6="",COUNT($H6:$I6)<2,$H6=0),"",IFERROR($I6/$H6,"")) | N6: =IF(COUNTA($A6:$J6)=0,"",IF(OR($A6="",$B6="",COUNT($C6)=0,$E6="",COUNT($F6:$I6)<4,$J6=""),"Complete key fields",IF(AND(COUNT($D6)=1,$D6<$C6),"Check dates",IF(OR($H6>$G6,$I6>$H6),"Check counts",IF(AND($J6="Active",$D6<>""),"Check status/end date",IF(AND($J6<>"Active",COUNT($D6)=0),"Add end date",IF(AND($J6="Active",COUNT(Assumptions!$B$5:$B$6)=2,$K6>=Assumptions!$B$5,$G6<=Assumptions!$B$6),"Review response",""))))))) | P6: =Assumptions!$E$6 | Q6: =Assumptions!$G$6 | R6: =Assumptions!$B$8
A7: Imaginary Harbor Flats | B7: Fictional Unit B2 | C7: 46228 | D7: 46252 | E7: Mock Local Board | F7: 2250 | G7: 18 | H7: 9 | I7: 3 | J7: Leased | K7: =IF(OR($A7="",COUNT($C7)=0),"",IF($J7="Active",MAX(0,TODAY()-$C7),IF(COUNT($D7)=0,"",MAX(0,$D7-$C7)))) | L7: =IF(OR($A7="",COUNT($G7:$H7)<2,$G7=0),"",IFERROR($H7/$G7,"")) | M7: =IF(OR($A7="",COUNT($H7:$I7)<2,$H7=0),"",IFERROR($I7/$H7,"")) | N7: =IF(COUNTA($A7:$J7)=0,"",IF(OR($A7="",$B7="",COUNT($C7)=0,$E7="",COUNT($F7:$I7)<4,$J7=""),"Complete key fields",IF(AND(COUNT($D7)=1,$D7<$C7),"Check dates",IF(OR($H7>$G7,$I7>$H7),"Check counts",IF(AND($J7="Active",$D7<>""),"Check status/end date",IF(AND($J7<>"Active",COUNT($D7)=0),"Add end date",IF(AND($J7="Active",COUNT(Assumptions!$B$5:$B$6)=2,$K7>=Assumptions!$B$5,$G7<=Assumptions!$B$6),"Review response",""))))))) | P7: =Assumptions!$E$7 | Q7: =Assumptions!$G$7 | R7: =Assumptions!$B$9
A8: Imaginary Harbor Flats | B8: Fictional Unit B2 | C8: 46228 | D8: 46252 | E8: Fictional Portal A | F8: 2250 | G8: 15 | H8: 7 | I8: 2 | J8: Leased | K8: =IF(OR($A8="",COUNT($C8)=0),"",IF($J8="Active",MAX(0,TODAY()-$C8),IF(COUNT($D8)=0,"",MAX(0,$D8-$C8)))) | L8: =IF(OR($A8="",COUNT($G8:$H8)<2,$G8=0),"",IFERROR($H8/$G8,"")) | M8: =IF(OR($A8="",COUNT($H8:$I8)<2,$H8=0),"",IFERROR($I8/$H8,"")) | N8: =IF(COUNTA($A8:$J8)=0,"",IF(OR($A8="",$B8="",COUNT($C8)=0,$E8="",COUNT($F8:$I8)<4,$J8=""),"Complete key fields",IF(AND(COUNT($D8)=1,$D8<$C8),"Check dates",IF(OR($H8>$G8,$I8>$H8),"Check counts",IF(AND($J8="Active",$D8<>""),"Check status/end date",IF(AND($J8<>"Active",COUNT($D8)=0),"Add end date",IF(AND($J8="Active",COUNT(Assumptions!$B$5:$B$6)=2,$K8>=Assumptions!$B$5,$G8<=Assumptions!$B$6),"Review response",""))))))) | P8: =Assumptions!$E$8 | Q8: =Assumptions!$G$8 | R8: =Assumptions!$B$10
A9: Mock Juniper Homes | B9: Fictional Unit C3 | C9: 46259 | E9: Imaginary Property Site | F9: 1975 | G9: 0 | H9: 0 | I9: 0 | J9: Active | K9: =IF(OR($A9="",COUNT($C9)=0),"",IF($J9="Active",MAX(0,TODAY()-$C9),IF(COUNT($D9)=0,"",MAX(0,$D9-$C9)))) | L9: =IF(OR($A9="",COUNT($G9:$H9)<2,$G9=0),"",IFERROR($H9/$G9,"")) | M9: =IF(OR($A9="",COUNT($H9:$I9)<2,$H9=0),"",IFERROR($I9/$H9,"")) | N9: =IF(COUNTA($A9:$J9)=0,"",IF(OR($A9="",$B9="",COUNT($C9)=0,$E9="",COUNT($F9:$I9)<4,$J9=""),"Complete key fields",IF(AND(COUNT($D9)=1,$D9<$C9),"Check dates",IF(OR($H9>$G9,$I9>$H9),"Check counts",IF(AND($J9="Active",$D9<>""),"Check status/end date",IF(AND($J9<>"Active",COUNT($D9)=0),"Add end date",IF(AND($J9="Active",COUNT(Assumptions!$B$5:$B$6)=2,$K9>=Assumptions!$B$5,$G9<=Assumptions!$B$6),"Review response",""))))))) | Q9: =Assumptions!$G$9 | R9: =Assumptions!$B$11
A10: Fictional Lantern Row | B10: Fictional Unit D1 | C10: 46235 | D10: 46264 | E10: Fictional Yard Sign | F10: 1680 | G10: 3 | H10: 1 | I10: 0 | J10: Withdrawn | K10: =IF(OR($A10="",COUNT($C10)=0),"",IF($J10="Active",MAX(0,TODAY()-$C10),IF(COUNT($D10)=0,"",MAX(0,$D10-$C10)))) | L10: =IF(OR($A10="",COUNT($G10:$H10)<2,$G10=0),"",IFERROR($H10/$G10,"")) | M10: =IF(OR($A10="",COUNT($H10:$I10)<2,$H10=0),"",IFERROR($I10/$H10,"")) | N10: =IF(COUNTA($A10:$J10)=0,"",IF(OR($A10="",$B10="",COUNT($C10)=0,$E10="",COUNT($F10:$I10)<4,$J10=""),"Complete key fields",IF(AND(COUNT($D10)=1,$D10<$C10),"Check dates",IF(OR($H10>$G10,$I10>$H10),"Check counts",IF(AND($J10="Active",$D10<>""),"Check status/end date",IF(AND($J10<>"Active",COUNT($D10)=0),"Add end date",IF(AND($J10="Active",COUNT(Assumptions!$B$5:$B$6)=2,$K10>=Assumptions!$B$5,$G10<=Assumptions!$B$6),"Review response",""))))))) | R10: =Assumptions!$B$12
A11: Imaginary Willow Place | B11: Fictional Unit A2 | C11: 46266 | E11: Fictional Portal A | F11: 2100 | G11: 5 | H11: 2 | I11: 1 | J11: Active | K11: =IF(OR($A11="",COUNT($C11)=0),"",IF($J11="Active",MAX(0,TODAY()-$C11),IF(COUNT($D11)=0,"",MAX(0,$D11-$C11)))) | L11: =IF(OR($A11="",COUNT($G11:$H11)<2,$G11=0),"",IFERROR($H11/$G11,"")) | M11: =IF(OR($A11="",COUNT($H11:$I11)<2,$H11=0),"",IFERROR($I11/$H11,"")) | N11: =IF(COUNTA($A11:$J11)=0,"",IF(OR($A11="",$B11="",COUNT($C11)=0,$E11="",COUNT($F11:$I11)<4,$J11=""),"Complete key fields",IF(AND(COUNT($D11)=1,$D11<$C11),"Check dates",IF(OR($H11>$G11,$I11>$H11),"Check counts",IF(AND($J11="Active",$D11<>""),"Check status/end date",IF(AND($J11<>"Active",COUNT($D11)=0),"Add end date",IF(AND($J11="Active",COUNT(Assumptions!$B$5:$B$6)=2,$K11>=Assumptions!$B$5,$G11<=Assumptions!$B$6),"Review response","")))))))
A12: Mock Juniper Homes | B12: Fictional Unit D4 | C12: 46244 | D12: 46270 | E12: Fictional Portal B | F12: 2050 | G12: 9 | H12: 4 | I12: 1 | J12: Paused | K12: =IF(OR($A12="",COUNT($C12)=0),"",IF($J12="Active",MAX(0,TODAY()-$C12),IF(COUNT($D12)=0,"",MAX(0,$D12-$C12)))) | L12: =IF(OR($A12="",COUNT($G12:$H12)<2,$G12=0),"",IFERROR($H12/$G12,"")) | M12: =IF(OR($A12="",COUNT($H12:$I12)<2,$H12=0),"",IFERROR($I12/$H12,"")) | N12: =IF(COUNTA($A12:$J12)=0,"",IF(OR($A12="",$B12="",COUNT($C12)=0,$E12="",COUNT($F12:$I12)<4,$J12=""),"Complete key fields",IF(AND(COUNT($D12)=1,$D12<$C12),"Check dates",IF(OR($H12>$G12,$I12>$H12),"Check counts",IF(AND($J12="Active",$D12<>""),"Check status/end date",IF(AND($J12<>"Active",COUNT($D12)=0),"Add end date",IF(AND($J12="Active",COUNT(Assumptions!$B$5:$B$6)=2,$K12>=Assumptions!$B$5,$G12<=Assumptions!$B$6),"Review response","")))))))
A13: Fictional Lantern Row | B13: Fictional Unit E2 | C13: 46262 | E13: Mock Local Board | F13: 1725 | G13: 2 | H13: 1 | I13: 0 | J13: Active | K13: =IF(OR($A13="",COUNT($C13)=0),"",IF($J13="Active",MAX(0,TODAY()-$C13),IF(COUNT($D13)=0,"",MAX(0,$D13-$C13)))) | L13: =IF(OR($A13="",COUNT($G13:$H13)<2,$G13=0),"",IFERROR($H13/$G13,"")) | M13: =IF(OR($A13="",COUNT($H13:$I13)<2,$H13=0),"",IFERROR($I13/$H13,"")) | N13: =IF(COUNTA($A13:$J13)=0,"",IF(OR($A13="",$B13="",COUNT($C13)=0,$E13="",COUNT($F13:$I13)<4,$J13=""),"Complete key fields",IF(AND(COUNT($D13)=1,$D13<$C13),"Check dates",IF(OR($H13>$G13,$I13>$H13),"Check counts",IF(AND($J13="Active",$D13<>""),"Check status/end date",IF(AND($J13<>"Active",COUNT($D13)=0),"Add end date",IF(AND($J13="Active",COUNT(Assumptions!$B$5:$B$6)=2,$K13>=Assumptions!$B$5,$G13<=Assumptions!$B$6),"Review response","")))))))
A14: Imaginary Willow Place | B14: Fictional Unit B3 | C14: 46218 | D14: 46246 | E14: Imaginary Property Site | F14: 2325 | G14: 24 | H14: 12 | I14: 4 | J14: Leased | K14: =IF(OR($A14="",COUNT($C14)=0),"",IF($J14="Active",MAX(0,TODAY()-$C14),IF(COUNT($D14)=0,"",MAX(0,$D14-$C14)))) | L14: =IF(OR($A14="",COUNT($G14:$H14)<2,$G14=0),"",IFERROR($H14/$G14,"")) | M14: =IF(OR($A14="",COUNT($H14:$I14)<2,$H14=0),"",IFERROR($I14/$H14,"")) | N14: =IF(COUNTA($A14:$J14)=0,"",IF(OR($A14="",$B14="",COUNT($C14)=0,$E14="",COUNT($F14:$I14)<4,$J14=""),"Complete key fields",IF(AND(COUNT($D14)=1,$D14<$C14),"Check dates",IF(OR($H14>$G14,$I14>$H14),"Check counts",IF(AND($J14="Active",$D14<>""),"Check status/end date",IF(AND($J14<>"Active",COUNT($D14)=0),"Add end date",IF(AND($J14="Active",COUNT(Assumptions!$B$5:$B$6)=2,$K14>=Assumptions!$B$5,$G14<=Assumptions!$B$6),"Review response","")))))))
K15: =IF(OR($A15="",COUNT($C15)=0),"",IF($J15="Active",MAX(0,TODAY()-$C15),IF(COUNT($D15)=0,"",MAX(0,$D15-$C15)))) | L15: =IF(OR($A15="",COUNT($G15:$H15)<2,$G15=0),"",IFERROR($H15/$G15,"")) | M15: =IF(OR($A15="",COUNT($H15:$I15)<2,$H15=0),"",IFERROR($I15/$H15,"")) | N15: =IF(COUNTA($A15:$J15)=0,"",IF(OR($A15="",$B15="",COUNT($C15)=0,$E15="",COUNT($F15:$I15)<4,$J15=""),"Complete key fields",IF(AND(COUNT($D15)=1,$D15<$C15),"Check dates",IF(OR($H15>$G15,$I15>$H15),"Check counts",IF(AND($J15="Active",$D15<>""),"Check status/end date",IF(AND($J15<>"Active",COUNT($D15)=0),"Add end date",IF(AND($J15="Active",COUNT(Assumptions!$B$5:$B$6)=2,$K15>=Assumptions!$B$5,$G15<=Assumptions!$B$6),"Review response","")))))))
K16: =IF(OR($A16="",COUNT($C16)=0),"",IF($J16="Active",MAX(0,TODAY()-$C16),IF(COUNT($D16)=0,"",MAX(0,$D16-$C16)))) | L16: =IF(OR($A16="",COUNT($G16:$H16)<2,$G16=0),"",IFERROR($H16/$G16,"")) | M16: =IF(OR($A16="",COUNT($H16:$I16)<2,$H16=0),"",IFERROR($I16/$H16,"")) | N16: =IF(COUNTA($A16:$J16)=0,"",IF(OR($A16="",$B16="",COUNT($C16)=0,$E16="",COUNT($F16:$I16)<4,$J16=""),"Complete key fields",IF(AND(COUNT($D16)=1,$D16<$C16),"Check dates",IF(OR($H16>$G16,$I16>$H16),"Check counts",IF(AND($J16="Active",$D16<>""),"Check status/end date",IF(AND($J16<>"Active",COUNT($D16)=0),"Add end date",IF(AND($J16="Active",COUNT(Assumptions!$B$5:$B$6)=2,$K16>=Assumptions!$B$5,$G16<=Assumptions!$B$6),"Review response","")))))))
K17: =IF(OR($A17="",COUNT($C17)=0),"",IF($J17="Active",MAX(0,TODAY()-$C17),IF(COUNT($D17)=0,"",MAX(0,$D17-$C17)))) | L17: =IF(OR($A17="",COUNT($G17:$H17)<2,$G17=0),"",IFERROR($H17/$G17,"")) | M17: =IF(OR($A17="",COUNT($H17:$I17)<2,$H17=0),"",IFERROR($I17/$H17,"")) | N17: =IF(COUNTA($A17:$J17)=0,"",IF(OR($A17="",$B17="",COUNT($C17)=0,$E17="",COUNT($F17:$I17)<4,$J17=""),"Complete key fields",IF(AND(COUNT($D17)=1,$D17<$C17),"Check dates",IF(OR($H17>$G17,$I17>$H17),"Check counts",IF(AND($J17="Active",$D17<>""),"Check status/end date",IF(AND($J17<>"Active",COUNT($D17)=0),"Add end date",IF(AND($J17="Active",COUNT(Assumptions!$B$5:$B$6)=2,$K17>=Assumptions!$B$5,$G17<=Assumptions!$B$6),"Review response","")))))))
K18: =IF(OR($A18="",COUNT($C18)=0),"",IF($J18="Active",MAX(0,TODAY()-$C18),IF(COUNT($D18)=0,"",MAX(0,$D18-$C18)))) | L18: =IF(OR($A18="",COUNT($G18:$H18)<2,$G18=0),"",IFERROR($H18/$G18,"")) | M18: =IF(OR($A18="",COUNT($H18:$I18)<2,$H18=0),"",IFERROR($I18/$H18,"")) | N18: =IF(COUNTA($A18:$J18)=0,"",IF(OR($A18="",$B18="",COUNT($C18)=0,$E18="",COUNT($F18:$I18)<4,$J18=""),"Complete key fields",IF(AND(COUNT($D18)=1,$D18<$C18),"Check dates",IF(OR($H18>$G18,$I18>$H18),"Check counts",IF(AND($J18="Active",$D18<>""),"Check status/end date",IF(AND($J18<>"Active",COUNT($D18)=0),"Add end date",IF(AND($J18="Active",COUNT(Assumptions!$B$5:$B$6)=2,$K18>=Assumptions!$B$5,$G18<=Assumptions!$B$6),"Review response","")))))))
K19: =IF(OR($A19="",COUNT($C19)=0),"",IF($J19="Active",MAX(0,TODAY()-$C19),IF(COUNT($D19)=0,"",MAX(0,$D19-$C19)))) | L19: =IF(OR($A19="",COUNT($G19:$H19)<2,$G19=0),"",IFERROR($H19/$G19,"")) | M19: =IF(OR($A19="",COUNT($H19:$I19)<2,$H19=0),"",IFERROR($I19/$H19,"")) | N19: =IF(COUNTA($A19:$J19)=0,"",IF(OR($A19="",$B19="",COUNT($C19)=0,$E19="",COUNT($F19:$I19)<4,$J19=""),"Complete key fields",IF(AND(COUNT($D19)=1,$D19<$C19),"Check dates",IF(OR($H19>$G19,$I19>$H19),"Check counts",IF(AND($J19="Active",$D19<>""),"Check status/end date",IF(AND($J19<>"Active",COUNT($D19)=0),"Add end date",IF(AND($J19="Active",COUNT(Assumptions!$B$5:$B$6)=2,$K19>=Assumptions!$B$5,$G19<=Assumptions!$B$6),"Review response","")))))))
K20: =IF(OR($A20="",COUNT($C20)=0),"",IF($J20="Active",MAX(0,TODAY()-$C20),IF(COUNT($D20)=0,"",MAX(0,$D20-$C20)))) | L20: =IF(OR($A20="",COUNT($G20:$H20)<2,$G20=0),"",IFERROR($H20/$G20,"")) | M20: =IF(OR($A20="",COUNT($H20:$I20)<2,$H20=0),"",IFERROR($I20/$H20,"")) | N20: =IF(COUNTA($A20:$J20)=0,"",IF(OR($A20="",$B20="",COUNT($C20)=0,$E20="",COUNT($F20:$I20)<4,$J20=""),"Complete key fields",IF(AND(COUNT($D20)=1,$D20<$C20),"Check dates",IF(OR($H20>$G20,$I20>$H20),"Check counts",IF(AND($J20="Active",$D20<>""),"Check status/end date",IF(AND($J20<>"Active",COUNT($D20)=0),"Add end date",IF(AND($J20="Active",COUNT(Assumptions!$B$5:$B$6)=2,$K20>=Assumptions!$B$5,$G20<=Assumptions!$B$6),"Review response","")))))))
K21: =IF(OR($A21="",COUNT($C21)=0),"",IF($J21="Active",MAX(0,TODAY()-$C21),IF(COUNT($D21)=0,"",MAX(0,$D21-$C21)))) | L21: =IF(OR($A21="",COUNT($G21:$H21)<2,$G21=0),"",IFERROR($H21/$G21,"")) | M21: =IF(OR($A21="",COUNT($H21:$I21)<2,$H21=0),"",IFERROR($I21/$H21,"")) | N21: =IF(COUNTA($A21:$J21)=0,"",IF(OR($A21="",$B21="",COUNT($C21)=0,$E21="",COUNT($F21:$I21)<4,$J21=""),"Complete key fields",IF(AND(COUNT($D21)=1,$D21<$C21),"Check dates",IF(OR($H21>$G21,$I21>$H21),"Check counts",IF(AND($J21="Active",$D21<>""),"Check status/end date",IF(AND($J21<>"Active",COUNT($D21)=0),"Add end date",IF(AND($J21="Active",COUNT(Assumptions!$B$5:$B$6)=2,$K21>=Assumptions!$B$5,$G21<=Assumptions!$B$6),"Review response","")))))))
K22: =IF(OR($A22="",COUNT($C22)=0),"",IF($J22="Active",MAX(0,TODAY()-$C22),IF(COUNT($D22)=0,"",MAX(0,$D22-$C22)))) | L22: =IF(OR($A22="",COUNT($G22:$H22)<2,$G22=0),"",IFERROR($H22/$G22,"")) | M22: =IF(OR($A22="",COUNT($H22:$I22)<2,$H22=0),"",IFERROR($I22/$H22,"")) | N22: =IF(COUNTA($A22:$J22)=0,"",IF(OR($A22="",$B22="",COUNT($C22)=0,$E22="",COUNT($F22:$I22)<4,$J22=""),"Complete key fields",IF(AND(COUNT($D22)=1,$D22<$C22),"Check dates",IF(OR($H22>$G22,$I22>$H22),"Check counts",IF(AND($J22="Active",$D22<>""),"Check status/end date",IF(AND($J22<>"Active",COUNT($D22)=0),"Add end date",IF(AND($J22="Active",COUNT(Assumptions!$B$5:$B$6)=2,$K22>=Assumptions!$B$5,$G22<=Assumptions!$B$6),"Review response","")))))))
K23: =IF(OR($A23="",COUNT($C23)=0),"",IF($J23="Active",MAX(0,TODAY()-$C23),IF(COUNT($D23)=0,"",MAX(0,$D23-$C23)))) | L23: =IF(OR($A23="",COUNT($G23:$H23)<2,$G23=0),"",IFERROR($H23/$G23,"")) | M23: =IF(OR($A23="",COUNT($H23:$I23)<2,$H23=0),"",IFERROR($I23/$H23,"")) | N23: =IF(COUNTA($A23:$J23)=0,"",IF(OR($A23="",$B23="",COUNT($C23)=0,$E23="",COUNT($F23:$I23)<4,$J23=""),"Complete key fields",IF(AND(COUNT($D23)=1,$D23<$C23),"Check dates",IF(OR($H23>$G23,$I23>$H23),"Check counts",IF(AND($J23="Active",$D23<>""),"Check status/end date",IF(AND($J23<>"Active",COUNT($D23)=0),"Add end date",IF(AND($J23="Active",COUNT(Assumptions!$B$5:$B$6)=2,$K23>=Assumptions!$B$5,$G23<=Assumptions!$B$6),"Review response","")))))))
K24: =IF(OR($A24="",COUNT($C24)=0),"",IF($J24="Active",MAX(0,TODAY()-$C24),IF(COUNT($D24)=0,"",MAX(0,$D24-$C24)))) | L24: =IF(OR($A24="",COUNT($G24:$H24)<2,$G24=0),"",IFERROR($H24/$G24,"")) | M24: =IF(OR($A24="",COUNT($H24:$I24)<2,$H24=0),"",IFERROR($I24/$H24,"")) | N24: =IF(COUNTA($A24:$J24)=0,"",IF(OR($A24="",$B24="",COUNT($C24)=0,$E24="",COUNT($F24:$I24)<4,$J24=""),"Complete key fields",IF(AND(COUNT($D24)=1,$D24<$C24),"Check dates",IF(OR($H24>$G24,$I24>$H24),"Check counts",IF(AND($J24="Active",$D24<>""),"Check status/end date",IF(AND($J24<>"Active",COUNT($D24)=0),"Add end date",IF(AND($J24="Active",COUNT(Assumptions!$B$5:$B$6)=2,$K24>=Assumptions!$B$5,$G24<=Assumptions!$B$6),"Review response","")))))))
K25: =IF(OR($A25="",COUNT($C25)=0),"",IF($J25="Active",MAX(0,TODAY()-$C25),IF(COUNT($D25)=0,"",MAX(0,$D25-$C25)))) | L25: =IF(OR($A25="",COUNT($G25:$H25)<2,$G25=0),"",IFERROR($H25/$G25,"")) | M25: =IF(OR($A25="",COUNT($H25:$I25)<2,$H25=0),"",IFERROR($I25/$H25,"")) | N25: =IF(COUNTA($A25:$J25)=0,"",IF(OR($A25="",$B25="",COUNT($C25)=0,$E25="",COUNT($F25:$I25)<4,$J25=""),"Complete key fields",IF(AND(COUNT($D25)=1,$D25<$C25),"Check dates",IF(OR($H25>$G25,$I25>$H25),"Check counts",IF(AND($J25="Active",$D25<>""),"Check status/end date",IF(AND($J25<>"Active",COUNT($D25)=0),"Add end date",IF(AND($J25="Active",COUNT(Assumptions!$B$5:$B$6)=2,$K25>=Assumptions!$B$5,$G25<=Assumptions!$B$6),"Review response","")))))))
K26: =IF(OR($A26="",COUNT($C26)=0),"",IF($J26="Active",MAX(0,TODAY()-$C26),IF(COUNT($D26)=0,"",MAX(0,$D26-$C26)))) | L26: =IF(OR($A26="",COUNT($G26:$H26)<2,$G26=0),"",IFERROR($H26/$G26,"")) | M26: =IF(OR($A26="",COUNT($H26:$I26)<2,$H26=0),"",IFERROR($I26/$H26,"")) | N26: =IF(COUNTA($A26:$J26)=0,"",IF(OR($A26="",$B26="",COUNT($C26)=0,$E26="",COUNT($F26:$I26)<4,$J26=""),"Complete key fields",IF(AND(COUNT($D26)=1,$D26<$C26),"Check dates",IF(OR($H26>$G26,$I26>$H26),"Check counts",IF(AND($J26="Active",$D26<>""),"Check status/end date",IF(AND($J26<>"Active",COUNT($D26)=0),"Add end date",IF(AND($J26="Active",COUNT(Assumptions!$B$5:$B$6)=2,$K26>=Assumptions!$B$5,$G26<=Assumptions!$B$6),"Review response","")))))))
... K104: =IF(OR($A104="",COUNT($C104)=0),"",IF($J104="Active",MAX(0,TODAY()-$C104),IF(COUNT($D104)=0,"",MAX(0,$D104-$C104)))) | L104: =IF(OR($A104="",COUNT($G104:$H104)<2,$G104=0),"",IFERROR($H104/$G104,"")) | M104: =IF(OR($A104="",COUNT($H104:$I104)<2,$H104=0),"",IFERROR($I104/$H104,"")) | N104: =IF(COUNTA($A104:$J104)=0,"",IF(OR($A104="",$B104="",COUNT($C104)=0,$E104="",COUNT($F104:$I104)<4,$J104=""),"Complete key fields",IF(AND(COUNT($D104)=1,$D104<$C104),"Check dates",IF(OR($H104>$G104,$I104>$H104),"Check counts",IF(AND($J104="Active",$D104<>""),"Check status/end date",IF(AND($J104<>"Active",COUNT($D104)=0),"Add end date",IF(AND($J104="Active",COUNT(Assumptions!$B$5:$B$6)=2,$K104>=Assumptions!$B$5,$G104<=Assumptions!$B$6),"Review response","")))))))

Sheet Assumptions
A1: Assumptions
A2: Edit review limits and stable choices to fit your operating process. These entries do not set market, contract, or regulatory requirements.
A4: Setting | B4: Value | C4: Purpose | E4: Status Choices | G4: Channel Choices
A5: Review active after days | B5: 14 | C5: Review an active record at or beyond this age when inquiries are at or below the ceiling. | E5: Active | G5: Fictional Portal A
A6: Low inquiry ceiling | B6: 2 | C6: Used with the review-age setting to create a human review prompt. | E6: Paused | G6: Fictional Portal B
A7: Minimum monthly asking rent | B7: 0 | C7: Lower entry-validation limit; adjust for your own operating context. | E7: Leased | G7: Mock Local Board
A8: Maximum monthly asking rent | B8: 25000 | C8: Upper entry-validation limit; adjust for your own operating context. | E8: Withdrawn | G8: Imaginary Property Site
A9: Minimum activity count | B9: 0 | C9: Lower validation limit for inquiries, showings, and applications. | G9: Fictional Yard Sign
A10: Maximum activity count | B10: 100000 | C10: Upper validation limit for inquiries, showings, and applications.
A11: Earliest allowed date | B11: 43831 | C11: Lower date-validation boundary for prepared listing rows.
A12: Latest allowed date | B12: 49674 | C12: Upper date-validation boundary for prepared listing rows.
