Workbook

Sheet Summary
A1: Rental Move-In Cost Calculator — Summary
A2: As of | B2: =TODAY()
A3: Portfolio Indicator | B3: Calculated Value | D3: Status | E3: Count | F3: Total Due
A4: Plans Entered | B4: =COUNTIF('Move-In Costs'!$A$5:$A$104,"<>") | D4: =Assumptions!$C$11 | E4: =COUNTIF('Move-In Costs'!$T$5:$T$104,$D4) | F4: =IFERROR(SUMIF('Move-In Costs'!$T$5:$T$104,$D4,'Move-In Costs'!$P$5:$P$104),0)
A5: Non-Canceled Plans | B5: =COUNTIFS('Move-In Costs'!$A$5:$A$104,"<>",'Move-In Costs'!$T$5:$T$104,"<>Canceled") | D5: =Assumptions!$C$12 | E5: =COUNTIF('Move-In Costs'!$T$5:$T$104,$D5) | F5: =IFERROR(SUMIF('Move-In Costs'!$T$5:$T$104,$D5,'Move-In Costs'!$P$5:$P$104),0)
A6: Total Due, Non-Canceled | B6: =IFERROR(SUMIFS('Move-In Costs'!$P$5:$P$104,'Move-In Costs'!$A$5:$A$104,"<>",'Move-In Costs'!$T$5:$T$104,"<>Canceled"),0) | D6: =Assumptions!$C$13 | E6: =COUNTIF('Move-In Costs'!$T$5:$T$104,$D6) | F6: =IFERROR(SUMIF('Move-In Costs'!$T$5:$T$104,$D6,'Move-In Costs'!$P$5:$P$104),0)
A7: Amount Received, Non-Canceled | B7: =IFERROR(SUMIFS('Move-In Costs'!$Q$5:$Q$104,'Move-In Costs'!$A$5:$A$104,"<>",'Move-In Costs'!$T$5:$T$104,"<>Canceled"),0) | D7: =Assumptions!$C$14 | E7: =COUNTIF('Move-In Costs'!$T$5:$T$104,$D7) | F7: =IFERROR(SUMIF('Move-In Costs'!$T$5:$T$104,$D7,'Move-In Costs'!$P$5:$P$104),0)
A8: Balance Due, Non-Canceled | B8: =IFERROR(SUMIFS('Move-In Costs'!$R$5:$R$104,'Move-In Costs'!$A$5:$A$104,"<>",'Move-In Costs'!$T$5:$T$104,"<>Canceled"),0) | D8: =Assumptions!$C$15 | E8: =COUNTIF('Move-In Costs'!$T$5:$T$104,$D8) | F8: =IFERROR(SUMIF('Move-In Costs'!$T$5:$T$104,$D8,'Move-In Costs'!$P$5:$P$104),0)
A9: Past Move-In Balances | B9: =COUNTIFS('Move-In Costs'!$A$5:$A$104,"<>",'Move-In Costs'!$D$5:$D$104,"<"&TODAY(),'Move-In Costs'!$R$5:$R$104,">0",'Move-In Costs'!$T$5:$T$104,"<>Canceled")
A10: Rows Needing Review | B10: =COUNTIF('Move-In Costs'!$U$5:$U$104,"?*")
A11: Clear Non-Canceled Rows | B11: =COUNTIFS('Move-In Costs'!$A$5:$A$104,"<>",'Move-In Costs'!$U$5:$U$104,"",'Move-In Costs'!$T$5:$T$104,"<>Canceled") | D11: Responsibility | E11: Count | F11: Total Due
D12: =Assumptions!$A$11 | E12: =COUNTIF('Move-In Costs'!$S$5:$S$104,$D12) | F12: =IFERROR(SUMIF('Move-In Costs'!$S$5:$S$104,$D12,'Move-In Costs'!$P$5:$P$104),0)
D13: =Assumptions!$A$12 | E13: =COUNTIF('Move-In Costs'!$S$5:$S$104,$D13) | F13: =IFERROR(SUMIF('Move-In Costs'!$S$5:$S$104,$D13,'Move-In Costs'!$P$5:$P$104),0)
D14: =Assumptions!$A$13 | E14: =COUNTIF('Move-In Costs'!$S$5:$S$104,$D14) | F14: =IFERROR(SUMIF('Move-In Costs'!$S$5:$S$104,$D14,'Move-In Costs'!$P$5:$P$104),0)

Sheet Move-In Costs
A1: Rental Move-In Cost Calculator — Plans
A2: Yellow cells are editable. Review each lease and local requirements before using a calculated amount. | X2: =Assumptions!A5 | Y2: =Assumptions!E11 | Z2: =Assumptions!A11 | AA2: =Assumptions!C11 | AB2: =Assumptions!F5
A3: First Full Rent should be Yes only when a separate full-month rent amount is due before move-in. | X3: =Assumptions!A6 | Y3: =Assumptions!E12 | Z3: =Assumptions!A12 | AA3: =Assumptions!C12 | AB3: =Assumptions!F6
A4: Tenancy ID | B4: Property | C4: Unit | D4: Move-In Date | E4: Monthly Rent | F4: Proration Method | G4: Prorated Days Override | H4: Prorated Days | I4: Prorated Rent | J4: First Full Rent? | K4: First Full Rent | L4: Security Deposit | M4: Charge Description | N4: Manager-Entered Charges | O4: Credits | P4: Total Due Before Move-In | Q4: Amount Received | R4: Balance Due | S4: Responsibility | T4: Status | U4: Review Alert | X4: =Assumptions!A7 | Z4: =Assumptions!A13 | AA4: =Assumptions!C13 | AB4: =Assumptions!F7
A5: FICTIONAL-TEN-001 | B5: Fictional Harbor Flats | C5: Demo-1A | D5: 46280 | E5: 1850 | F5: Actual Days in Move-In Month | H5: =IF(OR($D5="",$F5=""),"",IFERROR(IF(VLOOKUP($F5,Assumptions!$A$5:$C$7,2,FALSE)="NONE",0,IF($G5<>"",$G5,IF(VLOOKUP($F5,Assumptions!$A$5:$C$7,2,FALSE)="ACTUAL",DAY(EOMONTH($D5,0))-DAY($D5)+1,MAX(0,VLOOKUP($F5,Assumptions!$A$5:$C$7,3,FALSE)-MIN(DAY($D5),VLOOKUP($F5,Assumptions!$A$5:$C$7,3,FALSE))+1)))),"")) | I5: =IF(OR(NOT(ISNUMBER($E5)),NOT(ISNUMBER($H5)),$F5=""),"",IFERROR(IF(VLOOKUP($F5,Assumptions!$A$5:$C$7,2,FALSE)="NONE",0,ROUND($E5*$H5/IF(VLOOKUP($F5,Assumptions!$A$5:$C$7,2,FALSE)="ACTUAL",DAY(EOMONTH($D5,0)),VLOOKUP($F5,Assumptions!$A$5:$C$7,3,FALSE)),2)),"")) | J5: Yes | K5: =IF(OR(NOT(ISNUMBER($E5)),$J5=""),"",IF($J5="Yes",ROUND($E5,2),0)) | L5: 1850 | M5: Fictional key setup | N5: 150 | O5: 100 | P5: =IF(OR($A5="",NOT(ISNUMBER($I5)),NOT(ISNUMBER($K5)),NOT(OR($L5="",ISNUMBER($L5))),NOT(OR($N5="",ISNUMBER($N5))),NOT(OR($O5="",ISNUMBER($O5)))),"",IFERROR(MAX(0,ROUND(SUM($I5,$K5,$L5,$N5)-IF($O5="",0,$O5),2)),"")) | Q5: 1000 | R5: =IF($P5="","",IF(NOT(OR($Q5="",ISNUMBER($Q5))),"",IFERROR(MAX(0,ROUND($P5-IF($Q5="",0,$Q5),2)),""))) | S5: Tenant | T5: Pending Review | U5: =IF(COUNTA($A5:$G5,$J5,$L5:$O5,$Q5,$S5:$T5)=0,"",IF(OR($A5="",$B5="",$C5="",$D5="",$E5="",$F5="",$J5="",$S5="",$T5=""),"Check required inputs",IF(COUNTIF($A$5:$A$104,$A5)>1,"Duplicate tenancy ID",IF(OR(NOT(ISNUMBER($D5)),NOT(ISNUMBER($E5)),AND($G5<>"",NOT(ISNUMBER($G5))),AND($L5<>"",NOT(ISNUMBER($L5))),AND($N5<>"",NOT(ISNUMBER($N5))),AND($O5<>"",NOT(ISNUMBER($O5))),AND($Q5<>"",NOT(ISNUMBER($Q5)))),"Check date or amount entries",IF(OR($D5<Assumptions!$F$5,$D5>Assumptions!$F$6),"Check move-in date",IF(OR(AND(ISNUMBER($E5),$E5>Assumptions!$F$7),AND(ISNUMBER($L5),$L5>Assumptions!$F$7),AND(ISNUMBER($N5),$N5>Assumptions!$F$7),AND(ISNUMBER($O5),$O5>Assumptions!$F$7),AND(ISNUMBER($Q5),$Q5>Assumptions!$F$7)),"Check amount limit",IF(AND(ISNUMBER($N5),$N5>0,$M5=""),"Describe manager-entered charge",IF(AND(ISNUMBER($H5),$H5>IFERROR(IF(VLOOKUP($F5,Assumptions!$A$5:$C$7,2,FALSE)="ACTUAL",DAY(EOMONTH($D5,0)),VLOOKUP($F5,Assumptions!$A$5:$C$7,3,FALSE)),Assumptions!$F$8)),"Check prorated days",IF(OR($H5="",$I5="",$K5="",$P5=""),"Check calculation settings",IF($T5="Canceled","Canceled: verify amounts",IF(AND($T5="Complete",$R5>0),"Complete status has balance",IF(AND(ISNUMBER($P5),ISNUMBER($Q5),$Q5>$P5),"Received exceeds total",IF(AND(ISNUMBER($D5),$D5<TODAY(),$R5>0,$T5<>"Canceled"),"Past move-in with balance",""))))))))))))) | X5: ="" | Z5: ="" | AA5: =Assumptions!C14 | AB5: =Assumptions!F8
A6: FICTIONAL-TEN-002 | B6: Imaginary Cedar Court | C6: Sample-2B | D6: 46296 | E6: 2200 | F6: No Proration | H6: =IF(OR($D6="",$F6=""),"",IFERROR(IF(VLOOKUP($F6,Assumptions!$A$5:$C$7,2,FALSE)="NONE",0,IF($G6<>"",$G6,IF(VLOOKUP($F6,Assumptions!$A$5:$C$7,2,FALSE)="ACTUAL",DAY(EOMONTH($D6,0))-DAY($D6)+1,MAX(0,VLOOKUP($F6,Assumptions!$A$5:$C$7,3,FALSE)-MIN(DAY($D6),VLOOKUP($F6,Assumptions!$A$5:$C$7,3,FALSE))+1)))),"")) | I6: =IF(OR(NOT(ISNUMBER($E6)),NOT(ISNUMBER($H6)),$F6=""),"",IFERROR(IF(VLOOKUP($F6,Assumptions!$A$5:$C$7,2,FALSE)="NONE",0,ROUND($E6*$H6/IF(VLOOKUP($F6,Assumptions!$A$5:$C$7,2,FALSE)="ACTUAL",DAY(EOMONTH($D6,0)),VLOOKUP($F6,Assumptions!$A$5:$C$7,3,FALSE)),2)),"")) | J6: Yes | K6: =IF(OR(NOT(ISNUMBER($E6)),$J6=""),"",IF($J6="Yes",ROUND($E6,2),0)) | L6: 2200 | M6: Fictional elevator reservation | N6: 75 | O6: 0 | P6: =IF(OR($A6="",NOT(ISNUMBER($I6)),NOT(ISNUMBER($K6)),NOT(OR($L6="",ISNUMBER($L6))),NOT(OR($N6="",ISNUMBER($N6))),NOT(OR($O6="",ISNUMBER($O6)))),"",IFERROR(MAX(0,ROUND(SUM($I6,$K6,$L6,$N6)-IF($O6="",0,$O6),2)),"")) | Q6: 4475 | R6: =IF($P6="","",IF(NOT(OR($Q6="",ISNUMBER($Q6))),"",IFERROR(MAX(0,ROUND($P6-IF($Q6="",0,$Q6),2)),""))) | S6: Tenant | T6: Complete | U6: =IF(COUNTA($A6:$G6,$J6,$L6:$O6,$Q6,$S6:$T6)=0,"",IF(OR($A6="",$B6="",$C6="",$D6="",$E6="",$F6="",$J6="",$S6="",$T6=""),"Check required inputs",IF(COUNTIF($A$5:$A$104,$A6)>1,"Duplicate tenancy ID",IF(OR(NOT(ISNUMBER($D6)),NOT(ISNUMBER($E6)),AND($G6<>"",NOT(ISNUMBER($G6))),AND($L6<>"",NOT(ISNUMBER($L6))),AND($N6<>"",NOT(ISNUMBER($N6))),AND($O6<>"",NOT(ISNUMBER($O6))),AND($Q6<>"",NOT(ISNUMBER($Q6)))),"Check date or amount entries",IF(OR($D6<Assumptions!$F$5,$D6>Assumptions!$F$6),"Check move-in date",IF(OR(AND(ISNUMBER($E6),$E6>Assumptions!$F$7),AND(ISNUMBER($L6),$L6>Assumptions!$F$7),AND(ISNUMBER($N6),$N6>Assumptions!$F$7),AND(ISNUMBER($O6),$O6>Assumptions!$F$7),AND(ISNUMBER($Q6),$Q6>Assumptions!$F$7)),"Check amount limit",IF(AND(ISNUMBER($N6),$N6>0,$M6=""),"Describe manager-entered charge",IF(AND(ISNUMBER($H6),$H6>IFERROR(IF(VLOOKUP($F6,Assumptions!$A$5:$C$7,2,FALSE)="ACTUAL",DAY(EOMONTH($D6,0)),VLOOKUP($F6,Assumptions!$A$5:$C$7,3,FALSE)),Assumptions!$F$8)),"Check prorated days",IF(OR($H6="",$I6="",$K6="",$P6=""),"Check calculation settings",IF($T6="Canceled","Canceled: verify amounts",IF(AND($T6="Complete",$R6>0),"Complete status has balance",IF(AND(ISNUMBER($P6),ISNUMBER($Q6),$Q6>$P6),"Received exceeds total",IF(AND(ISNUMBER($D6),$D6<TODAY(),$R6>0,$T6<>"Canceled"),"Past move-in with balance",""))))))))))))) | X6: ="" | Z6: ="" | AA6: =Assumptions!C15 | AB6: =""
A7: FICTIONAL-TEN-003 | B7: Example Juniper Homes | C7: Demo-3C | D7: 46285 | E7: 1650 | F7: 30-Day Month | H7: =IF(OR($D7="",$F7=""),"",IFERROR(IF(VLOOKUP($F7,Assumptions!$A$5:$C$7,2,FALSE)="NONE",0,IF($G7<>"",$G7,IF(VLOOKUP($F7,Assumptions!$A$5:$C$7,2,FALSE)="ACTUAL",DAY(EOMONTH($D7,0))-DAY($D7)+1,MAX(0,VLOOKUP($F7,Assumptions!$A$5:$C$7,3,FALSE)-MIN(DAY($D7),VLOOKUP($F7,Assumptions!$A$5:$C$7,3,FALSE))+1)))),"")) | I7: =IF(OR(NOT(ISNUMBER($E7)),NOT(ISNUMBER($H7)),$F7=""),"",IFERROR(IF(VLOOKUP($F7,Assumptions!$A$5:$C$7,2,FALSE)="NONE",0,ROUND($E7*$H7/IF(VLOOKUP($F7,Assumptions!$A$5:$C$7,2,FALSE)="ACTUAL",DAY(EOMONTH($D7,0)),VLOOKUP($F7,Assumptions!$A$5:$C$7,3,FALSE)),2)),"")) | J7: Yes | K7: =IF(OR(NOT(ISNUMBER($E7)),$J7=""),"",IF($J7="Yes",ROUND($E7,2),0)) | L7: 1000 | M7: Fictional move-in coordination | N7: 50 | O7: 75 | P7: =IF(OR($A7="",NOT(ISNUMBER($I7)),NOT(ISNUMBER($K7)),NOT(OR($L7="",ISNUMBER($L7))),NOT(OR($N7="",ISNUMBER($N7))),NOT(OR($O7="",ISNUMBER($O7)))),"",IFERROR(MAX(0,ROUND(SUM($I7,$K7,$L7,$N7)-IF($O7="",0,$O7),2)),"")) | Q7: 500 | R7: =IF($P7="","",IF(NOT(OR($Q7="",ISNUMBER($Q7))),"",IFERROR(MAX(0,ROUND($P7-IF($Q7="",0,$Q7),2)),""))) | S7: Tenant | T7: Pending Review | U7: =IF(COUNTA($A7:$G7,$J7,$L7:$O7,$Q7,$S7:$T7)=0,"",IF(OR($A7="",$B7="",$C7="",$D7="",$E7="",$F7="",$J7="",$S7="",$T7=""),"Check required inputs",IF(COUNTIF($A$5:$A$104,$A7)>1,"Duplicate tenancy ID",IF(OR(NOT(ISNUMBER($D7)),NOT(ISNUMBER($E7)),AND($G7<>"",NOT(ISNUMBER($G7))),AND($L7<>"",NOT(ISNUMBER($L7))),AND($N7<>"",NOT(ISNUMBER($N7))),AND($O7<>"",NOT(ISNUMBER($O7))),AND($Q7<>"",NOT(ISNUMBER($Q7)))),"Check date or amount entries",IF(OR($D7<Assumptions!$F$5,$D7>Assumptions!$F$6),"Check move-in date",IF(OR(AND(ISNUMBER($E7),$E7>Assumptions!$F$7),AND(ISNUMBER($L7),$L7>Assumptions!$F$7),AND(ISNUMBER($N7),$N7>Assumptions!$F$7),AND(ISNUMBER($O7),$O7>Assumptions!$F$7),AND(ISNUMBER($Q7),$Q7>Assumptions!$F$7)),"Check amount limit",IF(AND(ISNUMBER($N7),$N7>0,$M7=""),"Describe manager-entered charge",IF(AND(ISNUMBER($H7),$H7>IFERROR(IF(VLOOKUP($F7,Assumptions!$A$5:$C$7,2,FALSE)="ACTUAL",DAY(EOMONTH($D7,0)),VLOOKUP($F7,Assumptions!$A$5:$C$7,3,FALSE)),Assumptions!$F$8)),"Check prorated days",IF(OR($H7="",$I7="",$K7="",$P7=""),"Check calculation settings",IF($T7="Canceled","Canceled: verify amounts",IF(AND($T7="Complete",$R7>0),"Complete status has balance",IF(AND(ISNUMBER($P7),ISNUMBER($Q7),$Q7>$P7),"Received exceeds total",IF(AND(ISNUMBER($D7),$D7<TODAY(),$R7>0,$T7<>"Canceled"),"Past move-in with balance",""))))))))))))) | X7: ="" | Z7: ="" | AA7: ="" | AB7: =""
A8: FICTIONAL-TEN-004 | B8: Fictional Maple Landing | C8: Sample-4D | D8: 46295 | E8: 2400 | F8: 30-Day Month | H8: =IF(OR($D8="",$F8=""),"",IFERROR(IF(VLOOKUP($F8,Assumptions!$A$5:$C$7,2,FALSE)="NONE",0,IF($G8<>"",$G8,IF(VLOOKUP($F8,Assumptions!$A$5:$C$7,2,FALSE)="ACTUAL",DAY(EOMONTH($D8,0))-DAY($D8)+1,MAX(0,VLOOKUP($F8,Assumptions!$A$5:$C$7,3,FALSE)-MIN(DAY($D8),VLOOKUP($F8,Assumptions!$A$5:$C$7,3,FALSE))+1)))),"")) | I8: =IF(OR(NOT(ISNUMBER($E8)),NOT(ISNUMBER($H8)),$F8=""),"",IFERROR(IF(VLOOKUP($F8,Assumptions!$A$5:$C$7,2,FALSE)="NONE",0,ROUND($E8*$H8/IF(VLOOKUP($F8,Assumptions!$A$5:$C$7,2,FALSE)="ACTUAL",DAY(EOMONTH($D8,0)),VLOOKUP($F8,Assumptions!$A$5:$C$7,3,FALSE)),2)),"")) | J8: No | K8: =IF(OR(NOT(ISNUMBER($E8)),$J8=""),"",IF($J8="Yes",ROUND($E8,2),0)) | L8: 2400 | M8: Fictional no-charge example | N8: 0 | O8: 0 | P8: =IF(OR($A8="",NOT(ISNUMBER($I8)),NOT(ISNUMBER($K8)),NOT(OR($L8="",ISNUMBER($L8))),NOT(OR($N8="",ISNUMBER($N8))),NOT(OR($O8="",ISNUMBER($O8)))),"",IFERROR(MAX(0,ROUND(SUM($I8,$K8,$L8,$N8)-IF($O8="",0,$O8),2)),"")) | Q8: 0 | R8: =IF($P8="","",IF(NOT(OR($Q8="",ISNUMBER($Q8))),"",IFERROR(MAX(0,ROUND($P8-IF($Q8="",0,$Q8),2)),""))) | S8: Tenant | T8: Planned | U8: =IF(COUNTA($A8:$G8,$J8,$L8:$O8,$Q8,$S8:$T8)=0,"",IF(OR($A8="",$B8="",$C8="",$D8="",$E8="",$F8="",$J8="",$S8="",$T8=""),"Check required inputs",IF(COUNTIF($A$5:$A$104,$A8)>1,"Duplicate tenancy ID",IF(OR(NOT(ISNUMBER($D8)),NOT(ISNUMBER($E8)),AND($G8<>"",NOT(ISNUMBER($G8))),AND($L8<>"",NOT(ISNUMBER($L8))),AND($N8<>"",NOT(ISNUMBER($N8))),AND($O8<>"",NOT(ISNUMBER($O8))),AND($Q8<>"",NOT(ISNUMBER($Q8)))),"Check date or amount entries",IF(OR($D8<Assumptions!$F$5,$D8>Assumptions!$F$6),"Check move-in date",IF(OR(AND(ISNUMBER($E8),$E8>Assumptions!$F$7),AND(ISNUMBER($L8),$L8>Assumptions!$F$7),AND(ISNUMBER($N8),$N8>Assumptions!$F$7),AND(ISNUMBER($O8),$O8>Assumptions!$F$7),AND(ISNUMBER($Q8),$Q8>Assumptions!$F$7)),"Check amount limit",IF(AND(ISNUMBER($N8),$N8>0,$M8=""),"Describe manager-entered charge",IF(AND(ISNUMBER($H8),$H8>IFERROR(IF(VLOOKUP($F8,Assumptions!$A$5:$C$7,2,FALSE)="ACTUAL",DAY(EOMONTH($D8,0)),VLOOKUP($F8,Assumptions!$A$5:$C$7,3,FALSE)),Assumptions!$F$8)),"Check prorated days",IF(OR($H8="",$I8="",$K8="",$P8=""),"Check calculation settings",IF($T8="Canceled","Canceled: verify amounts",IF(AND($T8="Complete",$R8>0),"Complete status has balance",IF(AND(ISNUMBER($P8),ISNUMBER($Q8),$Q8>$P8),"Received exceeds total",IF(AND(ISNUMBER($D8),$D8<TODAY(),$R8>0,$T8<>"Canceled"),"Past move-in with balance",""))))))))))))) | X8: ="" | Z8: ="" | AA8: ="" | AB8: =""
A9: FICTIONAL-TEN-005 | B9: Imaginary Willow Row | C9: Demo-5E | D9: 46341 | E9: 1950 | F9: Actual Days in Move-In Month | H9: =IF(OR($D9="",$F9=""),"",IFERROR(IF(VLOOKUP($F9,Assumptions!$A$5:$C$7,2,FALSE)="NONE",0,IF($G9<>"",$G9,IF(VLOOKUP($F9,Assumptions!$A$5:$C$7,2,FALSE)="ACTUAL",DAY(EOMONTH($D9,0))-DAY($D9)+1,MAX(0,VLOOKUP($F9,Assumptions!$A$5:$C$7,3,FALSE)-MIN(DAY($D9),VLOOKUP($F9,Assumptions!$A$5:$C$7,3,FALSE))+1)))),"")) | I9: =IF(OR(NOT(ISNUMBER($E9)),NOT(ISNUMBER($H9)),$F9=""),"",IFERROR(IF(VLOOKUP($F9,Assumptions!$A$5:$C$7,2,FALSE)="NONE",0,ROUND($E9*$H9/IF(VLOOKUP($F9,Assumptions!$A$5:$C$7,2,FALSE)="ACTUAL",DAY(EOMONTH($D9,0)),VLOOKUP($F9,Assumptions!$A$5:$C$7,3,FALSE)),2)),"")) | J9: Yes | K9: =IF(OR(NOT(ISNUMBER($E9)),$J9=""),"",IF($J9="Yes",ROUND($E9,2),0)) | L9: 1950 | M9: Fictional access setup | N9: 125 | O9: 0 | P9: =IF(OR($A9="",NOT(ISNUMBER($I9)),NOT(ISNUMBER($K9)),NOT(OR($L9="",ISNUMBER($L9))),NOT(OR($N9="",ISNUMBER($N9))),NOT(OR($O9="",ISNUMBER($O9)))),"",IFERROR(MAX(0,ROUND(SUM($I9,$K9,$L9,$N9)-IF($O9="",0,$O9),2)),"")) | Q9: 2000 | R9: =IF($P9="","",IF(NOT(OR($Q9="",ISNUMBER($Q9))),"",IFERROR(MAX(0,ROUND($P9-IF($Q9="",0,$Q9),2)),""))) | S9: Tenant | T9: Ready | U9: =IF(COUNTA($A9:$G9,$J9,$L9:$O9,$Q9,$S9:$T9)=0,"",IF(OR($A9="",$B9="",$C9="",$D9="",$E9="",$F9="",$J9="",$S9="",$T9=""),"Check required inputs",IF(COUNTIF($A$5:$A$104,$A9)>1,"Duplicate tenancy ID",IF(OR(NOT(ISNUMBER($D9)),NOT(ISNUMBER($E9)),AND($G9<>"",NOT(ISNUMBER($G9))),AND($L9<>"",NOT(ISNUMBER($L9))),AND($N9<>"",NOT(ISNUMBER($N9))),AND($O9<>"",NOT(ISNUMBER($O9))),AND($Q9<>"",NOT(ISNUMBER($Q9)))),"Check date or amount entries",IF(OR($D9<Assumptions!$F$5,$D9>Assumptions!$F$6),"Check move-in date",IF(OR(AND(ISNUMBER($E9),$E9>Assumptions!$F$7),AND(ISNUMBER($L9),$L9>Assumptions!$F$7),AND(ISNUMBER($N9),$N9>Assumptions!$F$7),AND(ISNUMBER($O9),$O9>Assumptions!$F$7),AND(ISNUMBER($Q9),$Q9>Assumptions!$F$7)),"Check amount limit",IF(AND(ISNUMBER($N9),$N9>0,$M9=""),"Describe manager-entered charge",IF(AND(ISNUMBER($H9),$H9>IFERROR(IF(VLOOKUP($F9,Assumptions!$A$5:$C$7,2,FALSE)="ACTUAL",DAY(EOMONTH($D9,0)),VLOOKUP($F9,Assumptions!$A$5:$C$7,3,FALSE)),Assumptions!$F$8)),"Check prorated days",IF(OR($H9="",$I9="",$K9="",$P9=""),"Check calculation settings",IF($T9="Canceled","Canceled: verify amounts",IF(AND($T9="Complete",$R9>0),"Complete status has balance",IF(AND(ISNUMBER($P9),ISNUMBER($Q9),$Q9>$P9),"Received exceeds total",IF(AND(ISNUMBER($D9),$D9<TODAY(),$R9>0,$T9<>"Canceled"),"Past move-in with balance",""))))))))))))) | X9: ="" | Z9: ="" | AA9: ="" | AB9: =""
A10: FICTIONAL-TEN-006 | B10: Fictional Bluebird Place | C10: Sample-6F | D10: 46357 | E10: 1800 | F10: No Proration | H10: =IF(OR($D10="",$F10=""),"",IFERROR(IF(VLOOKUP($F10,Assumptions!$A$5:$C$7,2,FALSE)="NONE",0,IF($G10<>"",$G10,IF(VLOOKUP($F10,Assumptions!$A$5:$C$7,2,FALSE)="ACTUAL",DAY(EOMONTH($D10,0))-DAY($D10)+1,MAX(0,VLOOKUP($F10,Assumptions!$A$5:$C$7,3,FALSE)-MIN(DAY($D10),VLOOKUP($F10,Assumptions!$A$5:$C$7,3,FALSE))+1)))),"")) | I10: =IF(OR(NOT(ISNUMBER($E10)),NOT(ISNUMBER($H10)),$F10=""),"",IFERROR(IF(VLOOKUP($F10,Assumptions!$A$5:$C$7,2,FALSE)="NONE",0,ROUND($E10*$H10/IF(VLOOKUP($F10,Assumptions!$A$5:$C$7,2,FALSE)="ACTUAL",DAY(EOMONTH($D10,0)),VLOOKUP($F10,Assumptions!$A$5:$C$7,3,FALSE)),2)),"")) | J10: Yes | K10: =IF(OR(NOT(ISNUMBER($E10)),$J10=""),"",IF($J10="Yes",ROUND($E10,2),0)) | L10: 900 | M10: Fictional utility setup allowance | N10: 200 | O10: 100 | P10: =IF(OR($A10="",NOT(ISNUMBER($I10)),NOT(ISNUMBER($K10)),NOT(OR($L10="",ISNUMBER($L10))),NOT(OR($N10="",ISNUMBER($N10))),NOT(OR($O10="",ISNUMBER($O10)))),"",IFERROR(MAX(0,ROUND(SUM($I10,$K10,$L10,$N10)-IF($O10="",0,$O10),2)),"")) | Q10: 2800 | R10: =IF($P10="","",IF(NOT(OR($Q10="",ISNUMBER($Q10))),"",IFERROR(MAX(0,ROUND($P10-IF($Q10="",0,$Q10),2)),""))) | S10: Tenant | T10: Complete | U10: =IF(COUNTA($A10:$G10,$J10,$L10:$O10,$Q10,$S10:$T10)=0,"",IF(OR($A10="",$B10="",$C10="",$D10="",$E10="",$F10="",$J10="",$S10="",$T10=""),"Check required inputs",IF(COUNTIF($A$5:$A$104,$A10)>1,"Duplicate tenancy ID",IF(OR(NOT(ISNUMBER($D10)),NOT(ISNUMBER($E10)),AND($G10<>"",NOT(ISNUMBER($G10))),AND($L10<>"",NOT(ISNUMBER($L10))),AND($N10<>"",NOT(ISNUMBER($N10))),AND($O10<>"",NOT(ISNUMBER($O10))),AND($Q10<>"",NOT(ISNUMBER($Q10)))),"Check date or amount entries",IF(OR($D10<Assumptions!$F$5,$D10>Assumptions!$F$6),"Check move-in date",IF(OR(AND(ISNUMBER($E10),$E10>Assumptions!$F$7),AND(ISNUMBER($L10),$L10>Assumptions!$F$7),AND(ISNUMBER($N10),$N10>Assumptions!$F$7),AND(ISNUMBER($O10),$O10>Assumptions!$F$7),AND(ISNUMBER($Q10),$Q10>Assumptions!$F$7)),"Check amount limit",IF(AND(ISNUMBER($N10),$N10>0,$M10=""),"Describe manager-entered charge",IF(AND(ISNUMBER($H10),$H10>IFERROR(IF(VLOOKUP($F10,Assumptions!$A$5:$C$7,2,FALSE)="ACTUAL",DAY(EOMONTH($D10,0)),VLOOKUP($F10,Assumptions!$A$5:$C$7,3,FALSE)),Assumptions!$F$8)),"Check prorated days",IF(OR($H10="",$I10="",$K10="",$P10=""),"Check calculation settings",IF($T10="Canceled","Canceled: verify amounts",IF(AND($T10="Complete",$R10>0),"Complete status has balance",IF(AND(ISNUMBER($P10),ISNUMBER($Q10),$Q10>$P10),"Received exceeds total",IF(AND(ISNUMBER($D10),$D10<TODAY(),$R10>0,$T10<>"Canceled"),"Past move-in with balance",""))))))))))))) | X10: ="" | Z10: ="" | AA10: ="" | AB10: =""
A11: FICTIONAL-TEN-007 | B11: Imaginary Lantern Apartments | C11: Demo-7G | D11: 46275 | E11: 2100 | F11: 30-Day Month | G11: 21 | H11: =IF(OR($D11="",$F11=""),"",IFERROR(IF(VLOOKUP($F11,Assumptions!$A$5:$C$7,2,FALSE)="NONE",0,IF($G11<>"",$G11,IF(VLOOKUP($F11,Assumptions!$A$5:$C$7,2,FALSE)="ACTUAL",DAY(EOMONTH($D11,0))-DAY($D11)+1,MAX(0,VLOOKUP($F11,Assumptions!$A$5:$C$7,3,FALSE)-MIN(DAY($D11),VLOOKUP($F11,Assumptions!$A$5:$C$7,3,FALSE))+1)))),"")) | I11: =IF(OR(NOT(ISNUMBER($E11)),NOT(ISNUMBER($H11)),$F11=""),"",IFERROR(IF(VLOOKUP($F11,Assumptions!$A$5:$C$7,2,FALSE)="NONE",0,ROUND($E11*$H11/IF(VLOOKUP($F11,Assumptions!$A$5:$C$7,2,FALSE)="ACTUAL",DAY(EOMONTH($D11,0)),VLOOKUP($F11,Assumptions!$A$5:$C$7,3,FALSE)),2)),"")) | J11: No | K11: =IF(OR(NOT(ISNUMBER($E11)),$J11=""),"",IF($J11="Yes",ROUND($E11,2),0)) | L11: 2100 | M11: Fictional lock preparation | N11: 80 | O11: 0 | P11: =IF(OR($A11="",NOT(ISNUMBER($I11)),NOT(ISNUMBER($K11)),NOT(OR($L11="",ISNUMBER($L11))),NOT(OR($N11="",ISNUMBER($N11))),NOT(OR($O11="",ISNUMBER($O11)))),"",IFERROR(MAX(0,ROUND(SUM($I11,$K11,$L11,$N11)-IF($O11="",0,$O11),2)),"")) | Q11: 3650 | R11: =IF($P11="","",IF(NOT(OR($Q11="",ISNUMBER($Q11))),"",IFERROR(MAX(0,ROUND($P11-IF($Q11="",0,$Q11),2)),""))) | S11: Tenant | T11: Complete | U11: =IF(COUNTA($A11:$G11,$J11,$L11:$O11,$Q11,$S11:$T11)=0,"",IF(OR($A11="",$B11="",$C11="",$D11="",$E11="",$F11="",$J11="",$S11="",$T11=""),"Check required inputs",IF(COUNTIF($A$5:$A$104,$A11)>1,"Duplicate tenancy ID",IF(OR(NOT(ISNUMBER($D11)),NOT(ISNUMBER($E11)),AND($G11<>"",NOT(ISNUMBER($G11))),AND($L11<>"",NOT(ISNUMBER($L11))),AND($N11<>"",NOT(ISNUMBER($N11))),AND($O11<>"",NOT(ISNUMBER($O11))),AND($Q11<>"",NOT(ISNUMBER($Q11)))),"Check date or amount entries",IF(OR($D11<Assumptions!$F$5,$D11>Assumptions!$F$6),"Check move-in date",IF(OR(AND(ISNUMBER($E11),$E11>Assumptions!$F$7),AND(ISNUMBER($L11),$L11>Assumptions!$F$7),AND(ISNUMBER($N11),$N11>Assumptions!$F$7),AND(ISNUMBER($O11),$O11>Assumptions!$F$7),AND(ISNUMBER($Q11),$Q11>Assumptions!$F$7)),"Check amount limit",IF(AND(ISNUMBER($N11),$N11>0,$M11=""),"Describe manager-entered charge",IF(AND(ISNUMBER($H11),$H11>IFERROR(IF(VLOOKUP($F11,Assumptions!$A$5:$C$7,2,FALSE)="ACTUAL",DAY(EOMONTH($D11,0)),VLOOKUP($F11,Assumptions!$A$5:$C$7,3,FALSE)),Assumptions!$F$8)),"Check prorated days",IF(OR($H11="",$I11="",$K11="",$P11=""),"Check calculation settings",IF($T11="Canceled","Canceled: verify amounts",IF(AND($T11="Complete",$R11>0),"Complete status has balance",IF(AND(ISNUMBER($P11),ISNUMBER($Q11),$Q11>$P11),"Received exceeds total",IF(AND(ISNUMBER($D11),$D11<TODAY(),$R11>0,$T11<>"Canceled"),"Past move-in with balance",""))))))))))))) | X11: ="" | Z11: ="" | AA11: ="" | AB11: =""
A12: FICTIONAL-TEN-008 | B12: Example Birch Terrace | C12: Sample-8H | D12: 46326 | E12: 1550 | F12: Actual Days in Move-In Month | H12: =IF(OR($D12="",$F12=""),"",IFERROR(IF(VLOOKUP($F12,Assumptions!$A$5:$C$7,2,FALSE)="NONE",0,IF($G12<>"",$G12,IF(VLOOKUP($F12,Assumptions!$A$5:$C$7,2,FALSE)="ACTUAL",DAY(EOMONTH($D12,0))-DAY($D12)+1,MAX(0,VLOOKUP($F12,Assumptions!$A$5:$C$7,3,FALSE)-MIN(DAY($D12),VLOOKUP($F12,Assumptions!$A$5:$C$7,3,FALSE))+1)))),"")) | I12: =IF(OR(NOT(ISNUMBER($E12)),NOT(ISNUMBER($H12)),$F12=""),"",IFERROR(IF(VLOOKUP($F12,Assumptions!$A$5:$C$7,2,FALSE)="NONE",0,ROUND($E12*$H12/IF(VLOOKUP($F12,Assumptions!$A$5:$C$7,2,FALSE)="ACTUAL",DAY(EOMONTH($D12,0)),VLOOKUP($F12,Assumptions!$A$5:$C$7,3,FALSE)),2)),"")) | J12: Yes | K12: =IF(OR(NOT(ISNUMBER($E12)),$J12=""),"",IF($J12="Yes",ROUND($E12,2),0)) | L12: 1550 | M12: Fictional welcome packet credit | N12: 0 | O12: 50 | P12: =IF(OR($A12="",NOT(ISNUMBER($I12)),NOT(ISNUMBER($K12)),NOT(OR($L12="",ISNUMBER($L12))),NOT(OR($N12="",ISNUMBER($N12))),NOT(OR($O12="",ISNUMBER($O12)))),"",IFERROR(MAX(0,ROUND(SUM($I12,$K12,$L12,$N12)-IF($O12="",0,$O12),2)),"")) | Q12: 0 | R12: =IF($P12="","",IF(NOT(OR($Q12="",ISNUMBER($Q12))),"",IFERROR(MAX(0,ROUND($P12-IF($Q12="",0,$Q12),2)),""))) | S12: Owner | T12: Planned | U12: =IF(COUNTA($A12:$G12,$J12,$L12:$O12,$Q12,$S12:$T12)=0,"",IF(OR($A12="",$B12="",$C12="",$D12="",$E12="",$F12="",$J12="",$S12="",$T12=""),"Check required inputs",IF(COUNTIF($A$5:$A$104,$A12)>1,"Duplicate tenancy ID",IF(OR(NOT(ISNUMBER($D12)),NOT(ISNUMBER($E12)),AND($G12<>"",NOT(ISNUMBER($G12))),AND($L12<>"",NOT(ISNUMBER($L12))),AND($N12<>"",NOT(ISNUMBER($N12))),AND($O12<>"",NOT(ISNUMBER($O12))),AND($Q12<>"",NOT(ISNUMBER($Q12)))),"Check date or amount entries",IF(OR($D12<Assumptions!$F$5,$D12>Assumptions!$F$6),"Check move-in date",IF(OR(AND(ISNUMBER($E12),$E12>Assumptions!$F$7),AND(ISNUMBER($L12),$L12>Assumptions!$F$7),AND(ISNUMBER($N12),$N12>Assumptions!$F$7),AND(ISNUMBER($O12),$O12>Assumptions!$F$7),AND(ISNUMBER($Q12),$Q12>Assumptions!$F$7)),"Check amount limit",IF(AND(ISNUMBER($N12),$N12>0,$M12=""),"Describe manager-entered charge",IF(AND(ISNUMBER($H12),$H12>IFERROR(IF(VLOOKUP($F12,Assumptions!$A$5:$C$7,2,FALSE)="ACTUAL",DAY(EOMONTH($D12,0)),VLOOKUP($F12,Assumptions!$A$5:$C$7,3,FALSE)),Assumptions!$F$8)),"Check prorated days",IF(OR($H12="",$I12="",$K12="",$P12=""),"Check calculation settings",IF($T12="Canceled","Canceled: verify amounts",IF(AND($T12="Complete",$R12>0),"Complete status has balance",IF(AND(ISNUMBER($P12),ISNUMBER($Q12),$Q12>$P12),"Received exceeds total",IF(AND(ISNUMBER($D12),$D12<TODAY(),$R12>0,$T12<>"Canceled"),"Past move-in with balance",""))))))))))))) | X12: ="" | Z12: ="" | AA12: ="" | AB12: =""
A13: FICTIONAL-TEN-009 | B13: Fictional Copper Court | C13: Demo-9J | D13: 46300 | E13: 1750 | F13: Actual Days in Move-In Month | H13: =IF(OR($D13="",$F13=""),"",IFERROR(IF(VLOOKUP($F13,Assumptions!$A$5:$C$7,2,FALSE)="NONE",0,IF($G13<>"",$G13,IF(VLOOKUP($F13,Assumptions!$A$5:$C$7,2,FALSE)="ACTUAL",DAY(EOMONTH($D13,0))-DAY($D13)+1,MAX(0,VLOOKUP($F13,Assumptions!$A$5:$C$7,3,FALSE)-MIN(DAY($D13),VLOOKUP($F13,Assumptions!$A$5:$C$7,3,FALSE))+1)))),"")) | I13: =IF(OR(NOT(ISNUMBER($E13)),NOT(ISNUMBER($H13)),$F13=""),"",IFERROR(IF(VLOOKUP($F13,Assumptions!$A$5:$C$7,2,FALSE)="NONE",0,ROUND($E13*$H13/IF(VLOOKUP($F13,Assumptions!$A$5:$C$7,2,FALSE)="ACTUAL",DAY(EOMONTH($D13,0)),VLOOKUP($F13,Assumptions!$A$5:$C$7,3,FALSE)),2)),"")) | J13: Yes | K13: =IF(OR(NOT(ISNUMBER($E13)),$J13=""),"",IF($J13="Yes",ROUND($E13,2),0)) | L13: 1750 | M13: Fictional canceled-plan charge | N13: 25 | O13: 0 | P13: =IF(OR($A13="",NOT(ISNUMBER($I13)),NOT(ISNUMBER($K13)),NOT(OR($L13="",ISNUMBER($L13))),NOT(OR($N13="",ISNUMBER($N13))),NOT(OR($O13="",ISNUMBER($O13)))),"",IFERROR(MAX(0,ROUND(SUM($I13,$K13,$L13,$N13)-IF($O13="",0,$O13),2)),"")) | Q13: 0 | R13: =IF($P13="","",IF(NOT(OR($Q13="",ISNUMBER($Q13))),"",IFERROR(MAX(0,ROUND($P13-IF($Q13="",0,$Q13),2)),""))) | S13: Manager | T13: Canceled | U13: =IF(COUNTA($A13:$G13,$J13,$L13:$O13,$Q13,$S13:$T13)=0,"",IF(OR($A13="",$B13="",$C13="",$D13="",$E13="",$F13="",$J13="",$S13="",$T13=""),"Check required inputs",IF(COUNTIF($A$5:$A$104,$A13)>1,"Duplicate tenancy ID",IF(OR(NOT(ISNUMBER($D13)),NOT(ISNUMBER($E13)),AND($G13<>"",NOT(ISNUMBER($G13))),AND($L13<>"",NOT(ISNUMBER($L13))),AND($N13<>"",NOT(ISNUMBER($N13))),AND($O13<>"",NOT(ISNUMBER($O13))),AND($Q13<>"",NOT(ISNUMBER($Q13)))),"Check date or amount entries",IF(OR($D13<Assumptions!$F$5,$D13>Assumptions!$F$6),"Check move-in date",IF(OR(AND(ISNUMBER($E13),$E13>Assumptions!$F$7),AND(ISNUMBER($L13),$L13>Assumptions!$F$7),AND(ISNUMBER($N13),$N13>Assumptions!$F$7),AND(ISNUMBER($O13),$O13>Assumptions!$F$7),AND(ISNUMBER($Q13),$Q13>Assumptions!$F$7)),"Check amount limit",IF(AND(ISNUMBER($N13),$N13>0,$M13=""),"Describe manager-entered charge",IF(AND(ISNUMBER($H13),$H13>IFERROR(IF(VLOOKUP($F13,Assumptions!$A$5:$C$7,2,FALSE)="ACTUAL",DAY(EOMONTH($D13,0)),VLOOKUP($F13,Assumptions!$A$5:$C$7,3,FALSE)),Assumptions!$F$8)),"Check prorated days",IF(OR($H13="",$I13="",$K13="",$P13=""),"Check calculation settings",IF($T13="Canceled","Canceled: verify amounts",IF(AND($T13="Complete",$R13>0),"Complete status has balance",IF(AND(ISNUMBER($P13),ISNUMBER($Q13),$Q13>$P13),"Received exceeds total",IF(AND(ISNUMBER($D13),$D13<TODAY(),$R13>0,$T13<>"Canceled"),"Past move-in with balance",""))))))))))))) | X13: ="" | Z13: ="" | AA13: ="" | AB13: =""
A14: FICTIONAL-BOUNDARY-010 | B14: Fictional Boundary Test House | C14: Sample-Max | D14: 46295 | E14: 1000 | F14: 30-Day Month | G14: 31 | H14: =IF(OR($D14="",$F14=""),"",IFERROR(IF(VLOOKUP($F14,Assumptions!$A$5:$C$7,2,FALSE)="NONE",0,IF($G14<>"",$G14,IF(VLOOKUP($F14,Assumptions!$A$5:$C$7,2,FALSE)="ACTUAL",DAY(EOMONTH($D14,0))-DAY($D14)+1,MAX(0,VLOOKUP($F14,Assumptions!$A$5:$C$7,3,FALSE)-MIN(DAY($D14),VLOOKUP($F14,Assumptions!$A$5:$C$7,3,FALSE))+1)))),"")) | I14: =IF(OR(NOT(ISNUMBER($E14)),NOT(ISNUMBER($H14)),$F14=""),"",IFERROR(IF(VLOOKUP($F14,Assumptions!$A$5:$C$7,2,FALSE)="NONE",0,ROUND($E14*$H14/IF(VLOOKUP($F14,Assumptions!$A$5:$C$7,2,FALSE)="ACTUAL",DAY(EOMONTH($D14,0)),VLOOKUP($F14,Assumptions!$A$5:$C$7,3,FALSE)),2)),"")) | J14: No | K14: =IF(OR(NOT(ISNUMBER($E14)),$J14=""),"",IF($J14="Yes",ROUND($E14,2),0)) | L14: 0 | M14: Fictional boundary-value test | N14: 0 | O14: 0 | P14: =IF(OR($A14="",NOT(ISNUMBER($I14)),NOT(ISNUMBER($K14)),NOT(OR($L14="",ISNUMBER($L14))),NOT(OR($N14="",ISNUMBER($N14))),NOT(OR($O14="",ISNUMBER($O14)))),"",IFERROR(MAX(0,ROUND(SUM($I14,$K14,$L14,$N14)-IF($O14="",0,$O14),2)),"")) | Q14: 0 | R14: =IF($P14="","",IF(NOT(OR($Q14="",ISNUMBER($Q14))),"",IFERROR(MAX(0,ROUND($P14-IF($Q14="",0,$Q14),2)),""))) | S14: Tenant | T14: Pending Review | U14: =IF(COUNTA($A14:$G14,$J14,$L14:$O14,$Q14,$S14:$T14)=0,"",IF(OR($A14="",$B14="",$C14="",$D14="",$E14="",$F14="",$J14="",$S14="",$T14=""),"Check required inputs",IF(COUNTIF($A$5:$A$104,$A14)>1,"Duplicate tenancy ID",IF(OR(NOT(ISNUMBER($D14)),NOT(ISNUMBER($E14)),AND($G14<>"",NOT(ISNUMBER($G14))),AND($L14<>"",NOT(ISNUMBER($L14))),AND($N14<>"",NOT(ISNUMBER($N14))),AND($O14<>"",NOT(ISNUMBER($O14))),AND($Q14<>"",NOT(ISNUMBER($Q14)))),"Check date or amount entries",IF(OR($D14<Assumptions!$F$5,$D14>Assumptions!$F$6),"Check move-in date",IF(OR(AND(ISNUMBER($E14),$E14>Assumptions!$F$7),AND(ISNUMBER($L14),$L14>Assumptions!$F$7),AND(ISNUMBER($N14),$N14>Assumptions!$F$7),AND(ISNUMBER($O14),$O14>Assumptions!$F$7),AND(ISNUMBER($Q14),$Q14>Assumptions!$F$7)),"Check amount limit",IF(AND(ISNUMBER($N14),$N14>0,$M14=""),"Describe manager-entered charge",IF(AND(ISNUMBER($H14),$H14>IFERROR(IF(VLOOKUP($F14,Assumptions!$A$5:$C$7,2,FALSE)="ACTUAL",DAY(EOMONTH($D14,0)),VLOOKUP($F14,Assumptions!$A$5:$C$7,3,FALSE)),Assumptions!$F$8)),"Check prorated days",IF(OR($H14="",$I14="",$K14="",$P14=""),"Check calculation settings",IF($T14="Canceled","Canceled: verify amounts",IF(AND($T14="Complete",$R14>0),"Complete status has balance",IF(AND(ISNUMBER($P14),ISNUMBER($Q14),$Q14>$P14),"Received exceeds total",IF(AND(ISNUMBER($D14),$D14<TODAY(),$R14>0,$T14<>"Canceled"),"Past move-in with balance",""))))))))))))) | X14: ="" | Z14: ="" | AA14: ="" | AB14: =""
H15: =IF(OR($D15="",$F15=""),"",IFERROR(IF(VLOOKUP($F15,Assumptions!$A$5:$C$7,2,FALSE)="NONE",0,IF($G15<>"",$G15,IF(VLOOKUP($F15,Assumptions!$A$5:$C$7,2,FALSE)="ACTUAL",DAY(EOMONTH($D15,0))-DAY($D15)+1,MAX(0,VLOOKUP($F15,Assumptions!$A$5:$C$7,3,FALSE)-MIN(DAY($D15),VLOOKUP($F15,Assumptions!$A$5:$C$7,3,FALSE))+1)))),"")) | I15: =IF(OR(NOT(ISNUMBER($E15)),NOT(ISNUMBER($H15)),$F15=""),"",IFERROR(IF(VLOOKUP($F15,Assumptions!$A$5:$C$7,2,FALSE)="NONE",0,ROUND($E15*$H15/IF(VLOOKUP($F15,Assumptions!$A$5:$C$7,2,FALSE)="ACTUAL",DAY(EOMONTH($D15,0)),VLOOKUP($F15,Assumptions!$A$5:$C$7,3,FALSE)),2)),"")) | K15: =IF(OR(NOT(ISNUMBER($E15)),$J15=""),"",IF($J15="Yes",ROUND($E15,2),0)) | P15: =IF(OR($A15="",NOT(ISNUMBER($I15)),NOT(ISNUMBER($K15)),NOT(OR($L15="",ISNUMBER($L15))),NOT(OR($N15="",ISNUMBER($N15))),NOT(OR($O15="",ISNUMBER($O15)))),"",IFERROR(MAX(0,ROUND(SUM($I15,$K15,$L15,$N15)-IF($O15="",0,$O15),2)),"")) | R15: =IF($P15="","",IF(NOT(OR($Q15="",ISNUMBER($Q15))),"",IFERROR(MAX(0,ROUND($P15-IF($Q15="",0,$Q15),2)),""))) | U15: =IF(COUNTA($A15:$G15,$J15,$L15:$O15,$Q15,$S15:$T15)=0,"",IF(OR($A15="",$B15="",$C15="",$D15="",$E15="",$F15="",$J15="",$S15="",$T15=""),"Check required inputs",IF(COUNTIF($A$5:$A$104,$A15)>1,"Duplicate tenancy ID",IF(OR(NOT(ISNUMBER($D15)),NOT(ISNUMBER($E15)),AND($G15<>"",NOT(ISNUMBER($G15))),AND($L15<>"",NOT(ISNUMBER($L15))),AND($N15<>"",NOT(ISNUMBER($N15))),AND($O15<>"",NOT(ISNUMBER($O15))),AND($Q15<>"",NOT(ISNUMBER($Q15)))),"Check date or amount entries",IF(OR($D15<Assumptions!$F$5,$D15>Assumptions!$F$6),"Check move-in date",IF(OR(AND(ISNUMBER($E15),$E15>Assumptions!$F$7),AND(ISNUMBER($L15),$L15>Assumptions!$F$7),AND(ISNUMBER($N15),$N15>Assumptions!$F$7),AND(ISNUMBER($O15),$O15>Assumptions!$F$7),AND(ISNUMBER($Q15),$Q15>Assumptions!$F$7)),"Check amount limit",IF(AND(ISNUMBER($N15),$N15>0,$M15=""),"Describe manager-entered charge",IF(AND(ISNUMBER($H15),$H15>IFERROR(IF(VLOOKUP($F15,Assumptions!$A$5:$C$7,2,FALSE)="ACTUAL",DAY(EOMONTH($D15,0)),VLOOKUP($F15,Assumptions!$A$5:$C$7,3,FALSE)),Assumptions!$F$8)),"Check prorated days",IF(OR($H15="",$I15="",$K15="",$P15=""),"Check calculation settings",IF($T15="Canceled","Canceled: verify amounts",IF(AND($T15="Complete",$R15>0),"Complete status has balance",IF(AND(ISNUMBER($P15),ISNUMBER($Q15),$Q15>$P15),"Received exceeds total",IF(AND(ISNUMBER($D15),$D15<TODAY(),$R15>0,$T15<>"Canceled"),"Past move-in with balance",""))))))))))))) | X15: ="" | Z15: ="" | AA15: ="" | AB15: =""
H16: =IF(OR($D16="",$F16=""),"",IFERROR(IF(VLOOKUP($F16,Assumptions!$A$5:$C$7,2,FALSE)="NONE",0,IF($G16<>"",$G16,IF(VLOOKUP($F16,Assumptions!$A$5:$C$7,2,FALSE)="ACTUAL",DAY(EOMONTH($D16,0))-DAY($D16)+1,MAX(0,VLOOKUP($F16,Assumptions!$A$5:$C$7,3,FALSE)-MIN(DAY($D16),VLOOKUP($F16,Assumptions!$A$5:$C$7,3,FALSE))+1)))),"")) | I16: =IF(OR(NOT(ISNUMBER($E16)),NOT(ISNUMBER($H16)),$F16=""),"",IFERROR(IF(VLOOKUP($F16,Assumptions!$A$5:$C$7,2,FALSE)="NONE",0,ROUND($E16*$H16/IF(VLOOKUP($F16,Assumptions!$A$5:$C$7,2,FALSE)="ACTUAL",DAY(EOMONTH($D16,0)),VLOOKUP($F16,Assumptions!$A$5:$C$7,3,FALSE)),2)),"")) | K16: =IF(OR(NOT(ISNUMBER($E16)),$J16=""),"",IF($J16="Yes",ROUND($E16,2),0)) | P16: =IF(OR($A16="",NOT(ISNUMBER($I16)),NOT(ISNUMBER($K16)),NOT(OR($L16="",ISNUMBER($L16))),NOT(OR($N16="",ISNUMBER($N16))),NOT(OR($O16="",ISNUMBER($O16)))),"",IFERROR(MAX(0,ROUND(SUM($I16,$K16,$L16,$N16)-IF($O16="",0,$O16),2)),"")) | R16: =IF($P16="","",IF(NOT(OR($Q16="",ISNUMBER($Q16))),"",IFERROR(MAX(0,ROUND($P16-IF($Q16="",0,$Q16),2)),""))) | U16: =IF(COUNTA($A16:$G16,$J16,$L16:$O16,$Q16,$S16:$T16)=0,"",IF(OR($A16="",$B16="",$C16="",$D16="",$E16="",$F16="",$J16="",$S16="",$T16=""),"Check required inputs",IF(COUNTIF($A$5:$A$104,$A16)>1,"Duplicate tenancy ID",IF(OR(NOT(ISNUMBER($D16)),NOT(ISNUMBER($E16)),AND($G16<>"",NOT(ISNUMBER($G16))),AND($L16<>"",NOT(ISNUMBER($L16))),AND($N16<>"",NOT(ISNUMBER($N16))),AND($O16<>"",NOT(ISNUMBER($O16))),AND($Q16<>"",NOT(ISNUMBER($Q16)))),"Check date or amount entries",IF(OR($D16<Assumptions!$F$5,$D16>Assumptions!$F$6),"Check move-in date",IF(OR(AND(ISNUMBER($E16),$E16>Assumptions!$F$7),AND(ISNUMBER($L16),$L16>Assumptions!$F$7),AND(ISNUMBER($N16),$N16>Assumptions!$F$7),AND(ISNUMBER($O16),$O16>Assumptions!$F$7),AND(ISNUMBER($Q16),$Q16>Assumptions!$F$7)),"Check amount limit",IF(AND(ISNUMBER($N16),$N16>0,$M16=""),"Describe manager-entered charge",IF(AND(ISNUMBER($H16),$H16>IFERROR(IF(VLOOKUP($F16,Assumptions!$A$5:$C$7,2,FALSE)="ACTUAL",DAY(EOMONTH($D16,0)),VLOOKUP($F16,Assumptions!$A$5:$C$7,3,FALSE)),Assumptions!$F$8)),"Check prorated days",IF(OR($H16="",$I16="",$K16="",$P16=""),"Check calculation settings",IF($T16="Canceled","Canceled: verify amounts",IF(AND($T16="Complete",$R16>0),"Complete status has balance",IF(AND(ISNUMBER($P16),ISNUMBER($Q16),$Q16>$P16),"Received exceeds total",IF(AND(ISNUMBER($D16),$D16<TODAY(),$R16>0,$T16<>"Canceled"),"Past move-in with balance",""))))))))))))) | X16: ="" | Z16: ="" | AA16: ="" | AB16: =""
H17: =IF(OR($D17="",$F17=""),"",IFERROR(IF(VLOOKUP($F17,Assumptions!$A$5:$C$7,2,FALSE)="NONE",0,IF($G17<>"",$G17,IF(VLOOKUP($F17,Assumptions!$A$5:$C$7,2,FALSE)="ACTUAL",DAY(EOMONTH($D17,0))-DAY($D17)+1,MAX(0,VLOOKUP($F17,Assumptions!$A$5:$C$7,3,FALSE)-MIN(DAY($D17),VLOOKUP($F17,Assumptions!$A$5:$C$7,3,FALSE))+1)))),"")) | I17: =IF(OR(NOT(ISNUMBER($E17)),NOT(ISNUMBER($H17)),$F17=""),"",IFERROR(IF(VLOOKUP($F17,Assumptions!$A$5:$C$7,2,FALSE)="NONE",0,ROUND($E17*$H17/IF(VLOOKUP($F17,Assumptions!$A$5:$C$7,2,FALSE)="ACTUAL",DAY(EOMONTH($D17,0)),VLOOKUP($F17,Assumptions!$A$5:$C$7,3,FALSE)),2)),"")) | K17: =IF(OR(NOT(ISNUMBER($E17)),$J17=""),"",IF($J17="Yes",ROUND($E17,2),0)) | P17: =IF(OR($A17="",NOT(ISNUMBER($I17)),NOT(ISNUMBER($K17)),NOT(OR($L17="",ISNUMBER($L17))),NOT(OR($N17="",ISNUMBER($N17))),NOT(OR($O17="",ISNUMBER($O17)))),"",IFERROR(MAX(0,ROUND(SUM($I17,$K17,$L17,$N17)-IF($O17="",0,$O17),2)),"")) | R17: =IF($P17="","",IF(NOT(OR($Q17="",ISNUMBER($Q17))),"",IFERROR(MAX(0,ROUND($P17-IF($Q17="",0,$Q17),2)),""))) | U17: =IF(COUNTA($A17:$G17,$J17,$L17:$O17,$Q17,$S17:$T17)=0,"",IF(OR($A17="",$B17="",$C17="",$D17="",$E17="",$F17="",$J17="",$S17="",$T17=""),"Check required inputs",IF(COUNTIF($A$5:$A$104,$A17)>1,"Duplicate tenancy ID",IF(OR(NOT(ISNUMBER($D17)),NOT(ISNUMBER($E17)),AND($G17<>"",NOT(ISNUMBER($G17))),AND($L17<>"",NOT(ISNUMBER($L17))),AND($N17<>"",NOT(ISNUMBER($N17))),AND($O17<>"",NOT(ISNUMBER($O17))),AND($Q17<>"",NOT(ISNUMBER($Q17)))),"Check date or amount entries",IF(OR($D17<Assumptions!$F$5,$D17>Assumptions!$F$6),"Check move-in date",IF(OR(AND(ISNUMBER($E17),$E17>Assumptions!$F$7),AND(ISNUMBER($L17),$L17>Assumptions!$F$7),AND(ISNUMBER($N17),$N17>Assumptions!$F$7),AND(ISNUMBER($O17),$O17>Assumptions!$F$7),AND(ISNUMBER($Q17),$Q17>Assumptions!$F$7)),"Check amount limit",IF(AND(ISNUMBER($N17),$N17>0,$M17=""),"Describe manager-entered charge",IF(AND(ISNUMBER($H17),$H17>IFERROR(IF(VLOOKUP($F17,Assumptions!$A$5:$C$7,2,FALSE)="ACTUAL",DAY(EOMONTH($D17,0)),VLOOKUP($F17,Assumptions!$A$5:$C$7,3,FALSE)),Assumptions!$F$8)),"Check prorated days",IF(OR($H17="",$I17="",$K17="",$P17=""),"Check calculation settings",IF($T17="Canceled","Canceled: verify amounts",IF(AND($T17="Complete",$R17>0),"Complete status has balance",IF(AND(ISNUMBER($P17),ISNUMBER($Q17),$Q17>$P17),"Received exceeds total",IF(AND(ISNUMBER($D17),$D17<TODAY(),$R17>0,$T17<>"Canceled"),"Past move-in with balance",""))))))))))))) | X17: ="" | Z17: ="" | AA17: ="" | AB17: =""
H18: =IF(OR($D18="",$F18=""),"",IFERROR(IF(VLOOKUP($F18,Assumptions!$A$5:$C$7,2,FALSE)="NONE",0,IF($G18<>"",$G18,IF(VLOOKUP($F18,Assumptions!$A$5:$C$7,2,FALSE)="ACTUAL",DAY(EOMONTH($D18,0))-DAY($D18)+1,MAX(0,VLOOKUP($F18,Assumptions!$A$5:$C$7,3,FALSE)-MIN(DAY($D18),VLOOKUP($F18,Assumptions!$A$5:$C$7,3,FALSE))+1)))),"")) | I18: =IF(OR(NOT(ISNUMBER($E18)),NOT(ISNUMBER($H18)),$F18=""),"",IFERROR(IF(VLOOKUP($F18,Assumptions!$A$5:$C$7,2,FALSE)="NONE",0,ROUND($E18*$H18/IF(VLOOKUP($F18,Assumptions!$A$5:$C$7,2,FALSE)="ACTUAL",DAY(EOMONTH($D18,0)),VLOOKUP($F18,Assumptions!$A$5:$C$7,3,FALSE)),2)),"")) | K18: =IF(OR(NOT(ISNUMBER($E18)),$J18=""),"",IF($J18="Yes",ROUND($E18,2),0)) | P18: =IF(OR($A18="",NOT(ISNUMBER($I18)),NOT(ISNUMBER($K18)),NOT(OR($L18="",ISNUMBER($L18))),NOT(OR($N18="",ISNUMBER($N18))),NOT(OR($O18="",ISNUMBER($O18)))),"",IFERROR(MAX(0,ROUND(SUM($I18,$K18,$L18,$N18)-IF($O18="",0,$O18),2)),"")) | R18: =IF($P18="","",IF(NOT(OR($Q18="",ISNUMBER($Q18))),"",IFERROR(MAX(0,ROUND($P18-IF($Q18="",0,$Q18),2)),""))) | U18: =IF(COUNTA($A18:$G18,$J18,$L18:$O18,$Q18,$S18:$T18)=0,"",IF(OR($A18="",$B18="",$C18="",$D18="",$E18="",$F18="",$J18="",$S18="",$T18=""),"Check required inputs",IF(COUNTIF($A$5:$A$104,$A18)>1,"Duplicate tenancy ID",IF(OR(NOT(ISNUMBER($D18)),NOT(ISNUMBER($E18)),AND($G18<>"",NOT(ISNUMBER($G18))),AND($L18<>"",NOT(ISNUMBER($L18))),AND($N18<>"",NOT(ISNUMBER($N18))),AND($O18<>"",NOT(ISNUMBER($O18))),AND($Q18<>"",NOT(ISNUMBER($Q18)))),"Check date or amount entries",IF(OR($D18<Assumptions!$F$5,$D18>Assumptions!$F$6),"Check move-in date",IF(OR(AND(ISNUMBER($E18),$E18>Assumptions!$F$7),AND(ISNUMBER($L18),$L18>Assumptions!$F$7),AND(ISNUMBER($N18),$N18>Assumptions!$F$7),AND(ISNUMBER($O18),$O18>Assumptions!$F$7),AND(ISNUMBER($Q18),$Q18>Assumptions!$F$7)),"Check amount limit",IF(AND(ISNUMBER($N18),$N18>0,$M18=""),"Describe manager-entered charge",IF(AND(ISNUMBER($H18),$H18>IFERROR(IF(VLOOKUP($F18,Assumptions!$A$5:$C$7,2,FALSE)="ACTUAL",DAY(EOMONTH($D18,0)),VLOOKUP($F18,Assumptions!$A$5:$C$7,3,FALSE)),Assumptions!$F$8)),"Check prorated days",IF(OR($H18="",$I18="",$K18="",$P18=""),"Check calculation settings",IF($T18="Canceled","Canceled: verify amounts",IF(AND($T18="Complete",$R18>0),"Complete status has balance",IF(AND(ISNUMBER($P18),ISNUMBER($Q18),$Q18>$P18),"Received exceeds total",IF(AND(ISNUMBER($D18),$D18<TODAY(),$R18>0,$T18<>"Canceled"),"Past move-in with balance",""))))))))))))) | X18: ="" | Z18: ="" | AA18: ="" | AB18: =""
H19: =IF(OR($D19="",$F19=""),"",IFERROR(IF(VLOOKUP($F19,Assumptions!$A$5:$C$7,2,FALSE)="NONE",0,IF($G19<>"",$G19,IF(VLOOKUP($F19,Assumptions!$A$5:$C$7,2,FALSE)="ACTUAL",DAY(EOMONTH($D19,0))-DAY($D19)+1,MAX(0,VLOOKUP($F19,Assumptions!$A$5:$C$7,3,FALSE)-MIN(DAY($D19),VLOOKUP($F19,Assumptions!$A$5:$C$7,3,FALSE))+1)))),"")) | I19: =IF(OR(NOT(ISNUMBER($E19)),NOT(ISNUMBER($H19)),$F19=""),"",IFERROR(IF(VLOOKUP($F19,Assumptions!$A$5:$C$7,2,FALSE)="NONE",0,ROUND($E19*$H19/IF(VLOOKUP($F19,Assumptions!$A$5:$C$7,2,FALSE)="ACTUAL",DAY(EOMONTH($D19,0)),VLOOKUP($F19,Assumptions!$A$5:$C$7,3,FALSE)),2)),"")) | K19: =IF(OR(NOT(ISNUMBER($E19)),$J19=""),"",IF($J19="Yes",ROUND($E19,2),0)) | P19: =IF(OR($A19="",NOT(ISNUMBER($I19)),NOT(ISNUMBER($K19)),NOT(OR($L19="",ISNUMBER($L19))),NOT(OR($N19="",ISNUMBER($N19))),NOT(OR($O19="",ISNUMBER($O19)))),"",IFERROR(MAX(0,ROUND(SUM($I19,$K19,$L19,$N19)-IF($O19="",0,$O19),2)),"")) | R19: =IF($P19="","",IF(NOT(OR($Q19="",ISNUMBER($Q19))),"",IFERROR(MAX(0,ROUND($P19-IF($Q19="",0,$Q19),2)),""))) | U19: =IF(COUNTA($A19:$G19,$J19,$L19:$O19,$Q19,$S19:$T19)=0,"",IF(OR($A19="",$B19="",$C19="",$D19="",$E19="",$F19="",$J19="",$S19="",$T19=""),"Check required inputs",IF(COUNTIF($A$5:$A$104,$A19)>1,"Duplicate tenancy ID",IF(OR(NOT(ISNUMBER($D19)),NOT(ISNUMBER($E19)),AND($G19<>"",NOT(ISNUMBER($G19))),AND($L19<>"",NOT(ISNUMBER($L19))),AND($N19<>"",NOT(ISNUMBER($N19))),AND($O19<>"",NOT(ISNUMBER($O19))),AND($Q19<>"",NOT(ISNUMBER($Q19)))),"Check date or amount entries",IF(OR($D19<Assumptions!$F$5,$D19>Assumptions!$F$6),"Check move-in date",IF(OR(AND(ISNUMBER($E19),$E19>Assumptions!$F$7),AND(ISNUMBER($L19),$L19>Assumptions!$F$7),AND(ISNUMBER($N19),$N19>Assumptions!$F$7),AND(ISNUMBER($O19),$O19>Assumptions!$F$7),AND(ISNUMBER($Q19),$Q19>Assumptions!$F$7)),"Check amount limit",IF(AND(ISNUMBER($N19),$N19>0,$M19=""),"Describe manager-entered charge",IF(AND(ISNUMBER($H19),$H19>IFERROR(IF(VLOOKUP($F19,Assumptions!$A$5:$C$7,2,FALSE)="ACTUAL",DAY(EOMONTH($D19,0)),VLOOKUP($F19,Assumptions!$A$5:$C$7,3,FALSE)),Assumptions!$F$8)),"Check prorated days",IF(OR($H19="",$I19="",$K19="",$P19=""),"Check calculation settings",IF($T19="Canceled","Canceled: verify amounts",IF(AND($T19="Complete",$R19>0),"Complete status has balance",IF(AND(ISNUMBER($P19),ISNUMBER($Q19),$Q19>$P19),"Received exceeds total",IF(AND(ISNUMBER($D19),$D19<TODAY(),$R19>0,$T19<>"Canceled"),"Past move-in with balance",""))))))))))))) | X19: ="" | Z19: ="" | AA19: ="" | AB19: =""
H20: =IF(OR($D20="",$F20=""),"",IFERROR(IF(VLOOKUP($F20,Assumptions!$A$5:$C$7,2,FALSE)="NONE",0,IF($G20<>"",$G20,IF(VLOOKUP($F20,Assumptions!$A$5:$C$7,2,FALSE)="ACTUAL",DAY(EOMONTH($D20,0))-DAY($D20)+1,MAX(0,VLOOKUP($F20,Assumptions!$A$5:$C$7,3,FALSE)-MIN(DAY($D20),VLOOKUP($F20,Assumptions!$A$5:$C$7,3,FALSE))+1)))),"")) | I20: =IF(OR(NOT(ISNUMBER($E20)),NOT(ISNUMBER($H20)),$F20=""),"",IFERROR(IF(VLOOKUP($F20,Assumptions!$A$5:$C$7,2,FALSE)="NONE",0,ROUND($E20*$H20/IF(VLOOKUP($F20,Assumptions!$A$5:$C$7,2,FALSE)="ACTUAL",DAY(EOMONTH($D20,0)),VLOOKUP($F20,Assumptions!$A$5:$C$7,3,FALSE)),2)),"")) | K20: =IF(OR(NOT(ISNUMBER($E20)),$J20=""),"",IF($J20="Yes",ROUND($E20,2),0)) | P20: =IF(OR($A20="",NOT(ISNUMBER($I20)),NOT(ISNUMBER($K20)),NOT(OR($L20="",ISNUMBER($L20))),NOT(OR($N20="",ISNUMBER($N20))),NOT(OR($O20="",ISNUMBER($O20)))),"",IFERROR(MAX(0,ROUND(SUM($I20,$K20,$L20,$N20)-IF($O20="",0,$O20),2)),"")) | R20: =IF($P20="","",IF(NOT(OR($Q20="",ISNUMBER($Q20))),"",IFERROR(MAX(0,ROUND($P20-IF($Q20="",0,$Q20),2)),""))) | U20: =IF(COUNTA($A20:$G20,$J20,$L20:$O20,$Q20,$S20:$T20)=0,"",IF(OR($A20="",$B20="",$C20="",$D20="",$E20="",$F20="",$J20="",$S20="",$T20=""),"Check required inputs",IF(COUNTIF($A$5:$A$104,$A20)>1,"Duplicate tenancy ID",IF(OR(NOT(ISNUMBER($D20)),NOT(ISNUMBER($E20)),AND($G20<>"",NOT(ISNUMBER($G20))),AND($L20<>"",NOT(ISNUMBER($L20))),AND($N20<>"",NOT(ISNUMBER($N20))),AND($O20<>"",NOT(ISNUMBER($O20))),AND($Q20<>"",NOT(ISNUMBER($Q20)))),"Check date or amount entries",IF(OR($D20<Assumptions!$F$5,$D20>Assumptions!$F$6),"Check move-in date",IF(OR(AND(ISNUMBER($E20),$E20>Assumptions!$F$7),AND(ISNUMBER($L20),$L20>Assumptions!$F$7),AND(ISNUMBER($N20),$N20>Assumptions!$F$7),AND(ISNUMBER($O20),$O20>Assumptions!$F$7),AND(ISNUMBER($Q20),$Q20>Assumptions!$F$7)),"Check amount limit",IF(AND(ISNUMBER($N20),$N20>0,$M20=""),"Describe manager-entered charge",IF(AND(ISNUMBER($H20),$H20>IFERROR(IF(VLOOKUP($F20,Assumptions!$A$5:$C$7,2,FALSE)="ACTUAL",DAY(EOMONTH($D20,0)),VLOOKUP($F20,Assumptions!$A$5:$C$7,3,FALSE)),Assumptions!$F$8)),"Check prorated days",IF(OR($H20="",$I20="",$K20="",$P20=""),"Check calculation settings",IF($T20="Canceled","Canceled: verify amounts",IF(AND($T20="Complete",$R20>0),"Complete status has balance",IF(AND(ISNUMBER($P20),ISNUMBER($Q20),$Q20>$P20),"Received exceeds total",IF(AND(ISNUMBER($D20),$D20<TODAY(),$R20>0,$T20<>"Canceled"),"Past move-in with balance",""))))))))))))) | X20: ="" | Z20: ="" | AA20: ="" | AB20: =""
H21: =IF(OR($D21="",$F21=""),"",IFERROR(IF(VLOOKUP($F21,Assumptions!$A$5:$C$7,2,FALSE)="NONE",0,IF($G21<>"",$G21,IF(VLOOKUP($F21,Assumptions!$A$5:$C$7,2,FALSE)="ACTUAL",DAY(EOMONTH($D21,0))-DAY($D21)+1,MAX(0,VLOOKUP($F21,Assumptions!$A$5:$C$7,3,FALSE)-MIN(DAY($D21),VLOOKUP($F21,Assumptions!$A$5:$C$7,3,FALSE))+1)))),"")) | I21: =IF(OR(NOT(ISNUMBER($E21)),NOT(ISNUMBER($H21)),$F21=""),"",IFERROR(IF(VLOOKUP($F21,Assumptions!$A$5:$C$7,2,FALSE)="NONE",0,ROUND($E21*$H21/IF(VLOOKUP($F21,Assumptions!$A$5:$C$7,2,FALSE)="ACTUAL",DAY(EOMONTH($D21,0)),VLOOKUP($F21,Assumptions!$A$5:$C$7,3,FALSE)),2)),"")) | K21: =IF(OR(NOT(ISNUMBER($E21)),$J21=""),"",IF($J21="Yes",ROUND($E21,2),0)) | P21: =IF(OR($A21="",NOT(ISNUMBER($I21)),NOT(ISNUMBER($K21)),NOT(OR($L21="",ISNUMBER($L21))),NOT(OR($N21="",ISNUMBER($N21))),NOT(OR($O21="",ISNUMBER($O21)))),"",IFERROR(MAX(0,ROUND(SUM($I21,$K21,$L21,$N21)-IF($O21="",0,$O21),2)),"")) | R21: =IF($P21="","",IF(NOT(OR($Q21="",ISNUMBER($Q21))),"",IFERROR(MAX(0,ROUND($P21-IF($Q21="",0,$Q21),2)),""))) | U21: =IF(COUNTA($A21:$G21,$J21,$L21:$O21,$Q21,$S21:$T21)=0,"",IF(OR($A21="",$B21="",$C21="",$D21="",$E21="",$F21="",$J21="",$S21="",$T21=""),"Check required inputs",IF(COUNTIF($A$5:$A$104,$A21)>1,"Duplicate tenancy ID",IF(OR(NOT(ISNUMBER($D21)),NOT(ISNUMBER($E21)),AND($G21<>"",NOT(ISNUMBER($G21))),AND($L21<>"",NOT(ISNUMBER($L21))),AND($N21<>"",NOT(ISNUMBER($N21))),AND($O21<>"",NOT(ISNUMBER($O21))),AND($Q21<>"",NOT(ISNUMBER($Q21)))),"Check date or amount entries",IF(OR($D21<Assumptions!$F$5,$D21>Assumptions!$F$6),"Check move-in date",IF(OR(AND(ISNUMBER($E21),$E21>Assumptions!$F$7),AND(ISNUMBER($L21),$L21>Assumptions!$F$7),AND(ISNUMBER($N21),$N21>Assumptions!$F$7),AND(ISNUMBER($O21),$O21>Assumptions!$F$7),AND(ISNUMBER($Q21),$Q21>Assumptions!$F$7)),"Check amount limit",IF(AND(ISNUMBER($N21),$N21>0,$M21=""),"Describe manager-entered charge",IF(AND(ISNUMBER($H21),$H21>IFERROR(IF(VLOOKUP($F21,Assumptions!$A$5:$C$7,2,FALSE)="ACTUAL",DAY(EOMONTH($D21,0)),VLOOKUP($F21,Assumptions!$A$5:$C$7,3,FALSE)),Assumptions!$F$8)),"Check prorated days",IF(OR($H21="",$I21="",$K21="",$P21=""),"Check calculation settings",IF($T21="Canceled","Canceled: verify amounts",IF(AND($T21="Complete",$R21>0),"Complete status has balance",IF(AND(ISNUMBER($P21),ISNUMBER($Q21),$Q21>$P21),"Received exceeds total",IF(AND(ISNUMBER($D21),$D21<TODAY(),$R21>0,$T21<>"Canceled"),"Past move-in with balance",""))))))))))))) | X21: ="" | Z21: ="" | AA21: ="" | AB21: =""
H22: =IF(OR($D22="",$F22=""),"",IFERROR(IF(VLOOKUP($F22,Assumptions!$A$5:$C$7,2,FALSE)="NONE",0,IF($G22<>"",$G22,IF(VLOOKUP($F22,Assumptions!$A$5:$C$7,2,FALSE)="ACTUAL",DAY(EOMONTH($D22,0))-DAY($D22)+1,MAX(0,VLOOKUP($F22,Assumptions!$A$5:$C$7,3,FALSE)-MIN(DAY($D22),VLOOKUP($F22,Assumptions!$A$5:$C$7,3,FALSE))+1)))),"")) | I22: =IF(OR(NOT(ISNUMBER($E22)),NOT(ISNUMBER($H22)),$F22=""),"",IFERROR(IF(VLOOKUP($F22,Assumptions!$A$5:$C$7,2,FALSE)="NONE",0,ROUND($E22*$H22/IF(VLOOKUP($F22,Assumptions!$A$5:$C$7,2,FALSE)="ACTUAL",DAY(EOMONTH($D22,0)),VLOOKUP($F22,Assumptions!$A$5:$C$7,3,FALSE)),2)),"")) | K22: =IF(OR(NOT(ISNUMBER($E22)),$J22=""),"",IF($J22="Yes",ROUND($E22,2),0)) | P22: =IF(OR($A22="",NOT(ISNUMBER($I22)),NOT(ISNUMBER($K22)),NOT(OR($L22="",ISNUMBER($L22))),NOT(OR($N22="",ISNUMBER($N22))),NOT(OR($O22="",ISNUMBER($O22)))),"",IFERROR(MAX(0,ROUND(SUM($I22,$K22,$L22,$N22)-IF($O22="",0,$O22),2)),"")) | R22: =IF($P22="","",IF(NOT(OR($Q22="",ISNUMBER($Q22))),"",IFERROR(MAX(0,ROUND($P22-IF($Q22="",0,$Q22),2)),""))) | U22: =IF(COUNTA($A22:$G22,$J22,$L22:$O22,$Q22,$S22:$T22)=0,"",IF(OR($A22="",$B22="",$C22="",$D22="",$E22="",$F22="",$J22="",$S22="",$T22=""),"Check required inputs",IF(COUNTIF($A$5:$A$104,$A22)>1,"Duplicate tenancy ID",IF(OR(NOT(ISNUMBER($D22)),NOT(ISNUMBER($E22)),AND($G22<>"",NOT(ISNUMBER($G22))),AND($L22<>"",NOT(ISNUMBER($L22))),AND($N22<>"",NOT(ISNUMBER($N22))),AND($O22<>"",NOT(ISNUMBER($O22))),AND($Q22<>"",NOT(ISNUMBER($Q22)))),"Check date or amount entries",IF(OR($D22<Assumptions!$F$5,$D22>Assumptions!$F$6),"Check move-in date",IF(OR(AND(ISNUMBER($E22),$E22>Assumptions!$F$7),AND(ISNUMBER($L22),$L22>Assumptions!$F$7),AND(ISNUMBER($N22),$N22>Assumptions!$F$7),AND(ISNUMBER($O22),$O22>Assumptions!$F$7),AND(ISNUMBER($Q22),$Q22>Assumptions!$F$7)),"Check amount limit",IF(AND(ISNUMBER($N22),$N22>0,$M22=""),"Describe manager-entered charge",IF(AND(ISNUMBER($H22),$H22>IFERROR(IF(VLOOKUP($F22,Assumptions!$A$5:$C$7,2,FALSE)="ACTUAL",DAY(EOMONTH($D22,0)),VLOOKUP($F22,Assumptions!$A$5:$C$7,3,FALSE)),Assumptions!$F$8)),"Check prorated days",IF(OR($H22="",$I22="",$K22="",$P22=""),"Check calculation settings",IF($T22="Canceled","Canceled: verify amounts",IF(AND($T22="Complete",$R22>0),"Complete status has balance",IF(AND(ISNUMBER($P22),ISNUMBER($Q22),$Q22>$P22),"Received exceeds total",IF(AND(ISNUMBER($D22),$D22<TODAY(),$R22>0,$T22<>"Canceled"),"Past move-in with balance",""))))))))))))) | X22: ="" | Z22: ="" | AA22: ="" | AB22: =""
H23: =IF(OR($D23="",$F23=""),"",IFERROR(IF(VLOOKUP($F23,Assumptions!$A$5:$C$7,2,FALSE)="NONE",0,IF($G23<>"",$G23,IF(VLOOKUP($F23,Assumptions!$A$5:$C$7,2,FALSE)="ACTUAL",DAY(EOMONTH($D23,0))-DAY($D23)+1,MAX(0,VLOOKUP($F23,Assumptions!$A$5:$C$7,3,FALSE)-MIN(DAY($D23),VLOOKUP($F23,Assumptions!$A$5:$C$7,3,FALSE))+1)))),"")) | I23: =IF(OR(NOT(ISNUMBER($E23)),NOT(ISNUMBER($H23)),$F23=""),"",IFERROR(IF(VLOOKUP($F23,Assumptions!$A$5:$C$7,2,FALSE)="NONE",0,ROUND($E23*$H23/IF(VLOOKUP($F23,Assumptions!$A$5:$C$7,2,FALSE)="ACTUAL",DAY(EOMONTH($D23,0)),VLOOKUP($F23,Assumptions!$A$5:$C$7,3,FALSE)),2)),"")) | K23: =IF(OR(NOT(ISNUMBER($E23)),$J23=""),"",IF($J23="Yes",ROUND($E23,2),0)) | P23: =IF(OR($A23="",NOT(ISNUMBER($I23)),NOT(ISNUMBER($K23)),NOT(OR($L23="",ISNUMBER($L23))),NOT(OR($N23="",ISNUMBER($N23))),NOT(OR($O23="",ISNUMBER($O23)))),"",IFERROR(MAX(0,ROUND(SUM($I23,$K23,$L23,$N23)-IF($O23="",0,$O23),2)),"")) | R23: =IF($P23="","",IF(NOT(OR($Q23="",ISNUMBER($Q23))),"",IFERROR(MAX(0,ROUND($P23-IF($Q23="",0,$Q23),2)),""))) | U23: =IF(COUNTA($A23:$G23,$J23,$L23:$O23,$Q23,$S23:$T23)=0,"",IF(OR($A23="",$B23="",$C23="",$D23="",$E23="",$F23="",$J23="",$S23="",$T23=""),"Check required inputs",IF(COUNTIF($A$5:$A$104,$A23)>1,"Duplicate tenancy ID",IF(OR(NOT(ISNUMBER($D23)),NOT(ISNUMBER($E23)),AND($G23<>"",NOT(ISNUMBER($G23))),AND($L23<>"",NOT(ISNUMBER($L23))),AND($N23<>"",NOT(ISNUMBER($N23))),AND($O23<>"",NOT(ISNUMBER($O23))),AND($Q23<>"",NOT(ISNUMBER($Q23)))),"Check date or amount entries",IF(OR($D23<Assumptions!$F$5,$D23>Assumptions!$F$6),"Check move-in date",IF(OR(AND(ISNUMBER($E23),$E23>Assumptions!$F$7),AND(ISNUMBER($L23),$L23>Assumptions!$F$7),AND(ISNUMBER($N23),$N23>Assumptions!$F$7),AND(ISNUMBER($O23),$O23>Assumptions!$F$7),AND(ISNUMBER($Q23),$Q23>Assumptions!$F$7)),"Check amount limit",IF(AND(ISNUMBER($N23),$N23>0,$M23=""),"Describe manager-entered charge",IF(AND(ISNUMBER($H23),$H23>IFERROR(IF(VLOOKUP($F23,Assumptions!$A$5:$C$7,2,FALSE)="ACTUAL",DAY(EOMONTH($D23,0)),VLOOKUP($F23,Assumptions!$A$5:$C$7,3,FALSE)),Assumptions!$F$8)),"Check prorated days",IF(OR($H23="",$I23="",$K23="",$P23=""),"Check calculation settings",IF($T23="Canceled","Canceled: verify amounts",IF(AND($T23="Complete",$R23>0),"Complete status has balance",IF(AND(ISNUMBER($P23),ISNUMBER($Q23),$Q23>$P23),"Received exceeds total",IF(AND(ISNUMBER($D23),$D23<TODAY(),$R23>0,$T23<>"Canceled"),"Past move-in with balance",""))))))))))))) | X23: ="" | Z23: ="" | AA23: ="" | AB23: =""
H24: =IF(OR($D24="",$F24=""),"",IFERROR(IF(VLOOKUP($F24,Assumptions!$A$5:$C$7,2,FALSE)="NONE",0,IF($G24<>"",$G24,IF(VLOOKUP($F24,Assumptions!$A$5:$C$7,2,FALSE)="ACTUAL",DAY(EOMONTH($D24,0))-DAY($D24)+1,MAX(0,VLOOKUP($F24,Assumptions!$A$5:$C$7,3,FALSE)-MIN(DAY($D24),VLOOKUP($F24,Assumptions!$A$5:$C$7,3,FALSE))+1)))),"")) | I24: =IF(OR(NOT(ISNUMBER($E24)),NOT(ISNUMBER($H24)),$F24=""),"",IFERROR(IF(VLOOKUP($F24,Assumptions!$A$5:$C$7,2,FALSE)="NONE",0,ROUND($E24*$H24/IF(VLOOKUP($F24,Assumptions!$A$5:$C$7,2,FALSE)="ACTUAL",DAY(EOMONTH($D24,0)),VLOOKUP($F24,Assumptions!$A$5:$C$7,3,FALSE)),2)),"")) | K24: =IF(OR(NOT(ISNUMBER($E24)),$J24=""),"",IF($J24="Yes",ROUND($E24,2),0)) | P24: =IF(OR($A24="",NOT(ISNUMBER($I24)),NOT(ISNUMBER($K24)),NOT(OR($L24="",ISNUMBER($L24))),NOT(OR($N24="",ISNUMBER($N24))),NOT(OR($O24="",ISNUMBER($O24)))),"",IFERROR(MAX(0,ROUND(SUM($I24,$K24,$L24,$N24)-IF($O24="",0,$O24),2)),"")) | R24: =IF($P24="","",IF(NOT(OR($Q24="",ISNUMBER($Q24))),"",IFERROR(MAX(0,ROUND($P24-IF($Q24="",0,$Q24),2)),""))) | U24: =IF(COUNTA($A24:$G24,$J24,$L24:$O24,$Q24,$S24:$T24)=0,"",IF(OR($A24="",$B24="",$C24="",$D24="",$E24="",$F24="",$J24="",$S24="",$T24=""),"Check required inputs",IF(COUNTIF($A$5:$A$104,$A24)>1,"Duplicate tenancy ID",IF(OR(NOT(ISNUMBER($D24)),NOT(ISNUMBER($E24)),AND($G24<>"",NOT(ISNUMBER($G24))),AND($L24<>"",NOT(ISNUMBER($L24))),AND($N24<>"",NOT(ISNUMBER($N24))),AND($O24<>"",NOT(ISNUMBER($O24))),AND($Q24<>"",NOT(ISNUMBER($Q24)))),"Check date or amount entries",IF(OR($D24<Assumptions!$F$5,$D24>Assumptions!$F$6),"Check move-in date",IF(OR(AND(ISNUMBER($E24),$E24>Assumptions!$F$7),AND(ISNUMBER($L24),$L24>Assumptions!$F$7),AND(ISNUMBER($N24),$N24>Assumptions!$F$7),AND(ISNUMBER($O24),$O24>Assumptions!$F$7),AND(ISNUMBER($Q24),$Q24>Assumptions!$F$7)),"Check amount limit",IF(AND(ISNUMBER($N24),$N24>0,$M24=""),"Describe manager-entered charge",IF(AND(ISNUMBER($H24),$H24>IFERROR(IF(VLOOKUP($F24,Assumptions!$A$5:$C$7,2,FALSE)="ACTUAL",DAY(EOMONTH($D24,0)),VLOOKUP($F24,Assumptions!$A$5:$C$7,3,FALSE)),Assumptions!$F$8)),"Check prorated days",IF(OR($H24="",$I24="",$K24="",$P24=""),"Check calculation settings",IF($T24="Canceled","Canceled: verify amounts",IF(AND($T24="Complete",$R24>0),"Complete status has balance",IF(AND(ISNUMBER($P24),ISNUMBER($Q24),$Q24>$P24),"Received exceeds total",IF(AND(ISNUMBER($D24),$D24<TODAY(),$R24>0,$T24<>"Canceled"),"Past move-in with balance",""))))))))))))) | X24: ="" | Z24: ="" | AA24: ="" | AB24: =""
H25: =IF(OR($D25="",$F25=""),"",IFERROR(IF(VLOOKUP($F25,Assumptions!$A$5:$C$7,2,FALSE)="NONE",0,IF($G25<>"",$G25,IF(VLOOKUP($F25,Assumptions!$A$5:$C$7,2,FALSE)="ACTUAL",DAY(EOMONTH($D25,0))-DAY($D25)+1,MAX(0,VLOOKUP($F25,Assumptions!$A$5:$C$7,3,FALSE)-MIN(DAY($D25),VLOOKUP($F25,Assumptions!$A$5:$C$7,3,FALSE))+1)))),"")) | I25: =IF(OR(NOT(ISNUMBER($E25)),NOT(ISNUMBER($H25)),$F25=""),"",IFERROR(IF(VLOOKUP($F25,Assumptions!$A$5:$C$7,2,FALSE)="NONE",0,ROUND($E25*$H25/IF(VLOOKUP($F25,Assumptions!$A$5:$C$7,2,FALSE)="ACTUAL",DAY(EOMONTH($D25,0)),VLOOKUP($F25,Assumptions!$A$5:$C$7,3,FALSE)),2)),"")) | K25: =IF(OR(NOT(ISNUMBER($E25)),$J25=""),"",IF($J25="Yes",ROUND($E25,2),0)) | P25: =IF(OR($A25="",NOT(ISNUMBER($I25)),NOT(ISNUMBER($K25)),NOT(OR($L25="",ISNUMBER($L25))),NOT(OR($N25="",ISNUMBER($N25))),NOT(OR($O25="",ISNUMBER($O25)))),"",IFERROR(MAX(0,ROUND(SUM($I25,$K25,$L25,$N25)-IF($O25="",0,$O25),2)),"")) | R25: =IF($P25="","",IF(NOT(OR($Q25="",ISNUMBER($Q25))),"",IFERROR(MAX(0,ROUND($P25-IF($Q25="",0,$Q25),2)),""))) | U25: =IF(COUNTA($A25:$G25,$J25,$L25:$O25,$Q25,$S25:$T25)=0,"",IF(OR($A25="",$B25="",$C25="",$D25="",$E25="",$F25="",$J25="",$S25="",$T25=""),"Check required inputs",IF(COUNTIF($A$5:$A$104,$A25)>1,"Duplicate tenancy ID",IF(OR(NOT(ISNUMBER($D25)),NOT(ISNUMBER($E25)),AND($G25<>"",NOT(ISNUMBER($G25))),AND($L25<>"",NOT(ISNUMBER($L25))),AND($N25<>"",NOT(ISNUMBER($N25))),AND($O25<>"",NOT(ISNUMBER($O25))),AND($Q25<>"",NOT(ISNUMBER($Q25)))),"Check date or amount entries",IF(OR($D25<Assumptions!$F$5,$D25>Assumptions!$F$6),"Check move-in date",IF(OR(AND(ISNUMBER($E25),$E25>Assumptions!$F$7),AND(ISNUMBER($L25),$L25>Assumptions!$F$7),AND(ISNUMBER($N25),$N25>Assumptions!$F$7),AND(ISNUMBER($O25),$O25>Assumptions!$F$7),AND(ISNUMBER($Q25),$Q25>Assumptions!$F$7)),"Check amount limit",IF(AND(ISNUMBER($N25),$N25>0,$M25=""),"Describe manager-entered charge",IF(AND(ISNUMBER($H25),$H25>IFERROR(IF(VLOOKUP($F25,Assumptions!$A$5:$C$7,2,FALSE)="ACTUAL",DAY(EOMONTH($D25,0)),VLOOKUP($F25,Assumptions!$A$5:$C$7,3,FALSE)),Assumptions!$F$8)),"Check prorated days",IF(OR($H25="",$I25="",$K25="",$P25=""),"Check calculation settings",IF($T25="Canceled","Canceled: verify amounts",IF(AND($T25="Complete",$R25>0),"Complete status has balance",IF(AND(ISNUMBER($P25),ISNUMBER($Q25),$Q25>$P25),"Received exceeds total",IF(AND(ISNUMBER($D25),$D25<TODAY(),$R25>0,$T25<>"Canceled"),"Past move-in with balance",""))))))))))))) | X25: ="" | Z25: ="" | AA25: ="" | AB25: =""
H26: =IF(OR($D26="",$F26=""),"",IFERROR(IF(VLOOKUP($F26,Assumptions!$A$5:$C$7,2,FALSE)="NONE",0,IF($G26<>"",$G26,IF(VLOOKUP($F26,Assumptions!$A$5:$C$7,2,FALSE)="ACTUAL",DAY(EOMONTH($D26,0))-DAY($D26)+1,MAX(0,VLOOKUP($F26,Assumptions!$A$5:$C$7,3,FALSE)-MIN(DAY($D26),VLOOKUP($F26,Assumptions!$A$5:$C$7,3,FALSE))+1)))),"")) | I26: =IF(OR(NOT(ISNUMBER($E26)),NOT(ISNUMBER($H26)),$F26=""),"",IFERROR(IF(VLOOKUP($F26,Assumptions!$A$5:$C$7,2,FALSE)="NONE",0,ROUND($E26*$H26/IF(VLOOKUP($F26,Assumptions!$A$5:$C$7,2,FALSE)="ACTUAL",DAY(EOMONTH($D26,0)),VLOOKUP($F26,Assumptions!$A$5:$C$7,3,FALSE)),2)),"")) | K26: =IF(OR(NOT(ISNUMBER($E26)),$J26=""),"",IF($J26="Yes",ROUND($E26,2),0)) | P26: =IF(OR($A26="",NOT(ISNUMBER($I26)),NOT(ISNUMBER($K26)),NOT(OR($L26="",ISNUMBER($L26))),NOT(OR($N26="",ISNUMBER($N26))),NOT(OR($O26="",ISNUMBER($O26)))),"",IFERROR(MAX(0,ROUND(SUM($I26,$K26,$L26,$N26)-IF($O26="",0,$O26),2)),"")) | R26: =IF($P26="","",IF(NOT(OR($Q26="",ISNUMBER($Q26))),"",IFERROR(MAX(0,ROUND($P26-IF($Q26="",0,$Q26),2)),""))) | U26: =IF(COUNTA($A26:$G26,$J26,$L26:$O26,$Q26,$S26:$T26)=0,"",IF(OR($A26="",$B26="",$C26="",$D26="",$E26="",$F26="",$J26="",$S26="",$T26=""),"Check required inputs",IF(COUNTIF($A$5:$A$104,$A26)>1,"Duplicate tenancy ID",IF(OR(NOT(ISNUMBER($D26)),NOT(ISNUMBER($E26)),AND($G26<>"",NOT(ISNUMBER($G26))),AND($L26<>"",NOT(ISNUMBER($L26))),AND($N26<>"",NOT(ISNUMBER($N26))),AND($O26<>"",NOT(ISNUMBER($O26))),AND($Q26<>"",NOT(ISNUMBER($Q26)))),"Check date or amount entries",IF(OR($D26<Assumptions!$F$5,$D26>Assumptions!$F$6),"Check move-in date",IF(OR(AND(ISNUMBER($E26),$E26>Assumptions!$F$7),AND(ISNUMBER($L26),$L26>Assumptions!$F$7),AND(ISNUMBER($N26),$N26>Assumptions!$F$7),AND(ISNUMBER($O26),$O26>Assumptions!$F$7),AND(ISNUMBER($Q26),$Q26>Assumptions!$F$7)),"Check amount limit",IF(AND(ISNUMBER($N26),$N26>0,$M26=""),"Describe manager-entered charge",IF(AND(ISNUMBER($H26),$H26>IFERROR(IF(VLOOKUP($F26,Assumptions!$A$5:$C$7,2,FALSE)="ACTUAL",DAY(EOMONTH($D26,0)),VLOOKUP($F26,Assumptions!$A$5:$C$7,3,FALSE)),Assumptions!$F$8)),"Check prorated days",IF(OR($H26="",$I26="",$K26="",$P26=""),"Check calculation settings",IF($T26="Canceled","Canceled: verify amounts",IF(AND($T26="Complete",$R26>0),"Complete status has balance",IF(AND(ISNUMBER($P26),ISNUMBER($Q26),$Q26>$P26),"Received exceeds total",IF(AND(ISNUMBER($D26),$D26<TODAY(),$R26>0,$T26<>"Canceled"),"Past move-in with balance",""))))))))))))) | X26: ="" | Z26: ="" | AA26: ="" | AB26: =""
