Workbook

Sheet Summary
A1: Rental Parking Assignment Register
A2: Internal parking assignment review; all sample records are fictional.
A3: Review Date | B3: =Assumptions!$B$4
A5: Active Assignments | B5: =IF(Assumptions!$B$4="","",COUNTIFS(Assignments!$I$5:$I$104,"<="&Assumptions!$B$4,Assignments!$J$5:$J$104,">="&Assumptions!$B$4,Assignments!$L$5:$L$104,Assumptions!$D$10)+COUNTIFS(Assignments!$I$5:$I$104,"<="&Assumptions!$B$4,Assignments!$J$5:$J$104,"",Assignments!$L$5:$L$104,Assumptions!$D$10)) | D5: In-Service Spaces | E5: =COUNTIF(Spaces!$D$5:$D$104,Assumptions!$F$10)
A6: Scheduled Assignments | B6: =COUNTIF(Assignments!$L$5:$L$104,Assumptions!$D$11) | D6: Assigned Spaces | E6: =COUNTIF(Spaces!$F$5:$F$104,Assumptions!$G$10)
A7: Assignments Ending Soon | B7: =IF(OR(Assumptions!$B$4="",Assumptions!$B$5=""),"",COUNTIFS(Assignments!$L$5:$L$104,Assumptions!$D$10,Assignments!$J$5:$J$104,">="&Assumptions!$B$4,Assignments!$J$5:$J$104,"<="&Assumptions!$B$4+Assumptions!$B$5)) | D7: Available Spaces | E7: =COUNTIF(Spaces!$F$5:$F$104,Assumptions!$G$11)
A8: Assignment Records | B8: =COUNTIF(Assignments!$A$5:$A$104,"<>") | D8: Out-of-Service Spaces | E8: =COUNTIF(Spaces!$F$5:$F$104,Assumptions!$G$12)
A9: Rows or Spaces Needing Review | B9: =SUM(COUNTIF(Assignments!$O$5:$O$104,"Review record"),COUNTIF(Spaces!$G$5:$G$104,"CHECK*")) | D9: Space Utilization | E9: =IFERROR(E6/E5,"")
A12: Property Detail — First 10 Assumptions Entries
A13: Property | B13: In-Service Spaces | C13: Active Assignments | D13: Utilization | E13: Ending Soon | F13: Review Items
A14: =IFERROR(IF(Assumptions!$A$10="","",Assumptions!$A$10),"") | B14: =IF($A14="","",COUNTIFS(Spaces!$A$5:$A$104,$A14,Spaces!$D$5:$D$104,Assumptions!$F$10)) | C14: =IF(OR($A14="",Assumptions!$B$4=""),"",COUNTIFS(Assignments!$B$5:$B$104,$A14,Assignments!$I$5:$I$104,"<="&Assumptions!$B$4,Assignments!$J$5:$J$104,">="&Assumptions!$B$4,Assignments!$L$5:$L$104,Assumptions!$D$10)+COUNTIFS(Assignments!$B$5:$B$104,$A14,Assignments!$I$5:$I$104,"<="&Assumptions!$B$4,Assignments!$J$5:$J$104,"",Assignments!$L$5:$L$104,Assumptions!$D$10)) | D14: =IF($A14="","",IFERROR($C14/$B14,"")) | E14: =IF(OR($A14="",Assumptions!$B$4="",Assumptions!$B$5=""),"",COUNTIFS(Assignments!$B$5:$B$104,$A14,Assignments!$L$5:$L$104,Assumptions!$D$10,Assignments!$J$5:$J$104,">="&Assumptions!$B$4,Assignments!$J$5:$J$104,"<="&Assumptions!$B$4+Assumptions!$B$5)) | F14: =IF($A14="","",SUM(COUNTIFS(Assignments!$B$5:$B$104,$A14,Assignments!$O$5:$O$104,"Review record"),COUNTIFS(Spaces!$A$5:$A$104,$A14,Spaces!$G$5:$G$104,"CHECK*")))
A15: =IFERROR(IF(Assumptions!$A$11="","",Assumptions!$A$11),"") | B15: =IF($A15="","",COUNTIFS(Spaces!$A$5:$A$104,$A15,Spaces!$D$5:$D$104,Assumptions!$F$10)) | C15: =IF(OR($A15="",Assumptions!$B$4=""),"",COUNTIFS(Assignments!$B$5:$B$104,$A15,Assignments!$I$5:$I$104,"<="&Assumptions!$B$4,Assignments!$J$5:$J$104,">="&Assumptions!$B$4,Assignments!$L$5:$L$104,Assumptions!$D$10)+COUNTIFS(Assignments!$B$5:$B$104,$A15,Assignments!$I$5:$I$104,"<="&Assumptions!$B$4,Assignments!$J$5:$J$104,"",Assignments!$L$5:$L$104,Assumptions!$D$10)) | D15: =IF($A15="","",IFERROR($C15/$B15,"")) | E15: =IF(OR($A15="",Assumptions!$B$4="",Assumptions!$B$5=""),"",COUNTIFS(Assignments!$B$5:$B$104,$A15,Assignments!$L$5:$L$104,Assumptions!$D$10,Assignments!$J$5:$J$104,">="&Assumptions!$B$4,Assignments!$J$5:$J$104,"<="&Assumptions!$B$4+Assumptions!$B$5)) | F15: =IF($A15="","",SUM(COUNTIFS(Assignments!$B$5:$B$104,$A15,Assignments!$O$5:$O$104,"Review record"),COUNTIFS(Spaces!$A$5:$A$104,$A15,Spaces!$G$5:$G$104,"CHECK*")))
A16: =IFERROR(IF(Assumptions!$A$12="","",Assumptions!$A$12),"") | B16: =IF($A16="","",COUNTIFS(Spaces!$A$5:$A$104,$A16,Spaces!$D$5:$D$104,Assumptions!$F$10)) | C16: =IF(OR($A16="",Assumptions!$B$4=""),"",COUNTIFS(Assignments!$B$5:$B$104,$A16,Assignments!$I$5:$I$104,"<="&Assumptions!$B$4,Assignments!$J$5:$J$104,">="&Assumptions!$B$4,Assignments!$L$5:$L$104,Assumptions!$D$10)+COUNTIFS(Assignments!$B$5:$B$104,$A16,Assignments!$I$5:$I$104,"<="&Assumptions!$B$4,Assignments!$J$5:$J$104,"",Assignments!$L$5:$L$104,Assumptions!$D$10)) | D16: =IF($A16="","",IFERROR($C16/$B16,"")) | E16: =IF(OR($A16="",Assumptions!$B$4="",Assumptions!$B$5=""),"",COUNTIFS(Assignments!$B$5:$B$104,$A16,Assignments!$L$5:$L$104,Assumptions!$D$10,Assignments!$J$5:$J$104,">="&Assumptions!$B$4,Assignments!$J$5:$J$104,"<="&Assumptions!$B$4+Assumptions!$B$5)) | F16: =IF($A16="","",SUM(COUNTIFS(Assignments!$B$5:$B$104,$A16,Assignments!$O$5:$O$104,"Review record"),COUNTIFS(Spaces!$A$5:$A$104,$A16,Spaces!$G$5:$G$104,"CHECK*")))
A17: =IFERROR(IF(Assumptions!$A$13="","",Assumptions!$A$13),"") | B17: =IF($A17="","",COUNTIFS(Spaces!$A$5:$A$104,$A17,Spaces!$D$5:$D$104,Assumptions!$F$10)) | C17: =IF(OR($A17="",Assumptions!$B$4=""),"",COUNTIFS(Assignments!$B$5:$B$104,$A17,Assignments!$I$5:$I$104,"<="&Assumptions!$B$4,Assignments!$J$5:$J$104,">="&Assumptions!$B$4,Assignments!$L$5:$L$104,Assumptions!$D$10)+COUNTIFS(Assignments!$B$5:$B$104,$A17,Assignments!$I$5:$I$104,"<="&Assumptions!$B$4,Assignments!$J$5:$J$104,"",Assignments!$L$5:$L$104,Assumptions!$D$10)) | D17: =IF($A17="","",IFERROR($C17/$B17,"")) | E17: =IF(OR($A17="",Assumptions!$B$4="",Assumptions!$B$5=""),"",COUNTIFS(Assignments!$B$5:$B$104,$A17,Assignments!$L$5:$L$104,Assumptions!$D$10,Assignments!$J$5:$J$104,">="&Assumptions!$B$4,Assignments!$J$5:$J$104,"<="&Assumptions!$B$4+Assumptions!$B$5)) | F17: =IF($A17="","",SUM(COUNTIFS(Assignments!$B$5:$B$104,$A17,Assignments!$O$5:$O$104,"Review record"),COUNTIFS(Spaces!$A$5:$A$104,$A17,Spaces!$G$5:$G$104,"CHECK*")))
A18: =IFERROR(IF(Assumptions!$A$14="","",Assumptions!$A$14),"") | B18: =IF($A18="","",COUNTIFS(Spaces!$A$5:$A$104,$A18,Spaces!$D$5:$D$104,Assumptions!$F$10)) | C18: =IF(OR($A18="",Assumptions!$B$4=""),"",COUNTIFS(Assignments!$B$5:$B$104,$A18,Assignments!$I$5:$I$104,"<="&Assumptions!$B$4,Assignments!$J$5:$J$104,">="&Assumptions!$B$4,Assignments!$L$5:$L$104,Assumptions!$D$10)+COUNTIFS(Assignments!$B$5:$B$104,$A18,Assignments!$I$5:$I$104,"<="&Assumptions!$B$4,Assignments!$J$5:$J$104,"",Assignments!$L$5:$L$104,Assumptions!$D$10)) | D18: =IF($A18="","",IFERROR($C18/$B18,"")) | E18: =IF(OR($A18="",Assumptions!$B$4="",Assumptions!$B$5=""),"",COUNTIFS(Assignments!$B$5:$B$104,$A18,Assignments!$L$5:$L$104,Assumptions!$D$10,Assignments!$J$5:$J$104,">="&Assumptions!$B$4,Assignments!$J$5:$J$104,"<="&Assumptions!$B$4+Assumptions!$B$5)) | F18: =IF($A18="","",SUM(COUNTIFS(Assignments!$B$5:$B$104,$A18,Assignments!$O$5:$O$104,"Review record"),COUNTIFS(Spaces!$A$5:$A$104,$A18,Spaces!$G$5:$G$104,"CHECK*")))
A19: =IFERROR(IF(Assumptions!$A$15="","",Assumptions!$A$15),"") | B19: =IF($A19="","",COUNTIFS(Spaces!$A$5:$A$104,$A19,Spaces!$D$5:$D$104,Assumptions!$F$10)) | C19: =IF(OR($A19="",Assumptions!$B$4=""),"",COUNTIFS(Assignments!$B$5:$B$104,$A19,Assignments!$I$5:$I$104,"<="&Assumptions!$B$4,Assignments!$J$5:$J$104,">="&Assumptions!$B$4,Assignments!$L$5:$L$104,Assumptions!$D$10)+COUNTIFS(Assignments!$B$5:$B$104,$A19,Assignments!$I$5:$I$104,"<="&Assumptions!$B$4,Assignments!$J$5:$J$104,"",Assignments!$L$5:$L$104,Assumptions!$D$10)) | D19: =IF($A19="","",IFERROR($C19/$B19,"")) | E19: =IF(OR($A19="",Assumptions!$B$4="",Assumptions!$B$5=""),"",COUNTIFS(Assignments!$B$5:$B$104,$A19,Assignments!$L$5:$L$104,Assumptions!$D$10,Assignments!$J$5:$J$104,">="&Assumptions!$B$4,Assignments!$J$5:$J$104,"<="&Assumptions!$B$4+Assumptions!$B$5)) | F19: =IF($A19="","",SUM(COUNTIFS(Assignments!$B$5:$B$104,$A19,Assignments!$O$5:$O$104,"Review record"),COUNTIFS(Spaces!$A$5:$A$104,$A19,Spaces!$G$5:$G$104,"CHECK*")))
A20: =IFERROR(IF(Assumptions!$A$16="","",Assumptions!$A$16),"") | B20: =IF($A20="","",COUNTIFS(Spaces!$A$5:$A$104,$A20,Spaces!$D$5:$D$104,Assumptions!$F$10)) | C20: =IF(OR($A20="",Assumptions!$B$4=""),"",COUNTIFS(Assignments!$B$5:$B$104,$A20,Assignments!$I$5:$I$104,"<="&Assumptions!$B$4,Assignments!$J$5:$J$104,">="&Assumptions!$B$4,Assignments!$L$5:$L$104,Assumptions!$D$10)+COUNTIFS(Assignments!$B$5:$B$104,$A20,Assignments!$I$5:$I$104,"<="&Assumptions!$B$4,Assignments!$J$5:$J$104,"",Assignments!$L$5:$L$104,Assumptions!$D$10)) | D20: =IF($A20="","",IFERROR($C20/$B20,"")) | E20: =IF(OR($A20="",Assumptions!$B$4="",Assumptions!$B$5=""),"",COUNTIFS(Assignments!$B$5:$B$104,$A20,Assignments!$L$5:$L$104,Assumptions!$D$10,Assignments!$J$5:$J$104,">="&Assumptions!$B$4,Assignments!$J$5:$J$104,"<="&Assumptions!$B$4+Assumptions!$B$5)) | F20: =IF($A20="","",SUM(COUNTIFS(Assignments!$B$5:$B$104,$A20,Assignments!$O$5:$O$104,"Review record"),COUNTIFS(Spaces!$A$5:$A$104,$A20,Spaces!$G$5:$G$104,"CHECK*")))
A21: =IFERROR(IF(Assumptions!$A$17="","",Assumptions!$A$17),"") | B21: =IF($A21="","",COUNTIFS(Spaces!$A$5:$A$104,$A21,Spaces!$D$5:$D$104,Assumptions!$F$10)) | C21: =IF(OR($A21="",Assumptions!$B$4=""),"",COUNTIFS(Assignments!$B$5:$B$104,$A21,Assignments!$I$5:$I$104,"<="&Assumptions!$B$4,Assignments!$J$5:$J$104,">="&Assumptions!$B$4,Assignments!$L$5:$L$104,Assumptions!$D$10)+COUNTIFS(Assignments!$B$5:$B$104,$A21,Assignments!$I$5:$I$104,"<="&Assumptions!$B$4,Assignments!$J$5:$J$104,"",Assignments!$L$5:$L$104,Assumptions!$D$10)) | D21: =IF($A21="","",IFERROR($C21/$B21,"")) | E21: =IF(OR($A21="",Assumptions!$B$4="",Assumptions!$B$5=""),"",COUNTIFS(Assignments!$B$5:$B$104,$A21,Assignments!$L$5:$L$104,Assumptions!$D$10,Assignments!$J$5:$J$104,">="&Assumptions!$B$4,Assignments!$J$5:$J$104,"<="&Assumptions!$B$4+Assumptions!$B$5)) | F21: =IF($A21="","",SUM(COUNTIFS(Assignments!$B$5:$B$104,$A21,Assignments!$O$5:$O$104,"Review record"),COUNTIFS(Spaces!$A$5:$A$104,$A21,Spaces!$G$5:$G$104,"CHECK*")))
A22: =IFERROR(IF(Assumptions!$A$18="","",Assumptions!$A$18),"") | B22: =IF($A22="","",COUNTIFS(Spaces!$A$5:$A$104,$A22,Spaces!$D$5:$D$104,Assumptions!$F$10)) | C22: =IF(OR($A22="",Assumptions!$B$4=""),"",COUNTIFS(Assignments!$B$5:$B$104,$A22,Assignments!$I$5:$I$104,"<="&Assumptions!$B$4,Assignments!$J$5:$J$104,">="&Assumptions!$B$4,Assignments!$L$5:$L$104,Assumptions!$D$10)+COUNTIFS(Assignments!$B$5:$B$104,$A22,Assignments!$I$5:$I$104,"<="&Assumptions!$B$4,Assignments!$J$5:$J$104,"",Assignments!$L$5:$L$104,Assumptions!$D$10)) | D22: =IF($A22="","",IFERROR($C22/$B22,"")) | E22: =IF(OR($A22="",Assumptions!$B$4="",Assumptions!$B$5=""),"",COUNTIFS(Assignments!$B$5:$B$104,$A22,Assignments!$L$5:$L$104,Assumptions!$D$10,Assignments!$J$5:$J$104,">="&Assumptions!$B$4,Assignments!$J$5:$J$104,"<="&Assumptions!$B$4+Assumptions!$B$5)) | F22: =IF($A22="","",SUM(COUNTIFS(Assignments!$B$5:$B$104,$A22,Assignments!$O$5:$O$104,"Review record"),COUNTIFS(Spaces!$A$5:$A$104,$A22,Spaces!$G$5:$G$104,"CHECK*")))
A23: =IFERROR(IF(Assumptions!$A$19="","",Assumptions!$A$19),"") | B23: =IF($A23="","",COUNTIFS(Spaces!$A$5:$A$104,$A23,Spaces!$D$5:$D$104,Assumptions!$F$10)) | C23: =IF(OR($A23="",Assumptions!$B$4=""),"",COUNTIFS(Assignments!$B$5:$B$104,$A23,Assignments!$I$5:$I$104,"<="&Assumptions!$B$4,Assignments!$J$5:$J$104,">="&Assumptions!$B$4,Assignments!$L$5:$L$104,Assumptions!$D$10)+COUNTIFS(Assignments!$B$5:$B$104,$A23,Assignments!$I$5:$I$104,"<="&Assumptions!$B$4,Assignments!$J$5:$J$104,"",Assignments!$L$5:$L$104,Assumptions!$D$10)) | D23: =IF($A23="","",IFERROR($C23/$B23,"")) | E23: =IF(OR($A23="",Assumptions!$B$4="",Assumptions!$B$5=""),"",COUNTIFS(Assignments!$B$5:$B$104,$A23,Assignments!$L$5:$L$104,Assumptions!$D$10,Assignments!$J$5:$J$104,">="&Assumptions!$B$4,Assignments!$J$5:$J$104,"<="&Assumptions!$B$4+Assumptions!$B$5)) | F23: =IF($A23="","",SUM(COUNTIFS(Assignments!$B$5:$B$104,$A23,Assignments!$O$5:$O$104,"Review record"),COUNTIFS(Spaces!$A$5:$A$104,$A23,Spaces!$G$5:$G$104,"CHECK*")))
A25: Checks identify entered-data conditions for human review. They do not verify leases, permits, local rules, vehicle eligibility, or external records.

Sheet Assignments
A1: Parking Assignments
A2: Yellow cells are editable. Formula alerts prompt a human review and do not represent an official status.
A4: Assignment ID | B4: Property | C4: Unit | D4: Tenant or Household | E4: Parking Space | F4: Permit ID | G4: Vehicle Description | H4: Vehicle Identifier | I4: Start Date | J4: End Date | K4: Permit Responsibility | L4: Assignment Status | M4: Date Check | N4: Space Check | O4: Follow-Up
A5: SAMPLE-ASG-001 | B5: Fictional Juniper Court | C5: SAMPLE-UNIT-J101 | D5: Fictional Avery Household | E5: SAMPLE-JC-01 | F5: SAMPLE-PERMIT-001 | G5: Fictional blue compact car | H5: SAMPLE-VEH-001 | I5: 46096 | K5: Tenant | L5: Active | M5: =IF($A5="","",IF(Assumptions!$B$4="","CHECK REVIEW DATE",IF(OR($B5="",$C5="",$D5="",$E5="",$I5="",$K5="",$L5=""),"CHECK REQUIRED FIELDS",IF(AND($J5<>"",$J5<$I5),"CHECK END DATE",IF(AND($L5=Assumptions!$D$10,OR($I5>Assumptions!$B$4,AND($J5<>"",$J5<Assumptions!$B$4))),"CHECK STATUS / DATES",IF(AND($L5=Assumptions!$D$11,$I5<=Assumptions!$B$4),"CHECK STATUS / DATES",IF(AND($L5=Assumptions!$D$12,OR($J5="",$J5>=Assumptions!$B$4)),"CHECK STATUS / DATES","Clear"))))))) | N5: =IF(OR($A5="",$B5="",$E5=""),"",IF(COUNTIFS(Spaces!$A$5:$A$104,$B5,Spaces!$B$5:$B$104,$E5)=0,"CHECK SPACE LIST",IF(COUNTIFS(Spaces!$A$5:$A$104,$B5,Spaces!$B$5:$B$104,$E5,Spaces!$D$5:$D$104,Assumptions!$F$11)>0,"CHECK SPACE SERVICE",IF($L5=Assumptions!$D$12,"Not checked",IF(SUMPRODUCT(($B$5:$B$104=$B5)*($E$5:$E$104=$E5)*(ROW($E$5:$E$104)<>ROW($E5))*($I$5:$I$104<>"")*($L$5:$L$104<>Assumptions!$D$12)*($I$5:$I$104<=IF($J5="",DATE(9999,12,31),$J5))*((($J$5:$J$104="")+($J$5:$J$104>=$I5))>0))>0,"CHECK OVERLAP","Clear"))))) | O5: =IF($A5="","",IF(OR(LEFT($M5,5)="CHECK",LEFT($N5,5)="CHECK"),"Review record",IF(AND($L5=Assumptions!$D$10,$J5<>"",Assumptions!$B$4<>"",$J5>=Assumptions!$B$4,$J5<=Assumptions!$B$4+Assumptions!$B$5),"Ending soon",IF(AND($L5=Assumptions!$D$11,Assumptions!$B$4<>"",$I5>Assumptions!$B$4),"Future start","None"))))
A6: SAMPLE-ASG-002 | B6: Fictional Juniper Court | C6: SAMPLE-UNIT-J102 | D6: Fictional Blake Household | E6: SAMPLE-JC-02 | F6: SAMPLE-PERMIT-002 | G6: Fictional gray sedan | H6: SAMPLE-VEH-002 | I6: 46186 | J6: 46296 | K6: Tenant | L6: Active | M6: =IF($A6="","",IF(Assumptions!$B$4="","CHECK REVIEW DATE",IF(OR($B6="",$C6="",$D6="",$E6="",$I6="",$K6="",$L6=""),"CHECK REQUIRED FIELDS",IF(AND($J6<>"",$J6<$I6),"CHECK END DATE",IF(AND($L6=Assumptions!$D$10,OR($I6>Assumptions!$B$4,AND($J6<>"",$J6<Assumptions!$B$4))),"CHECK STATUS / DATES",IF(AND($L6=Assumptions!$D$11,$I6<=Assumptions!$B$4),"CHECK STATUS / DATES",IF(AND($L6=Assumptions!$D$12,OR($J6="",$J6>=Assumptions!$B$4)),"CHECK STATUS / DATES","Clear"))))))) | N6: =IF(OR($A6="",$B6="",$E6=""),"",IF(COUNTIFS(Spaces!$A$5:$A$104,$B6,Spaces!$B$5:$B$104,$E6)=0,"CHECK SPACE LIST",IF(COUNTIFS(Spaces!$A$5:$A$104,$B6,Spaces!$B$5:$B$104,$E6,Spaces!$D$5:$D$104,Assumptions!$F$11)>0,"CHECK SPACE SERVICE",IF($L6=Assumptions!$D$12,"Not checked",IF(SUMPRODUCT(($B$5:$B$104=$B6)*($E$5:$E$104=$E6)*(ROW($E$5:$E$104)<>ROW($E6))*($I$5:$I$104<>"")*($L$5:$L$104<>Assumptions!$D$12)*($I$5:$I$104<=IF($J6="",DATE(9999,12,31),$J6))*((($J$5:$J$104="")+($J$5:$J$104>=$I6))>0))>0,"CHECK OVERLAP","Clear"))))) | O6: =IF($A6="","",IF(OR(LEFT($M6,5)="CHECK",LEFT($N6,5)="CHECK"),"Review record",IF(AND($L6=Assumptions!$D$10,$J6<>"",Assumptions!$B$4<>"",$J6>=Assumptions!$B$4,$J6<=Assumptions!$B$4+Assumptions!$B$5),"Ending soon",IF(AND($L6=Assumptions!$D$11,Assumptions!$B$4<>"",$I6>Assumptions!$B$4),"Future start","None"))))
A7: SAMPLE-ASG-003 | B7: Fictional Juniper Court | C7: SAMPLE-UNIT-J103 | D7: Fictional Casey Household | E7: SAMPLE-JC-03 | F7: SAMPLE-PERMIT-003 | G7: Fictional white hatchback | H7: SAMPLE-VEH-003 | I7: 46291 | J7: 46456 | K7: Property Manager | L7: Scheduled | M7: =IF($A7="","",IF(Assumptions!$B$4="","CHECK REVIEW DATE",IF(OR($B7="",$C7="",$D7="",$E7="",$I7="",$K7="",$L7=""),"CHECK REQUIRED FIELDS",IF(AND($J7<>"",$J7<$I7),"CHECK END DATE",IF(AND($L7=Assumptions!$D$10,OR($I7>Assumptions!$B$4,AND($J7<>"",$J7<Assumptions!$B$4))),"CHECK STATUS / DATES",IF(AND($L7=Assumptions!$D$11,$I7<=Assumptions!$B$4),"CHECK STATUS / DATES",IF(AND($L7=Assumptions!$D$12,OR($J7="",$J7>=Assumptions!$B$4)),"CHECK STATUS / DATES","Clear"))))))) | N7: =IF(OR($A7="",$B7="",$E7=""),"",IF(COUNTIFS(Spaces!$A$5:$A$104,$B7,Spaces!$B$5:$B$104,$E7)=0,"CHECK SPACE LIST",IF(COUNTIFS(Spaces!$A$5:$A$104,$B7,Spaces!$B$5:$B$104,$E7,Spaces!$D$5:$D$104,Assumptions!$F$11)>0,"CHECK SPACE SERVICE",IF($L7=Assumptions!$D$12,"Not checked",IF(SUMPRODUCT(($B$5:$B$104=$B7)*($E$5:$E$104=$E7)*(ROW($E$5:$E$104)<>ROW($E7))*($I$5:$I$104<>"")*($L$5:$L$104<>Assumptions!$D$12)*($I$5:$I$104<=IF($J7="",DATE(9999,12,31),$J7))*((($J$5:$J$104="")+($J$5:$J$104>=$I7))>0))>0,"CHECK OVERLAP","Clear"))))) | O7: =IF($A7="","",IF(OR(LEFT($M7,5)="CHECK",LEFT($N7,5)="CHECK"),"Review record",IF(AND($L7=Assumptions!$D$10,$J7<>"",Assumptions!$B$4<>"",$J7>=Assumptions!$B$4,$J7<=Assumptions!$B$4+Assumptions!$B$5),"Ending soon",IF(AND($L7=Assumptions!$D$11,Assumptions!$B$4<>"",$I7>Assumptions!$B$4),"Future start","None"))))
A8: SAMPLE-ASG-004 | B8: Fictional Harbor Mews | C8: SAMPLE-UNIT-H201 | D8: Fictional Drew Household | E8: SAMPLE-HM-01 | F8: SAMPLE-PERMIT-004 | G8: Fictional green crossover | H8: SAMPLE-VEH-004 | I8: 45976 | J8: 46396 | K8: Tenant | L8: Active | M8: =IF($A8="","",IF(Assumptions!$B$4="","CHECK REVIEW DATE",IF(OR($B8="",$C8="",$D8="",$E8="",$I8="",$K8="",$L8=""),"CHECK REQUIRED FIELDS",IF(AND($J8<>"",$J8<$I8),"CHECK END DATE",IF(AND($L8=Assumptions!$D$10,OR($I8>Assumptions!$B$4,AND($J8<>"",$J8<Assumptions!$B$4))),"CHECK STATUS / DATES",IF(AND($L8=Assumptions!$D$11,$I8<=Assumptions!$B$4),"CHECK STATUS / DATES",IF(AND($L8=Assumptions!$D$12,OR($J8="",$J8>=Assumptions!$B$4)),"CHECK STATUS / DATES","Clear"))))))) | N8: =IF(OR($A8="",$B8="",$E8=""),"",IF(COUNTIFS(Spaces!$A$5:$A$104,$B8,Spaces!$B$5:$B$104,$E8)=0,"CHECK SPACE LIST",IF(COUNTIFS(Spaces!$A$5:$A$104,$B8,Spaces!$B$5:$B$104,$E8,Spaces!$D$5:$D$104,Assumptions!$F$11)>0,"CHECK SPACE SERVICE",IF($L8=Assumptions!$D$12,"Not checked",IF(SUMPRODUCT(($B$5:$B$104=$B8)*($E$5:$E$104=$E8)*(ROW($E$5:$E$104)<>ROW($E8))*($I$5:$I$104<>"")*($L$5:$L$104<>Assumptions!$D$12)*($I$5:$I$104<=IF($J8="",DATE(9999,12,31),$J8))*((($J$5:$J$104="")+($J$5:$J$104>=$I8))>0))>0,"CHECK OVERLAP","Clear"))))) | O8: =IF($A8="","",IF(OR(LEFT($M8,5)="CHECK",LEFT($N8,5)="CHECK"),"Review record",IF(AND($L8=Assumptions!$D$10,$J8<>"",Assumptions!$B$4<>"",$J8>=Assumptions!$B$4,$J8<=Assumptions!$B$4+Assumptions!$B$5),"Ending soon",IF(AND($L8=Assumptions!$D$11,Assumptions!$B$4<>"",$I8>Assumptions!$B$4),"Future start","None"))))
A9: SAMPLE-ASG-005 | B9: Fictional Harbor Mews | C9: SAMPLE-UNIT-H202 | D9: Fictional Ellis Household | E9: SAMPLE-HM-02 | F9: SAMPLE-PERMIT-005 | G9: Fictional silver coupe | H9: SAMPLE-VEH-005 | I9: 45876 | J9: 46266 | K9: Tenant | L9: Ended | M9: =IF($A9="","",IF(Assumptions!$B$4="","CHECK REVIEW DATE",IF(OR($B9="",$C9="",$D9="",$E9="",$I9="",$K9="",$L9=""),"CHECK REQUIRED FIELDS",IF(AND($J9<>"",$J9<$I9),"CHECK END DATE",IF(AND($L9=Assumptions!$D$10,OR($I9>Assumptions!$B$4,AND($J9<>"",$J9<Assumptions!$B$4))),"CHECK STATUS / DATES",IF(AND($L9=Assumptions!$D$11,$I9<=Assumptions!$B$4),"CHECK STATUS / DATES",IF(AND($L9=Assumptions!$D$12,OR($J9="",$J9>=Assumptions!$B$4)),"CHECK STATUS / DATES","Clear"))))))) | N9: =IF(OR($A9="",$B9="",$E9=""),"",IF(COUNTIFS(Spaces!$A$5:$A$104,$B9,Spaces!$B$5:$B$104,$E9)=0,"CHECK SPACE LIST",IF(COUNTIFS(Spaces!$A$5:$A$104,$B9,Spaces!$B$5:$B$104,$E9,Spaces!$D$5:$D$104,Assumptions!$F$11)>0,"CHECK SPACE SERVICE",IF($L9=Assumptions!$D$12,"Not checked",IF(SUMPRODUCT(($B$5:$B$104=$B9)*($E$5:$E$104=$E9)*(ROW($E$5:$E$104)<>ROW($E9))*($I$5:$I$104<>"")*($L$5:$L$104<>Assumptions!$D$12)*($I$5:$I$104<=IF($J9="",DATE(9999,12,31),$J9))*((($J$5:$J$104="")+($J$5:$J$104>=$I9))>0))>0,"CHECK OVERLAP","Clear"))))) | O9: =IF($A9="","",IF(OR(LEFT($M9,5)="CHECK",LEFT($N9,5)="CHECK"),"Review record",IF(AND($L9=Assumptions!$D$10,$J9<>"",Assumptions!$B$4<>"",$J9>=Assumptions!$B$4,$J9<=Assumptions!$B$4+Assumptions!$B$5),"Ending soon",IF(AND($L9=Assumptions!$D$11,Assumptions!$B$4<>"",$I9>Assumptions!$B$4),"Future start","None"))))
A10: SAMPLE-ASG-006 | B10: Fictional Copper Lane Homes | C10: SAMPLE-UNIT-C301 | D10: Fictional Gray Household | E10: SAMPLE-CL-01 | F10: SAMPLE-PERMIT-006 | G10: Fictional red small utility vehicle | H10: SAMPLE-VEH-006 | I10: 46246 | K10: Owner | L10: Active | M10: =IF($A10="","",IF(Assumptions!$B$4="","CHECK REVIEW DATE",IF(OR($B10="",$C10="",$D10="",$E10="",$I10="",$K10="",$L10=""),"CHECK REQUIRED FIELDS",IF(AND($J10<>"",$J10<$I10),"CHECK END DATE",IF(AND($L10=Assumptions!$D$10,OR($I10>Assumptions!$B$4,AND($J10<>"",$J10<Assumptions!$B$4))),"CHECK STATUS / DATES",IF(AND($L10=Assumptions!$D$11,$I10<=Assumptions!$B$4),"CHECK STATUS / DATES",IF(AND($L10=Assumptions!$D$12,OR($J10="",$J10>=Assumptions!$B$4)),"CHECK STATUS / DATES","Clear"))))))) | N10: =IF(OR($A10="",$B10="",$E10=""),"",IF(COUNTIFS(Spaces!$A$5:$A$104,$B10,Spaces!$B$5:$B$104,$E10)=0,"CHECK SPACE LIST",IF(COUNTIFS(Spaces!$A$5:$A$104,$B10,Spaces!$B$5:$B$104,$E10,Spaces!$D$5:$D$104,Assumptions!$F$11)>0,"CHECK SPACE SERVICE",IF($L10=Assumptions!$D$12,"Not checked",IF(SUMPRODUCT(($B$5:$B$104=$B10)*($E$5:$E$104=$E10)*(ROW($E$5:$E$104)<>ROW($E10))*($I$5:$I$104<>"")*($L$5:$L$104<>Assumptions!$D$12)*($I$5:$I$104<=IF($J10="",DATE(9999,12,31),$J10))*((($J$5:$J$104="")+($J$5:$J$104>=$I10))>0))>0,"CHECK OVERLAP","Clear"))))) | O10: =IF($A10="","",IF(OR(LEFT($M10,5)="CHECK",LEFT($N10,5)="CHECK"),"Review record",IF(AND($L10=Assumptions!$D$10,$J10<>"",Assumptions!$B$4<>"",$J10>=Assumptions!$B$4,$J10<=Assumptions!$B$4+Assumptions!$B$5),"Ending soon",IF(AND($L10=Assumptions!$D$11,Assumptions!$B$4<>"",$I10>Assumptions!$B$4),"Future start","None"))))
A11: SAMPLE-ASG-007 | B11: Fictional Copper Lane Homes | C11: SAMPLE-UNIT-C302 | D11: Fictional Harper Household | E11: SAMPLE-CL-02 | F11: SAMPLE-PERMIT-007 | G11: Fictional black sedan | H11: SAMPLE-VEH-007 | I11: 46216 | J11: 46306 | K11: Tenant | L11: Active | M11: =IF($A11="","",IF(Assumptions!$B$4="","CHECK REVIEW DATE",IF(OR($B11="",$C11="",$D11="",$E11="",$I11="",$K11="",$L11=""),"CHECK REQUIRED FIELDS",IF(AND($J11<>"",$J11<$I11),"CHECK END DATE",IF(AND($L11=Assumptions!$D$10,OR($I11>Assumptions!$B$4,AND($J11<>"",$J11<Assumptions!$B$4))),"CHECK STATUS / DATES",IF(AND($L11=Assumptions!$D$11,$I11<=Assumptions!$B$4),"CHECK STATUS / DATES",IF(AND($L11=Assumptions!$D$12,OR($J11="",$J11>=Assumptions!$B$4)),"CHECK STATUS / DATES","Clear"))))))) | N11: =IF(OR($A11="",$B11="",$E11=""),"",IF(COUNTIFS(Spaces!$A$5:$A$104,$B11,Spaces!$B$5:$B$104,$E11)=0,"CHECK SPACE LIST",IF(COUNTIFS(Spaces!$A$5:$A$104,$B11,Spaces!$B$5:$B$104,$E11,Spaces!$D$5:$D$104,Assumptions!$F$11)>0,"CHECK SPACE SERVICE",IF($L11=Assumptions!$D$12,"Not checked",IF(SUMPRODUCT(($B$5:$B$104=$B11)*($E$5:$E$104=$E11)*(ROW($E$5:$E$104)<>ROW($E11))*($I$5:$I$104<>"")*($L$5:$L$104<>Assumptions!$D$12)*($I$5:$I$104<=IF($J11="",DATE(9999,12,31),$J11))*((($J$5:$J$104="")+($J$5:$J$104>=$I11))>0))>0,"CHECK OVERLAP","Clear"))))) | O11: =IF($A11="","",IF(OR(LEFT($M11,5)="CHECK",LEFT($N11,5)="CHECK"),"Review record",IF(AND($L11=Assumptions!$D$10,$J11<>"",Assumptions!$B$4<>"",$J11>=Assumptions!$B$4,$J11<=Assumptions!$B$4+Assumptions!$B$5),"Ending soon",IF(AND($L11=Assumptions!$D$11,Assumptions!$B$4<>"",$I11>Assumptions!$B$4),"Future start","None"))))
A12: SAMPLE-ASG-008 | B12: Fictional Willow Row | C12: SAMPLE-UNIT-W401 | D12: Fictional Indigo Household | E12: SAMPLE-WR-01 | F12: SAMPLE-PERMIT-008 | G12: Fictional tan wagon | H12: SAMPLE-VEH-008 | I12: 46281 | J12: 46366 | K12: Property Manager | L12: On Hold | M12: =IF($A12="","",IF(Assumptions!$B$4="","CHECK REVIEW DATE",IF(OR($B12="",$C12="",$D12="",$E12="",$I12="",$K12="",$L12=""),"CHECK REQUIRED FIELDS",IF(AND($J12<>"",$J12<$I12),"CHECK END DATE",IF(AND($L12=Assumptions!$D$10,OR($I12>Assumptions!$B$4,AND($J12<>"",$J12<Assumptions!$B$4))),"CHECK STATUS / DATES",IF(AND($L12=Assumptions!$D$11,$I12<=Assumptions!$B$4),"CHECK STATUS / DATES",IF(AND($L12=Assumptions!$D$12,OR($J12="",$J12>=Assumptions!$B$4)),"CHECK STATUS / DATES","Clear"))))))) | N12: =IF(OR($A12="",$B12="",$E12=""),"",IF(COUNTIFS(Spaces!$A$5:$A$104,$B12,Spaces!$B$5:$B$104,$E12)=0,"CHECK SPACE LIST",IF(COUNTIFS(Spaces!$A$5:$A$104,$B12,Spaces!$B$5:$B$104,$E12,Spaces!$D$5:$D$104,Assumptions!$F$11)>0,"CHECK SPACE SERVICE",IF($L12=Assumptions!$D$12,"Not checked",IF(SUMPRODUCT(($B$5:$B$104=$B12)*($E$5:$E$104=$E12)*(ROW($E$5:$E$104)<>ROW($E12))*($I$5:$I$104<>"")*($L$5:$L$104<>Assumptions!$D$12)*($I$5:$I$104<=IF($J12="",DATE(9999,12,31),$J12))*((($J$5:$J$104="")+($J$5:$J$104>=$I12))>0))>0,"CHECK OVERLAP","Clear"))))) | O12: =IF($A12="","",IF(OR(LEFT($M12,5)="CHECK",LEFT($N12,5)="CHECK"),"Review record",IF(AND($L12=Assumptions!$D$10,$J12<>"",Assumptions!$B$4<>"",$J12>=Assumptions!$B$4,$J12<=Assumptions!$B$4+Assumptions!$B$5),"Ending soon",IF(AND($L12=Assumptions!$D$11,Assumptions!$B$4<>"",$I12>Assumptions!$B$4),"Future start","None"))))
A13: SAMPLE-ASG-009 | B13: Fictional Willow Row | C13: SAMPLE-UNIT-W402 | D13: Fictional Jules Household | E13: SAMPLE-WR-02 | F13: SAMPLE-PERMIT-009 | G13: Fictional orange compact car | H13: SAMPLE-VEH-009 | I13: 45911 | K13: Tenant | L13: Active | M13: =IF($A13="","",IF(Assumptions!$B$4="","CHECK REVIEW DATE",IF(OR($B13="",$C13="",$D13="",$E13="",$I13="",$K13="",$L13=""),"CHECK REQUIRED FIELDS",IF(AND($J13<>"",$J13<$I13),"CHECK END DATE",IF(AND($L13=Assumptions!$D$10,OR($I13>Assumptions!$B$4,AND($J13<>"",$J13<Assumptions!$B$4))),"CHECK STATUS / DATES",IF(AND($L13=Assumptions!$D$11,$I13<=Assumptions!$B$4),"CHECK STATUS / DATES",IF(AND($L13=Assumptions!$D$12,OR($J13="",$J13>=Assumptions!$B$4)),"CHECK STATUS / DATES","Clear"))))))) | N13: =IF(OR($A13="",$B13="",$E13=""),"",IF(COUNTIFS(Spaces!$A$5:$A$104,$B13,Spaces!$B$5:$B$104,$E13)=0,"CHECK SPACE LIST",IF(COUNTIFS(Spaces!$A$5:$A$104,$B13,Spaces!$B$5:$B$104,$E13,Spaces!$D$5:$D$104,Assumptions!$F$11)>0,"CHECK SPACE SERVICE",IF($L13=Assumptions!$D$12,"Not checked",IF(SUMPRODUCT(($B$5:$B$104=$B13)*($E$5:$E$104=$E13)*(ROW($E$5:$E$104)<>ROW($E13))*($I$5:$I$104<>"")*($L$5:$L$104<>Assumptions!$D$12)*($I$5:$I$104<=IF($J13="",DATE(9999,12,31),$J13))*((($J$5:$J$104="")+($J$5:$J$104>=$I13))>0))>0,"CHECK OVERLAP","Clear"))))) | O13: =IF($A13="","",IF(OR(LEFT($M13,5)="CHECK",LEFT($N13,5)="CHECK"),"Review record",IF(AND($L13=Assumptions!$D$10,$J13<>"",Assumptions!$B$4<>"",$J13>=Assumptions!$B$4,$J13<=Assumptions!$B$4+Assumptions!$B$5),"Ending soon",IF(AND($L13=Assumptions!$D$11,Assumptions!$B$4<>"",$I13>Assumptions!$B$4),"Future start","None"))))
A14: SAMPLE-ASG-010 | B14: Fictional Juniper Court | C14: SAMPLE-UNIT-J104 | D14: Fictional Kai Household | E14: SAMPLE-JC-02 | F14: SAMPLE-PERMIT-010 | G14: Fictional purple sedan | H14: SAMPLE-VEH-010 | I14: 46286 | J14: 46316 | K14: Tenant | L14: Scheduled | M14: =IF($A14="","",IF(Assumptions!$B$4="","CHECK REVIEW DATE",IF(OR($B14="",$C14="",$D14="",$E14="",$I14="",$K14="",$L14=""),"CHECK REQUIRED FIELDS",IF(AND($J14<>"",$J14<$I14),"CHECK END DATE",IF(AND($L14=Assumptions!$D$10,OR($I14>Assumptions!$B$4,AND($J14<>"",$J14<Assumptions!$B$4))),"CHECK STATUS / DATES",IF(AND($L14=Assumptions!$D$11,$I14<=Assumptions!$B$4),"CHECK STATUS / DATES",IF(AND($L14=Assumptions!$D$12,OR($J14="",$J14>=Assumptions!$B$4)),"CHECK STATUS / DATES","Clear"))))))) | N14: =IF(OR($A14="",$B14="",$E14=""),"",IF(COUNTIFS(Spaces!$A$5:$A$104,$B14,Spaces!$B$5:$B$104,$E14)=0,"CHECK SPACE LIST",IF(COUNTIFS(Spaces!$A$5:$A$104,$B14,Spaces!$B$5:$B$104,$E14,Spaces!$D$5:$D$104,Assumptions!$F$11)>0,"CHECK SPACE SERVICE",IF($L14=Assumptions!$D$12,"Not checked",IF(SUMPRODUCT(($B$5:$B$104=$B14)*($E$5:$E$104=$E14)*(ROW($E$5:$E$104)<>ROW($E14))*($I$5:$I$104<>"")*($L$5:$L$104<>Assumptions!$D$12)*($I$5:$I$104<=IF($J14="",DATE(9999,12,31),$J14))*((($J$5:$J$104="")+($J$5:$J$104>=$I14))>0))>0,"CHECK OVERLAP","Clear"))))) | O14: =IF($A14="","",IF(OR(LEFT($M14,5)="CHECK",LEFT($N14,5)="CHECK"),"Review record",IF(AND($L14=Assumptions!$D$10,$J14<>"",Assumptions!$B$4<>"",$J14>=Assumptions!$B$4,$J14<=Assumptions!$B$4+Assumptions!$B$5),"Ending soon",IF(AND($L14=Assumptions!$D$11,Assumptions!$B$4<>"",$I14>Assumptions!$B$4),"Future start","None"))))
M15: =IF($A15="","",IF(Assumptions!$B$4="","CHECK REVIEW DATE",IF(OR($B15="",$C15="",$D15="",$E15="",$I15="",$K15="",$L15=""),"CHECK REQUIRED FIELDS",IF(AND($J15<>"",$J15<$I15),"CHECK END DATE",IF(AND($L15=Assumptions!$D$10,OR($I15>Assumptions!$B$4,AND($J15<>"",$J15<Assumptions!$B$4))),"CHECK STATUS / DATES",IF(AND($L15=Assumptions!$D$11,$I15<=Assumptions!$B$4),"CHECK STATUS / DATES",IF(AND($L15=Assumptions!$D$12,OR($J15="",$J15>=Assumptions!$B$4)),"CHECK STATUS / DATES","Clear"))))))) | N15: =IF(OR($A15="",$B15="",$E15=""),"",IF(COUNTIFS(Spaces!$A$5:$A$104,$B15,Spaces!$B$5:$B$104,$E15)=0,"CHECK SPACE LIST",IF(COUNTIFS(Spaces!$A$5:$A$104,$B15,Spaces!$B$5:$B$104,$E15,Spaces!$D$5:$D$104,Assumptions!$F$11)>0,"CHECK SPACE SERVICE",IF($L15=Assumptions!$D$12,"Not checked",IF(SUMPRODUCT(($B$5:$B$104=$B15)*($E$5:$E$104=$E15)*(ROW($E$5:$E$104)<>ROW($E15))*($I$5:$I$104<>"")*($L$5:$L$104<>Assumptions!$D$12)*($I$5:$I$104<=IF($J15="",DATE(9999,12,31),$J15))*((($J$5:$J$104="")+($J$5:$J$104>=$I15))>0))>0,"CHECK OVERLAP","Clear"))))) | O15: =IF($A15="","",IF(OR(LEFT($M15,5)="CHECK",LEFT($N15,5)="CHECK"),"Review record",IF(AND($L15=Assumptions!$D$10,$J15<>"",Assumptions!$B$4<>"",$J15>=Assumptions!$B$4,$J15<=Assumptions!$B$4+Assumptions!$B$5),"Ending soon",IF(AND($L15=Assumptions!$D$11,Assumptions!$B$4<>"",$I15>Assumptions!$B$4),"Future start","None"))))
M16: =IF($A16="","",IF(Assumptions!$B$4="","CHECK REVIEW DATE",IF(OR($B16="",$C16="",$D16="",$E16="",$I16="",$K16="",$L16=""),"CHECK REQUIRED FIELDS",IF(AND($J16<>"",$J16<$I16),"CHECK END DATE",IF(AND($L16=Assumptions!$D$10,OR($I16>Assumptions!$B$4,AND($J16<>"",$J16<Assumptions!$B$4))),"CHECK STATUS / DATES",IF(AND($L16=Assumptions!$D$11,$I16<=Assumptions!$B$4),"CHECK STATUS / DATES",IF(AND($L16=Assumptions!$D$12,OR($J16="",$J16>=Assumptions!$B$4)),"CHECK STATUS / DATES","Clear"))))))) | N16: =IF(OR($A16="",$B16="",$E16=""),"",IF(COUNTIFS(Spaces!$A$5:$A$104,$B16,Spaces!$B$5:$B$104,$E16)=0,"CHECK SPACE LIST",IF(COUNTIFS(Spaces!$A$5:$A$104,$B16,Spaces!$B$5:$B$104,$E16,Spaces!$D$5:$D$104,Assumptions!$F$11)>0,"CHECK SPACE SERVICE",IF($L16=Assumptions!$D$12,"Not checked",IF(SUMPRODUCT(($B$5:$B$104=$B16)*($E$5:$E$104=$E16)*(ROW($E$5:$E$104)<>ROW($E16))*($I$5:$I$104<>"")*($L$5:$L$104<>Assumptions!$D$12)*($I$5:$I$104<=IF($J16="",DATE(9999,12,31),$J16))*((($J$5:$J$104="")+($J$5:$J$104>=$I16))>0))>0,"CHECK OVERLAP","Clear"))))) | O16: =IF($A16="","",IF(OR(LEFT($M16,5)="CHECK",LEFT($N16,5)="CHECK"),"Review record",IF(AND($L16=Assumptions!$D$10,$J16<>"",Assumptions!$B$4<>"",$J16>=Assumptions!$B$4,$J16<=Assumptions!$B$4+Assumptions!$B$5),"Ending soon",IF(AND($L16=Assumptions!$D$11,Assumptions!$B$4<>"",$I16>Assumptions!$B$4),"Future start","None"))))
M17: =IF($A17="","",IF(Assumptions!$B$4="","CHECK REVIEW DATE",IF(OR($B17="",$C17="",$D17="",$E17="",$I17="",$K17="",$L17=""),"CHECK REQUIRED FIELDS",IF(AND($J17<>"",$J17<$I17),"CHECK END DATE",IF(AND($L17=Assumptions!$D$10,OR($I17>Assumptions!$B$4,AND($J17<>"",$J17<Assumptions!$B$4))),"CHECK STATUS / DATES",IF(AND($L17=Assumptions!$D$11,$I17<=Assumptions!$B$4),"CHECK STATUS / DATES",IF(AND($L17=Assumptions!$D$12,OR($J17="",$J17>=Assumptions!$B$4)),"CHECK STATUS / DATES","Clear"))))))) | N17: =IF(OR($A17="",$B17="",$E17=""),"",IF(COUNTIFS(Spaces!$A$5:$A$104,$B17,Spaces!$B$5:$B$104,$E17)=0,"CHECK SPACE LIST",IF(COUNTIFS(Spaces!$A$5:$A$104,$B17,Spaces!$B$5:$B$104,$E17,Spaces!$D$5:$D$104,Assumptions!$F$11)>0,"CHECK SPACE SERVICE",IF($L17=Assumptions!$D$12,"Not checked",IF(SUMPRODUCT(($B$5:$B$104=$B17)*($E$5:$E$104=$E17)*(ROW($E$5:$E$104)<>ROW($E17))*($I$5:$I$104<>"")*($L$5:$L$104<>Assumptions!$D$12)*($I$5:$I$104<=IF($J17="",DATE(9999,12,31),$J17))*((($J$5:$J$104="")+($J$5:$J$104>=$I17))>0))>0,"CHECK OVERLAP","Clear"))))) | O17: =IF($A17="","",IF(OR(LEFT($M17,5)="CHECK",LEFT($N17,5)="CHECK"),"Review record",IF(AND($L17=Assumptions!$D$10,$J17<>"",Assumptions!$B$4<>"",$J17>=Assumptions!$B$4,$J17<=Assumptions!$B$4+Assumptions!$B$5),"Ending soon",IF(AND($L17=Assumptions!$D$11,Assumptions!$B$4<>"",$I17>Assumptions!$B$4),"Future start","None"))))
M18: =IF($A18="","",IF(Assumptions!$B$4="","CHECK REVIEW DATE",IF(OR($B18="",$C18="",$D18="",$E18="",$I18="",$K18="",$L18=""),"CHECK REQUIRED FIELDS",IF(AND($J18<>"",$J18<$I18),"CHECK END DATE",IF(AND($L18=Assumptions!$D$10,OR($I18>Assumptions!$B$4,AND($J18<>"",$J18<Assumptions!$B$4))),"CHECK STATUS / DATES",IF(AND($L18=Assumptions!$D$11,$I18<=Assumptions!$B$4),"CHECK STATUS / DATES",IF(AND($L18=Assumptions!$D$12,OR($J18="",$J18>=Assumptions!$B$4)),"CHECK STATUS / DATES","Clear"))))))) | N18: =IF(OR($A18="",$B18="",$E18=""),"",IF(COUNTIFS(Spaces!$A$5:$A$104,$B18,Spaces!$B$5:$B$104,$E18)=0,"CHECK SPACE LIST",IF(COUNTIFS(Spaces!$A$5:$A$104,$B18,Spaces!$B$5:$B$104,$E18,Spaces!$D$5:$D$104,Assumptions!$F$11)>0,"CHECK SPACE SERVICE",IF($L18=Assumptions!$D$12,"Not checked",IF(SUMPRODUCT(($B$5:$B$104=$B18)*($E$5:$E$104=$E18)*(ROW($E$5:$E$104)<>ROW($E18))*($I$5:$I$104<>"")*($L$5:$L$104<>Assumptions!$D$12)*($I$5:$I$104<=IF($J18="",DATE(9999,12,31),$J18))*((($J$5:$J$104="")+($J$5:$J$104>=$I18))>0))>0,"CHECK OVERLAP","Clear"))))) | O18: =IF($A18="","",IF(OR(LEFT($M18,5)="CHECK",LEFT($N18,5)="CHECK"),"Review record",IF(AND($L18=Assumptions!$D$10,$J18<>"",Assumptions!$B$4<>"",$J18>=Assumptions!$B$4,$J18<=Assumptions!$B$4+Assumptions!$B$5),"Ending soon",IF(AND($L18=Assumptions!$D$11,Assumptions!$B$4<>"",$I18>Assumptions!$B$4),"Future start","None"))))
M19: =IF($A19="","",IF(Assumptions!$B$4="","CHECK REVIEW DATE",IF(OR($B19="",$C19="",$D19="",$E19="",$I19="",$K19="",$L19=""),"CHECK REQUIRED FIELDS",IF(AND($J19<>"",$J19<$I19),"CHECK END DATE",IF(AND($L19=Assumptions!$D$10,OR($I19>Assumptions!$B$4,AND($J19<>"",$J19<Assumptions!$B$4))),"CHECK STATUS / DATES",IF(AND($L19=Assumptions!$D$11,$I19<=Assumptions!$B$4),"CHECK STATUS / DATES",IF(AND($L19=Assumptions!$D$12,OR($J19="",$J19>=Assumptions!$B$4)),"CHECK STATUS / DATES","Clear"))))))) | N19: =IF(OR($A19="",$B19="",$E19=""),"",IF(COUNTIFS(Spaces!$A$5:$A$104,$B19,Spaces!$B$5:$B$104,$E19)=0,"CHECK SPACE LIST",IF(COUNTIFS(Spaces!$A$5:$A$104,$B19,Spaces!$B$5:$B$104,$E19,Spaces!$D$5:$D$104,Assumptions!$F$11)>0,"CHECK SPACE SERVICE",IF($L19=Assumptions!$D$12,"Not checked",IF(SUMPRODUCT(($B$5:$B$104=$B19)*($E$5:$E$104=$E19)*(ROW($E$5:$E$104)<>ROW($E19))*($I$5:$I$104<>"")*($L$5:$L$104<>Assumptions!$D$12)*($I$5:$I$104<=IF($J19="",DATE(9999,12,31),$J19))*((($J$5:$J$104="")+($J$5:$J$104>=$I19))>0))>0,"CHECK OVERLAP","Clear"))))) | O19: =IF($A19="","",IF(OR(LEFT($M19,5)="CHECK",LEFT($N19,5)="CHECK"),"Review record",IF(AND($L19=Assumptions!$D$10,$J19<>"",Assumptions!$B$4<>"",$J19>=Assumptions!$B$4,$J19<=Assumptions!$B$4+Assumptions!$B$5),"Ending soon",IF(AND($L19=Assumptions!$D$11,Assumptions!$B$4<>"",$I19>Assumptions!$B$4),"Future start","None"))))
M20: =IF($A20="","",IF(Assumptions!$B$4="","CHECK REVIEW DATE",IF(OR($B20="",$C20="",$D20="",$E20="",$I20="",$K20="",$L20=""),"CHECK REQUIRED FIELDS",IF(AND($J20<>"",$J20<$I20),"CHECK END DATE",IF(AND($L20=Assumptions!$D$10,OR($I20>Assumptions!$B$4,AND($J20<>"",$J20<Assumptions!$B$4))),"CHECK STATUS / DATES",IF(AND($L20=Assumptions!$D$11,$I20<=Assumptions!$B$4),"CHECK STATUS / DATES",IF(AND($L20=Assumptions!$D$12,OR($J20="",$J20>=Assumptions!$B$4)),"CHECK STATUS / DATES","Clear"))))))) | N20: =IF(OR($A20="",$B20="",$E20=""),"",IF(COUNTIFS(Spaces!$A$5:$A$104,$B20,Spaces!$B$5:$B$104,$E20)=0,"CHECK SPACE LIST",IF(COUNTIFS(Spaces!$A$5:$A$104,$B20,Spaces!$B$5:$B$104,$E20,Spaces!$D$5:$D$104,Assumptions!$F$11)>0,"CHECK SPACE SERVICE",IF($L20=Assumptions!$D$12,"Not checked",IF(SUMPRODUCT(($B$5:$B$104=$B20)*($E$5:$E$104=$E20)*(ROW($E$5:$E$104)<>ROW($E20))*($I$5:$I$104<>"")*($L$5:$L$104<>Assumptions!$D$12)*($I$5:$I$104<=IF($J20="",DATE(9999,12,31),$J20))*((($J$5:$J$104="")+($J$5:$J$104>=$I20))>0))>0,"CHECK OVERLAP","Clear"))))) | O20: =IF($A20="","",IF(OR(LEFT($M20,5)="CHECK",LEFT($N20,5)="CHECK"),"Review record",IF(AND($L20=Assumptions!$D$10,$J20<>"",Assumptions!$B$4<>"",$J20>=Assumptions!$B$4,$J20<=Assumptions!$B$4+Assumptions!$B$5),"Ending soon",IF(AND($L20=Assumptions!$D$11,Assumptions!$B$4<>"",$I20>Assumptions!$B$4),"Future start","None"))))
M21: =IF($A21="","",IF(Assumptions!$B$4="","CHECK REVIEW DATE",IF(OR($B21="",$C21="",$D21="",$E21="",$I21="",$K21="",$L21=""),"CHECK REQUIRED FIELDS",IF(AND($J21<>"",$J21<$I21),"CHECK END DATE",IF(AND($L21=Assumptions!$D$10,OR($I21>Assumptions!$B$4,AND($J21<>"",$J21<Assumptions!$B$4))),"CHECK STATUS / DATES",IF(AND($L21=Assumptions!$D$11,$I21<=Assumptions!$B$4),"CHECK STATUS / DATES",IF(AND($L21=Assumptions!$D$12,OR($J21="",$J21>=Assumptions!$B$4)),"CHECK STATUS / DATES","Clear"))))))) | N21: =IF(OR($A21="",$B21="",$E21=""),"",IF(COUNTIFS(Spaces!$A$5:$A$104,$B21,Spaces!$B$5:$B$104,$E21)=0,"CHECK SPACE LIST",IF(COUNTIFS(Spaces!$A$5:$A$104,$B21,Spaces!$B$5:$B$104,$E21,Spaces!$D$5:$D$104,Assumptions!$F$11)>0,"CHECK SPACE SERVICE",IF($L21=Assumptions!$D$12,"Not checked",IF(SUMPRODUCT(($B$5:$B$104=$B21)*($E$5:$E$104=$E21)*(ROW($E$5:$E$104)<>ROW($E21))*($I$5:$I$104<>"")*($L$5:$L$104<>Assumptions!$D$12)*($I$5:$I$104<=IF($J21="",DATE(9999,12,31),$J21))*((($J$5:$J$104="")+($J$5:$J$104>=$I21))>0))>0,"CHECK OVERLAP","Clear"))))) | O21: =IF($A21="","",IF(OR(LEFT($M21,5)="CHECK",LEFT($N21,5)="CHECK"),"Review record",IF(AND($L21=Assumptions!$D$10,$J21<>"",Assumptions!$B$4<>"",$J21>=Assumptions!$B$4,$J21<=Assumptions!$B$4+Assumptions!$B$5),"Ending soon",IF(AND($L21=Assumptions!$D$11,Assumptions!$B$4<>"",$I21>Assumptions!$B$4),"Future start","None"))))
M22: =IF($A22="","",IF(Assumptions!$B$4="","CHECK REVIEW DATE",IF(OR($B22="",$C22="",$D22="",$E22="",$I22="",$K22="",$L22=""),"CHECK REQUIRED FIELDS",IF(AND($J22<>"",$J22<$I22),"CHECK END DATE",IF(AND($L22=Assumptions!$D$10,OR($I22>Assumptions!$B$4,AND($J22<>"",$J22<Assumptions!$B$4))),"CHECK STATUS / DATES",IF(AND($L22=Assumptions!$D$11,$I22<=Assumptions!$B$4),"CHECK STATUS / DATES",IF(AND($L22=Assumptions!$D$12,OR($J22="",$J22>=Assumptions!$B$4)),"CHECK STATUS / DATES","Clear"))))))) | N22: =IF(OR($A22="",$B22="",$E22=""),"",IF(COUNTIFS(Spaces!$A$5:$A$104,$B22,Spaces!$B$5:$B$104,$E22)=0,"CHECK SPACE LIST",IF(COUNTIFS(Spaces!$A$5:$A$104,$B22,Spaces!$B$5:$B$104,$E22,Spaces!$D$5:$D$104,Assumptions!$F$11)>0,"CHECK SPACE SERVICE",IF($L22=Assumptions!$D$12,"Not checked",IF(SUMPRODUCT(($B$5:$B$104=$B22)*($E$5:$E$104=$E22)*(ROW($E$5:$E$104)<>ROW($E22))*($I$5:$I$104<>"")*($L$5:$L$104<>Assumptions!$D$12)*($I$5:$I$104<=IF($J22="",DATE(9999,12,31),$J22))*((($J$5:$J$104="")+($J$5:$J$104>=$I22))>0))>0,"CHECK OVERLAP","Clear"))))) | O22: =IF($A22="","",IF(OR(LEFT($M22,5)="CHECK",LEFT($N22,5)="CHECK"),"Review record",IF(AND($L22=Assumptions!$D$10,$J22<>"",Assumptions!$B$4<>"",$J22>=Assumptions!$B$4,$J22<=Assumptions!$B$4+Assumptions!$B$5),"Ending soon",IF(AND($L22=Assumptions!$D$11,Assumptions!$B$4<>"",$I22>Assumptions!$B$4),"Future start","None"))))
M23: =IF($A23="","",IF(Assumptions!$B$4="","CHECK REVIEW DATE",IF(OR($B23="",$C23="",$D23="",$E23="",$I23="",$K23="",$L23=""),"CHECK REQUIRED FIELDS",IF(AND($J23<>"",$J23<$I23),"CHECK END DATE",IF(AND($L23=Assumptions!$D$10,OR($I23>Assumptions!$B$4,AND($J23<>"",$J23<Assumptions!$B$4))),"CHECK STATUS / DATES",IF(AND($L23=Assumptions!$D$11,$I23<=Assumptions!$B$4),"CHECK STATUS / DATES",IF(AND($L23=Assumptions!$D$12,OR($J23="",$J23>=Assumptions!$B$4)),"CHECK STATUS / DATES","Clear"))))))) | N23: =IF(OR($A23="",$B23="",$E23=""),"",IF(COUNTIFS(Spaces!$A$5:$A$104,$B23,Spaces!$B$5:$B$104,$E23)=0,"CHECK SPACE LIST",IF(COUNTIFS(Spaces!$A$5:$A$104,$B23,Spaces!$B$5:$B$104,$E23,Spaces!$D$5:$D$104,Assumptions!$F$11)>0,"CHECK SPACE SERVICE",IF($L23=Assumptions!$D$12,"Not checked",IF(SUMPRODUCT(($B$5:$B$104=$B23)*($E$5:$E$104=$E23)*(ROW($E$5:$E$104)<>ROW($E23))*($I$5:$I$104<>"")*($L$5:$L$104<>Assumptions!$D$12)*($I$5:$I$104<=IF($J23="",DATE(9999,12,31),$J23))*((($J$5:$J$104="")+($J$5:$J$104>=$I23))>0))>0,"CHECK OVERLAP","Clear"))))) | O23: =IF($A23="","",IF(OR(LEFT($M23,5)="CHECK",LEFT($N23,5)="CHECK"),"Review record",IF(AND($L23=Assumptions!$D$10,$J23<>"",Assumptions!$B$4<>"",$J23>=Assumptions!$B$4,$J23<=Assumptions!$B$4+Assumptions!$B$5),"Ending soon",IF(AND($L23=Assumptions!$D$11,Assumptions!$B$4<>"",$I23>Assumptions!$B$4),"Future start","None"))))
M24: =IF($A24="","",IF(Assumptions!$B$4="","CHECK REVIEW DATE",IF(OR($B24="",$C24="",$D24="",$E24="",$I24="",$K24="",$L24=""),"CHECK REQUIRED FIELDS",IF(AND($J24<>"",$J24<$I24),"CHECK END DATE",IF(AND($L24=Assumptions!$D$10,OR($I24>Assumptions!$B$4,AND($J24<>"",$J24<Assumptions!$B$4))),"CHECK STATUS / DATES",IF(AND($L24=Assumptions!$D$11,$I24<=Assumptions!$B$4),"CHECK STATUS / DATES",IF(AND($L24=Assumptions!$D$12,OR($J24="",$J24>=Assumptions!$B$4)),"CHECK STATUS / DATES","Clear"))))))) | N24: =IF(OR($A24="",$B24="",$E24=""),"",IF(COUNTIFS(Spaces!$A$5:$A$104,$B24,Spaces!$B$5:$B$104,$E24)=0,"CHECK SPACE LIST",IF(COUNTIFS(Spaces!$A$5:$A$104,$B24,Spaces!$B$5:$B$104,$E24,Spaces!$D$5:$D$104,Assumptions!$F$11)>0,"CHECK SPACE SERVICE",IF($L24=Assumptions!$D$12,"Not checked",IF(SUMPRODUCT(($B$5:$B$104=$B24)*($E$5:$E$104=$E24)*(ROW($E$5:$E$104)<>ROW($E24))*($I$5:$I$104<>"")*($L$5:$L$104<>Assumptions!$D$12)*($I$5:$I$104<=IF($J24="",DATE(9999,12,31),$J24))*((($J$5:$J$104="")+($J$5:$J$104>=$I24))>0))>0,"CHECK OVERLAP","Clear"))))) | O24: =IF($A24="","",IF(OR(LEFT($M24,5)="CHECK",LEFT($N24,5)="CHECK"),"Review record",IF(AND($L24=Assumptions!$D$10,$J24<>"",Assumptions!$B$4<>"",$J24>=Assumptions!$B$4,$J24<=Assumptions!$B$4+Assumptions!$B$5),"Ending soon",IF(AND($L24=Assumptions!$D$11,Assumptions!$B$4<>"",$I24>Assumptions!$B$4),"Future start","None"))))
M25: =IF($A25="","",IF(Assumptions!$B$4="","CHECK REVIEW DATE",IF(OR($B25="",$C25="",$D25="",$E25="",$I25="",$K25="",$L25=""),"CHECK REQUIRED FIELDS",IF(AND($J25<>"",$J25<$I25),"CHECK END DATE",IF(AND($L25=Assumptions!$D$10,OR($I25>Assumptions!$B$4,AND($J25<>"",$J25<Assumptions!$B$4))),"CHECK STATUS / DATES",IF(AND($L25=Assumptions!$D$11,$I25<=Assumptions!$B$4),"CHECK STATUS / DATES",IF(AND($L25=Assumptions!$D$12,OR($J25="",$J25>=Assumptions!$B$4)),"CHECK STATUS / DATES","Clear"))))))) | N25: =IF(OR($A25="",$B25="",$E25=""),"",IF(COUNTIFS(Spaces!$A$5:$A$104,$B25,Spaces!$B$5:$B$104,$E25)=0,"CHECK SPACE LIST",IF(COUNTIFS(Spaces!$A$5:$A$104,$B25,Spaces!$B$5:$B$104,$E25,Spaces!$D$5:$D$104,Assumptions!$F$11)>0,"CHECK SPACE SERVICE",IF($L25=Assumptions!$D$12,"Not checked",IF(SUMPRODUCT(($B$5:$B$104=$B25)*($E$5:$E$104=$E25)*(ROW($E$5:$E$104)<>ROW($E25))*($I$5:$I$104<>"")*($L$5:$L$104<>Assumptions!$D$12)*($I$5:$I$104<=IF($J25="",DATE(9999,12,31),$J25))*((($J$5:$J$104="")+($J$5:$J$104>=$I25))>0))>0,"CHECK OVERLAP","Clear"))))) | O25: =IF($A25="","",IF(OR(LEFT($M25,5)="CHECK",LEFT($N25,5)="CHECK"),"Review record",IF(AND($L25=Assumptions!$D$10,$J25<>"",Assumptions!$B$4<>"",$J25>=Assumptions!$B$4,$J25<=Assumptions!$B$4+Assumptions!$B$5),"Ending soon",IF(AND($L25=Assumptions!$D$11,Assumptions!$B$4<>"",$I25>Assumptions!$B$4),"Future start","None"))))
M26: =IF($A26="","",IF(Assumptions!$B$4="","CHECK REVIEW DATE",IF(OR($B26="",$C26="",$D26="",$E26="",$I26="",$K26="",$L26=""),"CHECK REQUIRED FIELDS",IF(AND($J26<>"",$J26<$I26),"CHECK END DATE",IF(AND($L26=Assumptions!$D$10,OR($I26>Assumptions!$B$4,AND($J26<>"",$J26<Assumptions!$B$4))),"CHECK STATUS / DATES",IF(AND($L26=Assumptions!$D$11,$I26<=Assumptions!$B$4),"CHECK STATUS / DATES",IF(AND($L26=Assumptions!$D$12,OR($J26="",$J26>=Assumptions!$B$4)),"CHECK STATUS / DATES","Clear"))))))) | N26: =IF(OR($A26="",$B26="",$E26=""),"",IF(COUNTIFS(Spaces!$A$5:$A$104,$B26,Spaces!$B$5:$B$104,$E26)=0,"CHECK SPACE LIST",IF(COUNTIFS(Spaces!$A$5:$A$104,$B26,Spaces!$B$5:$B$104,$E26,Spaces!$D$5:$D$104,Assumptions!$F$11)>0,"CHECK SPACE SERVICE",IF($L26=Assumptions!$D$12,"Not checked",IF(SUMPRODUCT(($B$5:$B$104=$B26)*($E$5:$E$104=$E26)*(ROW($E$5:$E$104)<>ROW($E26))*($I$5:$I$104<>"")*($L$5:$L$104<>Assumptions!$D$12)*($I$5:$I$104<=IF($J26="",DATE(9999,12,31),$J26))*((($J$5:$J$104="")+($J$5:$J$104>=$I26))>0))>0,"CHECK OVERLAP","Clear"))))) | O26: =IF($A26="","",IF(OR(LEFT($M26,5)="CHECK",LEFT($N26,5)="CHECK"),"Review record",IF(AND($L26=Assumptions!$D$10,$J26<>"",Assumptions!$B$4<>"",$J26>=Assumptions!$B$4,$J26<=Assumptions!$B$4+Assumptions!$B$5),"Ending soon",IF(AND($L26=Assumptions!$D$11,Assumptions!$B$4<>"",$I26>Assumptions!$B$4),"Future start","None"))))
... M104: =IF($A104="","",IF(Assumptions!$B$4="","CHECK REVIEW DATE",IF(OR($B104="",$C104="",$D104="",$E104="",$I104="",$K104="",$L104=""),"CHECK REQUIRED FIELDS",IF(AND($J104<>"",$J104<$I104),"CHECK END DATE",IF(AND($L104=Assumptions!$D$10,OR($I104>Assumptions!$B$4,AND($J104<>"",$J104<Assumptions!$B$4))),"CHECK STATUS / DATES",IF(AND($L104=Assumptions!$D$11,$I104<=Assumptions!$B$4),"CHECK STATUS / DATES",IF(AND($L104=Assumptions!$D$12,OR($J104="",$J104>=Assumptions!$B$4)),"CHECK STATUS / DATES","Clear"))))))) | N104: =IF(OR($A104="",$B104="",$E104=""),"",IF(COUNTIFS(Spaces!$A$5:$A$104,$B104,Spaces!$B$5:$B$104,$E104)=0,"CHECK SPACE LIST",IF(COUNTIFS(Spaces!$A$5:$A$104,$B104,Spaces!$B$5:$B$104,$E104,Spaces!$D$5:$D$104,Assumptions!$F$11)>0,"CHECK SPACE SERVICE",IF($L104=Assumptions!$D$12,"Not checked",IF(SUMPRODUCT(($B$5:$B$104=$B104)*($E$5:$E$104=$E104)*(ROW($E$5:$E$104)<>ROW($E104))*($I$5:$I$104<>"")*($L$5:$L$104<>Assumptions!$D$12)*($I$5:$I$104<=IF($J104="",DATE(9999,12,31),$J104))*((($J$5:$J$104="")+($J$5:$J$104>=$I104))>0))>0,"CHECK OVERLAP","Clear"))))) | O104: =IF($A104="","",IF(OR(LEFT($M104,5)="CHECK",LEFT($N104,5)="CHECK"),"Review record",IF(AND($L104=Assumptions!$D$10,$J104<>"",Assumptions!$B$4<>"",$J104>=Assumptions!$B$4,$J104<=Assumptions!$B$4+Assumptions!$B$5),"Ending soon",IF(AND($L104=Assumptions!$D$11,Assumptions!$B$4<>"",$I104>Assumptions!$B$4),"Future start","None"))))

Sheet Spaces
A1: Parking Space Register
A2: List each parking space once. Availability is calculated from entered assignments as of the review date.
A4: Property | B4: Parking Space | C4: Space Description | D4: Space Service Status | E4: Active Assignment Count | F4: Calculated Availability | G4: Space Check
A5: Fictional Juniper Court | B5: SAMPLE-JC-01 | C5: Fictional standard uncovered space | D5: In Service | E5: =IF(OR($A5="",$B5="",Assumptions!$B$4=""),"",COUNTIFS(Assignments!$B$5:$B$104,$A5,Assignments!$E$5:$E$104,$B5,Assignments!$I$5:$I$104,"<="&Assumptions!$B$4,Assignments!$J$5:$J$104,">="&Assumptions!$B$4,Assignments!$L$5:$L$104,Assumptions!$D$10)+COUNTIFS(Assignments!$B$5:$B$104,$A5,Assignments!$E$5:$E$104,$B5,Assignments!$I$5:$I$104,"<="&Assumptions!$B$4,Assignments!$J$5:$J$104,"",Assignments!$L$5:$L$104,Assumptions!$D$10)) | F5: =IF($B5="","",IF($D5=Assumptions!$F$11,Assumptions!$G$12,IF($E5>0,Assumptions!$G$10,Assumptions!$G$11))) | G5: =IF($B5="","",IF($D5="","CHECK SERVICE STATUS",IF($E5>1,"CHECK MULTIPLE ASSIGNMENTS",IF(AND($D5=Assumptions!$F$11,$E5>0),"CHECK SERVICE STATUS","Clear"))))
A6: Fictional Juniper Court | B6: SAMPLE-JC-02 | C6: Fictional standard uncovered space | D6: In Service | E6: =IF(OR($A6="",$B6="",Assumptions!$B$4=""),"",COUNTIFS(Assignments!$B$5:$B$104,$A6,Assignments!$E$5:$E$104,$B6,Assignments!$I$5:$I$104,"<="&Assumptions!$B$4,Assignments!$J$5:$J$104,">="&Assumptions!$B$4,Assignments!$L$5:$L$104,Assumptions!$D$10)+COUNTIFS(Assignments!$B$5:$B$104,$A6,Assignments!$E$5:$E$104,$B6,Assignments!$I$5:$I$104,"<="&Assumptions!$B$4,Assignments!$J$5:$J$104,"",Assignments!$L$5:$L$104,Assumptions!$D$10)) | F6: =IF($B6="","",IF($D6=Assumptions!$F$11,Assumptions!$G$12,IF($E6>0,Assumptions!$G$10,Assumptions!$G$11))) | G6: =IF($B6="","",IF($D6="","CHECK SERVICE STATUS",IF($E6>1,"CHECK MULTIPLE ASSIGNMENTS",IF(AND($D6=Assumptions!$F$11,$E6>0),"CHECK SERVICE STATUS","Clear"))))
A7: Fictional Juniper Court | B7: SAMPLE-JC-03 | C7: Fictional compact uncovered space | D7: In Service | E7: =IF(OR($A7="",$B7="",Assumptions!$B$4=""),"",COUNTIFS(Assignments!$B$5:$B$104,$A7,Assignments!$E$5:$E$104,$B7,Assignments!$I$5:$I$104,"<="&Assumptions!$B$4,Assignments!$J$5:$J$104,">="&Assumptions!$B$4,Assignments!$L$5:$L$104,Assumptions!$D$10)+COUNTIFS(Assignments!$B$5:$B$104,$A7,Assignments!$E$5:$E$104,$B7,Assignments!$I$5:$I$104,"<="&Assumptions!$B$4,Assignments!$J$5:$J$104,"",Assignments!$L$5:$L$104,Assumptions!$D$10)) | F7: =IF($B7="","",IF($D7=Assumptions!$F$11,Assumptions!$G$12,IF($E7>0,Assumptions!$G$10,Assumptions!$G$11))) | G7: =IF($B7="","",IF($D7="","CHECK SERVICE STATUS",IF($E7>1,"CHECK MULTIPLE ASSIGNMENTS",IF(AND($D7=Assumptions!$F$11,$E7>0),"CHECK SERVICE STATUS","Clear"))))
A8: Fictional Harbor Mews | B8: SAMPLE-HM-01 | C8: Fictional covered space | D8: In Service | E8: =IF(OR($A8="",$B8="",Assumptions!$B$4=""),"",COUNTIFS(Assignments!$B$5:$B$104,$A8,Assignments!$E$5:$E$104,$B8,Assignments!$I$5:$I$104,"<="&Assumptions!$B$4,Assignments!$J$5:$J$104,">="&Assumptions!$B$4,Assignments!$L$5:$L$104,Assumptions!$D$10)+COUNTIFS(Assignments!$B$5:$B$104,$A8,Assignments!$E$5:$E$104,$B8,Assignments!$I$5:$I$104,"<="&Assumptions!$B$4,Assignments!$J$5:$J$104,"",Assignments!$L$5:$L$104,Assumptions!$D$10)) | F8: =IF($B8="","",IF($D8=Assumptions!$F$11,Assumptions!$G$12,IF($E8>0,Assumptions!$G$10,Assumptions!$G$11))) | G8: =IF($B8="","",IF($D8="","CHECK SERVICE STATUS",IF($E8>1,"CHECK MULTIPLE ASSIGNMENTS",IF(AND($D8=Assumptions!$F$11,$E8>0),"CHECK SERVICE STATUS","Clear"))))
A9: Fictional Harbor Mews | B9: SAMPLE-HM-02 | C9: Fictional standard uncovered space | D9: In Service | E9: =IF(OR($A9="",$B9="",Assumptions!$B$4=""),"",COUNTIFS(Assignments!$B$5:$B$104,$A9,Assignments!$E$5:$E$104,$B9,Assignments!$I$5:$I$104,"<="&Assumptions!$B$4,Assignments!$J$5:$J$104,">="&Assumptions!$B$4,Assignments!$L$5:$L$104,Assumptions!$D$10)+COUNTIFS(Assignments!$B$5:$B$104,$A9,Assignments!$E$5:$E$104,$B9,Assignments!$I$5:$I$104,"<="&Assumptions!$B$4,Assignments!$J$5:$J$104,"",Assignments!$L$5:$L$104,Assumptions!$D$10)) | F9: =IF($B9="","",IF($D9=Assumptions!$F$11,Assumptions!$G$12,IF($E9>0,Assumptions!$G$10,Assumptions!$G$11))) | G9: =IF($B9="","",IF($D9="","CHECK SERVICE STATUS",IF($E9>1,"CHECK MULTIPLE ASSIGNMENTS",IF(AND($D9=Assumptions!$F$11,$E9>0),"CHECK SERVICE STATUS","Clear"))))
A10: Fictional Copper Lane Homes | B10: SAMPLE-CL-01 | C10: Fictional standard uncovered space | D10: In Service | E10: =IF(OR($A10="",$B10="",Assumptions!$B$4=""),"",COUNTIFS(Assignments!$B$5:$B$104,$A10,Assignments!$E$5:$E$104,$B10,Assignments!$I$5:$I$104,"<="&Assumptions!$B$4,Assignments!$J$5:$J$104,">="&Assumptions!$B$4,Assignments!$L$5:$L$104,Assumptions!$D$10)+COUNTIFS(Assignments!$B$5:$B$104,$A10,Assignments!$E$5:$E$104,$B10,Assignments!$I$5:$I$104,"<="&Assumptions!$B$4,Assignments!$J$5:$J$104,"",Assignments!$L$5:$L$104,Assumptions!$D$10)) | F10: =IF($B10="","",IF($D10=Assumptions!$F$11,Assumptions!$G$12,IF($E10>0,Assumptions!$G$10,Assumptions!$G$11))) | G10: =IF($B10="","",IF($D10="","CHECK SERVICE STATUS",IF($E10>1,"CHECK MULTIPLE ASSIGNMENTS",IF(AND($D10=Assumptions!$F$11,$E10>0),"CHECK SERVICE STATUS","Clear"))))
A11: Fictional Copper Lane Homes | B11: SAMPLE-CL-02 | C11: Fictional compact uncovered space | D11: In Service | E11: =IF(OR($A11="",$B11="",Assumptions!$B$4=""),"",COUNTIFS(Assignments!$B$5:$B$104,$A11,Assignments!$E$5:$E$104,$B11,Assignments!$I$5:$I$104,"<="&Assumptions!$B$4,Assignments!$J$5:$J$104,">="&Assumptions!$B$4,Assignments!$L$5:$L$104,Assumptions!$D$10)+COUNTIFS(Assignments!$B$5:$B$104,$A11,Assignments!$E$5:$E$104,$B11,Assignments!$I$5:$I$104,"<="&Assumptions!$B$4,Assignments!$J$5:$J$104,"",Assignments!$L$5:$L$104,Assumptions!$D$10)) | F11: =IF($B11="","",IF($D11=Assumptions!$F$11,Assumptions!$G$12,IF($E11>0,Assumptions!$G$10,Assumptions!$G$11))) | G11: =IF($B11="","",IF($D11="","CHECK SERVICE STATUS",IF($E11>1,"CHECK MULTIPLE ASSIGNMENTS",IF(AND($D11=Assumptions!$F$11,$E11>0),"CHECK SERVICE STATUS","Clear"))))
A12: Fictional Copper Lane Homes | B12: SAMPLE-CL-03 | C12: Fictional service-review space | D12: Out of Service | E12: =IF(OR($A12="",$B12="",Assumptions!$B$4=""),"",COUNTIFS(Assignments!$B$5:$B$104,$A12,Assignments!$E$5:$E$104,$B12,Assignments!$I$5:$I$104,"<="&Assumptions!$B$4,Assignments!$J$5:$J$104,">="&Assumptions!$B$4,Assignments!$L$5:$L$104,Assumptions!$D$10)+COUNTIFS(Assignments!$B$5:$B$104,$A12,Assignments!$E$5:$E$104,$B12,Assignments!$I$5:$I$104,"<="&Assumptions!$B$4,Assignments!$J$5:$J$104,"",Assignments!$L$5:$L$104,Assumptions!$D$10)) | F12: =IF($B12="","",IF($D12=Assumptions!$F$11,Assumptions!$G$12,IF($E12>0,Assumptions!$G$10,Assumptions!$G$11))) | G12: =IF($B12="","",IF($D12="","CHECK SERVICE STATUS",IF($E12>1,"CHECK MULTIPLE ASSIGNMENTS",IF(AND($D12=Assumptions!$F$11,$E12>0),"CHECK SERVICE STATUS","Clear"))))
A13: Fictional Willow Row | B13: SAMPLE-WR-01 | C13: Fictional standard uncovered space | D13: In Service | E13: =IF(OR($A13="",$B13="",Assumptions!$B$4=""),"",COUNTIFS(Assignments!$B$5:$B$104,$A13,Assignments!$E$5:$E$104,$B13,Assignments!$I$5:$I$104,"<="&Assumptions!$B$4,Assignments!$J$5:$J$104,">="&Assumptions!$B$4,Assignments!$L$5:$L$104,Assumptions!$D$10)+COUNTIFS(Assignments!$B$5:$B$104,$A13,Assignments!$E$5:$E$104,$B13,Assignments!$I$5:$I$104,"<="&Assumptions!$B$4,Assignments!$J$5:$J$104,"",Assignments!$L$5:$L$104,Assumptions!$D$10)) | F13: =IF($B13="","",IF($D13=Assumptions!$F$11,Assumptions!$G$12,IF($E13>0,Assumptions!$G$10,Assumptions!$G$11))) | G13: =IF($B13="","",IF($D13="","CHECK SERVICE STATUS",IF($E13>1,"CHECK MULTIPLE ASSIGNMENTS",IF(AND($D13=Assumptions!$F$11,$E13>0),"CHECK SERVICE STATUS","Clear"))))
A14: Fictional Willow Row | B14: SAMPLE-WR-02 | C14: Fictional covered space | D14: In Service | E14: =IF(OR($A14="",$B14="",Assumptions!$B$4=""),"",COUNTIFS(Assignments!$B$5:$B$104,$A14,Assignments!$E$5:$E$104,$B14,Assignments!$I$5:$I$104,"<="&Assumptions!$B$4,Assignments!$J$5:$J$104,">="&Assumptions!$B$4,Assignments!$L$5:$L$104,Assumptions!$D$10)+COUNTIFS(Assignments!$B$5:$B$104,$A14,Assignments!$E$5:$E$104,$B14,Assignments!$I$5:$I$104,"<="&Assumptions!$B$4,Assignments!$J$5:$J$104,"",Assignments!$L$5:$L$104,Assumptions!$D$10)) | F14: =IF($B14="","",IF($D14=Assumptions!$F$11,Assumptions!$G$12,IF($E14>0,Assumptions!$G$10,Assumptions!$G$11))) | G14: =IF($B14="","",IF($D14="","CHECK SERVICE STATUS",IF($E14>1,"CHECK MULTIPLE ASSIGNMENTS",IF(AND($D14=Assumptions!$F$11,$E14>0),"CHECK SERVICE STATUS","Clear"))))
E15: =IF(OR($A15="",$B15="",Assumptions!$B$4=""),"",COUNTIFS(Assignments!$B$5:$B$104,$A15,Assignments!$E$5:$E$104,$B15,Assignments!$I$5:$I$104,"<="&Assumptions!$B$4,Assignments!$J$5:$J$104,">="&Assumptions!$B$4,Assignments!$L$5:$L$104,Assumptions!$D$10)+COUNTIFS(Assignments!$B$5:$B$104,$A15,Assignments!$E$5:$E$104,$B15,Assignments!$I$5:$I$104,"<="&Assumptions!$B$4,Assignments!$J$5:$J$104,"",Assignments!$L$5:$L$104,Assumptions!$D$10)) | F15: =IF($B15="","",IF($D15=Assumptions!$F$11,Assumptions!$G$12,IF($E15>0,Assumptions!$G$10,Assumptions!$G$11))) | G15: =IF($B15="","",IF($D15="","CHECK SERVICE STATUS",IF($E15>1,"CHECK MULTIPLE ASSIGNMENTS",IF(AND($D15=Assumptions!$F$11,$E15>0),"CHECK SERVICE STATUS","Clear"))))
E16: =IF(OR($A16="",$B16="",Assumptions!$B$4=""),"",COUNTIFS(Assignments!$B$5:$B$104,$A16,Assignments!$E$5:$E$104,$B16,Assignments!$I$5:$I$104,"<="&Assumptions!$B$4,Assignments!$J$5:$J$104,">="&Assumptions!$B$4,Assignments!$L$5:$L$104,Assumptions!$D$10)+COUNTIFS(Assignments!$B$5:$B$104,$A16,Assignments!$E$5:$E$104,$B16,Assignments!$I$5:$I$104,"<="&Assumptions!$B$4,Assignments!$J$5:$J$104,"",Assignments!$L$5:$L$104,Assumptions!$D$10)) | F16: =IF($B16="","",IF($D16=Assumptions!$F$11,Assumptions!$G$12,IF($E16>0,Assumptions!$G$10,Assumptions!$G$11))) | G16: =IF($B16="","",IF($D16="","CHECK SERVICE STATUS",IF($E16>1,"CHECK MULTIPLE ASSIGNMENTS",IF(AND($D16=Assumptions!$F$11,$E16>0),"CHECK SERVICE STATUS","Clear"))))
E17: =IF(OR($A17="",$B17="",Assumptions!$B$4=""),"",COUNTIFS(Assignments!$B$5:$B$104,$A17,Assignments!$E$5:$E$104,$B17,Assignments!$I$5:$I$104,"<="&Assumptions!$B$4,Assignments!$J$5:$J$104,">="&Assumptions!$B$4,Assignments!$L$5:$L$104,Assumptions!$D$10)+COUNTIFS(Assignments!$B$5:$B$104,$A17,Assignments!$E$5:$E$104,$B17,Assignments!$I$5:$I$104,"<="&Assumptions!$B$4,Assignments!$J$5:$J$104,"",Assignments!$L$5:$L$104,Assumptions!$D$10)) | F17: =IF($B17="","",IF($D17=Assumptions!$F$11,Assumptions!$G$12,IF($E17>0,Assumptions!$G$10,Assumptions!$G$11))) | G17: =IF($B17="","",IF($D17="","CHECK SERVICE STATUS",IF($E17>1,"CHECK MULTIPLE ASSIGNMENTS",IF(AND($D17=Assumptions!$F$11,$E17>0),"CHECK SERVICE STATUS","Clear"))))
E18: =IF(OR($A18="",$B18="",Assumptions!$B$4=""),"",COUNTIFS(Assignments!$B$5:$B$104,$A18,Assignments!$E$5:$E$104,$B18,Assignments!$I$5:$I$104,"<="&Assumptions!$B$4,Assignments!$J$5:$J$104,">="&Assumptions!$B$4,Assignments!$L$5:$L$104,Assumptions!$D$10)+COUNTIFS(Assignments!$B$5:$B$104,$A18,Assignments!$E$5:$E$104,$B18,Assignments!$I$5:$I$104,"<="&Assumptions!$B$4,Assignments!$J$5:$J$104,"",Assignments!$L$5:$L$104,Assumptions!$D$10)) | F18: =IF($B18="","",IF($D18=Assumptions!$F$11,Assumptions!$G$12,IF($E18>0,Assumptions!$G$10,Assumptions!$G$11))) | G18: =IF($B18="","",IF($D18="","CHECK SERVICE STATUS",IF($E18>1,"CHECK MULTIPLE ASSIGNMENTS",IF(AND($D18=Assumptions!$F$11,$E18>0),"CHECK SERVICE STATUS","Clear"))))
E19: =IF(OR($A19="",$B19="",Assumptions!$B$4=""),"",COUNTIFS(Assignments!$B$5:$B$104,$A19,Assignments!$E$5:$E$104,$B19,Assignments!$I$5:$I$104,"<="&Assumptions!$B$4,Assignments!$J$5:$J$104,">="&Assumptions!$B$4,Assignments!$L$5:$L$104,Assumptions!$D$10)+COUNTIFS(Assignments!$B$5:$B$104,$A19,Assignments!$E$5:$E$104,$B19,Assignments!$I$5:$I$104,"<="&Assumptions!$B$4,Assignments!$J$5:$J$104,"",Assignments!$L$5:$L$104,Assumptions!$D$10)) | F19: =IF($B19="","",IF($D19=Assumptions!$F$11,Assumptions!$G$12,IF($E19>0,Assumptions!$G$10,Assumptions!$G$11))) | G19: =IF($B19="","",IF($D19="","CHECK SERVICE STATUS",IF($E19>1,"CHECK MULTIPLE ASSIGNMENTS",IF(AND($D19=Assumptions!$F$11,$E19>0),"CHECK SERVICE STATUS","Clear"))))
E20: =IF(OR($A20="",$B20="",Assumptions!$B$4=""),"",COUNTIFS(Assignments!$B$5:$B$104,$A20,Assignments!$E$5:$E$104,$B20,Assignments!$I$5:$I$104,"<="&Assumptions!$B$4,Assignments!$J$5:$J$104,">="&Assumptions!$B$4,Assignments!$L$5:$L$104,Assumptions!$D$10)+COUNTIFS(Assignments!$B$5:$B$104,$A20,Assignments!$E$5:$E$104,$B20,Assignments!$I$5:$I$104,"<="&Assumptions!$B$4,Assignments!$J$5:$J$104,"",Assignments!$L$5:$L$104,Assumptions!$D$10)) | F20: =IF($B20="","",IF($D20=Assumptions!$F$11,Assumptions!$G$12,IF($E20>0,Assumptions!$G$10,Assumptions!$G$11))) | G20: =IF($B20="","",IF($D20="","CHECK SERVICE STATUS",IF($E20>1,"CHECK MULTIPLE ASSIGNMENTS",IF(AND($D20=Assumptions!$F$11,$E20>0),"CHECK SERVICE STATUS","Clear"))))
E21: =IF(OR($A21="",$B21="",Assumptions!$B$4=""),"",COUNTIFS(Assignments!$B$5:$B$104,$A21,Assignments!$E$5:$E$104,$B21,Assignments!$I$5:$I$104,"<="&Assumptions!$B$4,Assignments!$J$5:$J$104,">="&Assumptions!$B$4,Assignments!$L$5:$L$104,Assumptions!$D$10)+COUNTIFS(Assignments!$B$5:$B$104,$A21,Assignments!$E$5:$E$104,$B21,Assignments!$I$5:$I$104,"<="&Assumptions!$B$4,Assignments!$J$5:$J$104,"",Assignments!$L$5:$L$104,Assumptions!$D$10)) | F21: =IF($B21="","",IF($D21=Assumptions!$F$11,Assumptions!$G$12,IF($E21>0,Assumptions!$G$10,Assumptions!$G$11))) | G21: =IF($B21="","",IF($D21="","CHECK SERVICE STATUS",IF($E21>1,"CHECK MULTIPLE ASSIGNMENTS",IF(AND($D21=Assumptions!$F$11,$E21>0),"CHECK SERVICE STATUS","Clear"))))
E22: =IF(OR($A22="",$B22="",Assumptions!$B$4=""),"",COUNTIFS(Assignments!$B$5:$B$104,$A22,Assignments!$E$5:$E$104,$B22,Assignments!$I$5:$I$104,"<="&Assumptions!$B$4,Assignments!$J$5:$J$104,">="&Assumptions!$B$4,Assignments!$L$5:$L$104,Assumptions!$D$10)+COUNTIFS(Assignments!$B$5:$B$104,$A22,Assignments!$E$5:$E$104,$B22,Assignments!$I$5:$I$104,"<="&Assumptions!$B$4,Assignments!$J$5:$J$104,"",Assignments!$L$5:$L$104,Assumptions!$D$10)) | F22: =IF($B22="","",IF($D22=Assumptions!$F$11,Assumptions!$G$12,IF($E22>0,Assumptions!$G$10,Assumptions!$G$11))) | G22: =IF($B22="","",IF($D22="","CHECK SERVICE STATUS",IF($E22>1,"CHECK MULTIPLE ASSIGNMENTS",IF(AND($D22=Assumptions!$F$11,$E22>0),"CHECK SERVICE STATUS","Clear"))))
E23: =IF(OR($A23="",$B23="",Assumptions!$B$4=""),"",COUNTIFS(Assignments!$B$5:$B$104,$A23,Assignments!$E$5:$E$104,$B23,Assignments!$I$5:$I$104,"<="&Assumptions!$B$4,Assignments!$J$5:$J$104,">="&Assumptions!$B$4,Assignments!$L$5:$L$104,Assumptions!$D$10)+COUNTIFS(Assignments!$B$5:$B$104,$A23,Assignments!$E$5:$E$104,$B23,Assignments!$I$5:$I$104,"<="&Assumptions!$B$4,Assignments!$J$5:$J$104,"",Assignments!$L$5:$L$104,Assumptions!$D$10)) | F23: =IF($B23="","",IF($D23=Assumptions!$F$11,Assumptions!$G$12,IF($E23>0,Assumptions!$G$10,Assumptions!$G$11))) | G23: =IF($B23="","",IF($D23="","CHECK SERVICE STATUS",IF($E23>1,"CHECK MULTIPLE ASSIGNMENTS",IF(AND($D23=Assumptions!$F$11,$E23>0),"CHECK SERVICE STATUS","Clear"))))
E24: =IF(OR($A24="",$B24="",Assumptions!$B$4=""),"",COUNTIFS(Assignments!$B$5:$B$104,$A24,Assignments!$E$5:$E$104,$B24,Assignments!$I$5:$I$104,"<="&Assumptions!$B$4,Assignments!$J$5:$J$104,">="&Assumptions!$B$4,Assignments!$L$5:$L$104,Assumptions!$D$10)+COUNTIFS(Assignments!$B$5:$B$104,$A24,Assignments!$E$5:$E$104,$B24,Assignments!$I$5:$I$104,"<="&Assumptions!$B$4,Assignments!$J$5:$J$104,"",Assignments!$L$5:$L$104,Assumptions!$D$10)) | F24: =IF($B24="","",IF($D24=Assumptions!$F$11,Assumptions!$G$12,IF($E24>0,Assumptions!$G$10,Assumptions!$G$11))) | G24: =IF($B24="","",IF($D24="","CHECK SERVICE STATUS",IF($E24>1,"CHECK MULTIPLE ASSIGNMENTS",IF(AND($D24=Assumptions!$F$11,$E24>0),"CHECK SERVICE STATUS","Clear"))))
E25: =IF(OR($A25="",$B25="",Assumptions!$B$4=""),"",COUNTIFS(Assignments!$B$5:$B$104,$A25,Assignments!$E$5:$E$104,$B25,Assignments!$I$5:$I$104,"<="&Assumptions!$B$4,Assignments!$J$5:$J$104,">="&Assumptions!$B$4,Assignments!$L$5:$L$104,Assumptions!$D$10)+COUNTIFS(Assignments!$B$5:$B$104,$A25,Assignments!$E$5:$E$104,$B25,Assignments!$I$5:$I$104,"<="&Assumptions!$B$4,Assignments!$J$5:$J$104,"",Assignments!$L$5:$L$104,Assumptions!$D$10)) | F25: =IF($B25="","",IF($D25=Assumptions!$F$11,Assumptions!$G$12,IF($E25>0,Assumptions!$G$10,Assumptions!$G$11))) | G25: =IF($B25="","",IF($D25="","CHECK SERVICE STATUS",IF($E25>1,"CHECK MULTIPLE ASSIGNMENTS",IF(AND($D25=Assumptions!$F$11,$E25>0),"CHECK SERVICE STATUS","Clear"))))
E26: =IF(OR($A26="",$B26="",Assumptions!$B$4=""),"",COUNTIFS(Assignments!$B$5:$B$104,$A26,Assignments!$E$5:$E$104,$B26,Assignments!$I$5:$I$104,"<="&Assumptions!$B$4,Assignments!$J$5:$J$104,">="&Assumptions!$B$4,Assignments!$L$5:$L$104,Assumptions!$D$10)+COUNTIFS(Assignments!$B$5:$B$104,$A26,Assignments!$E$5:$E$104,$B26,Assignments!$I$5:$I$104,"<="&Assumptions!$B$4,Assignments!$J$5:$J$104,"",Assignments!$L$5:$L$104,Assumptions!$D$10)) | F26: =IF($B26="","",IF($D26=Assumptions!$F$11,Assumptions!$G$12,IF($E26>0,Assumptions!$G$10,Assumptions!$G$11))) | G26: =IF($B26="","",IF($D26="","CHECK SERVICE STATUS",IF($E26>1,"CHECK MULTIPLE ASSIGNMENTS",IF(AND($D26=Assumptions!$F$11,$E26>0),"CHECK SERVICE STATUS","Clear"))))
... E104: =IF(OR($A104="",$B104="",Assumptions!$B$4=""),"",COUNTIFS(Assignments!$B$5:$B$104,$A104,Assignments!$E$5:$E$104,$B104,Assignments!$I$5:$I$104,"<="&Assumptions!$B$4,Assignments!$J$5:$J$104,">="&Assumptions!$B$4,Assignments!$L$5:$L$104,Assumptions!$D$10)+COUNTIFS(Assignments!$B$5:$B$104,$A104,Assignments!$E$5:$E$104,$B104,Assignments!$I$5:$I$104,"<="&Assumptions!$B$4,Assignments!$J$5:$J$104,"",Assignments!$L$5:$L$104,Assumptions!$D$10)) | F104: =IF($B104="","",IF($D104=Assumptions!$F$11,Assumptions!$G$12,IF($E104>0,Assumptions!$G$10,Assumptions!$G$11))) | G104: =IF($B104="","",IF($D104="","CHECK SERVICE STATUS",IF($E104>1,"CHECK MULTIPLE ASSIGNMENTS",IF(AND($D104=Assumptions!$F$11,$E104>0),"CHECK SERVICE STATUS","Clear"))))

Sheet Assumptions
A1: Assumptions and Lists
A2: Edit the visible review settings and stable lists when the operating process changes.
A3: Setting | B3: Editable Value
A4: Review Date | B4: 46276
A5: Ending Soon Window (days) | B5: 30
A7: Property entries below supply the property drop-downs. Blank prepared rows may be edited.
A9: Property | B9: Property Description | D9: Assignment Status | E9: Permit Responsibility | F9: Space Service Status | G9: Calculated Space Status
A10: Fictional Juniper Court | B10: Fictional garden-style rental property | D10: Active | E10: Tenant | F10: In Service | G10: Assigned
A11: Fictional Harbor Mews | B11: Fictional townhome rental property | D11: Scheduled | E11: Property Manager | F11: Out of Service | G11: Available
A12: Fictional Copper Lane Homes | B12: Fictional small residential rental property | D12: Ended | E12: Owner | G12: Out of Service
A13: Fictional Willow Row | B13: Fictional row-home rental property | D13: On Hold
