Workbook

Sheet Summary
A1: Rental Property Pet Register Summary
A2: As of | B2: =TODAY()
A4: Indicator | B4: Calculated Value
A5: Total pet records | B5: =COUNTIF('Pet Register'!$A$5:$A$104,"<>")
A6: Current pet records | B6: =COUNTIF('Pet Register'!$I$5:$I$104,"Approved")+COUNTIF('Pet Register'!$I$5:$I$104,"Conditional")+COUNTIF('Pet Register'!$I$5:$I$104,"Pending Review")
A7: Approved | B7: =COUNTIF('Pet Register'!$I$5:$I$104,"Approved")
A8: Conditional | B8: =COUNTIF('Pet Register'!$I$5:$I$104,"Conditional")
A9: Pending review | B9: =COUNTIF('Pet Register'!$I$5:$I$104,"Pending Review")
A10: No longer at property | B10: =COUNTIF('Pet Register'!$I$5:$I$104,"No Longer at Property")
A11: Open operational alerts | B11: =COUNTIF('Pet Register'!$P$5:$P$104,"Complete core fields")+COUNTIF('Pet Register'!$P$5:$P$104,"Human review needed")+COUNTIF('Pet Register'!$P$5:$P$104,"Approval date check")+COUNTIF('Pet Register'!$P$5:$P$104,"Review overdue")+COUNTIF('Pet Register'!$P$5:$P$104,"Review due soon")+COUNTIF('Pet Register'!$P$5:$P$104,"Document follow-up")+COUNTIF('Pet Register'!$P$5:$P$104,"Weight check")
A12: Reviews due or overdue | B12: =COUNTIF('Pet Register'!$P$5:$P$104,"Review due soon")+COUNTIF('Pet Register'!$P$5:$P$104,"Review overdue")
A13: Complete document records | B13: =COUNTIF('Pet Register'!$M$5:$M$104,"Complete")
A14: Average recorded weight (lb) | B14: =IFERROR(AVERAGEIF('Pet Register'!$H$5:$H$104,">0"),"")
A16: Pet Status | B16: Records
A17: Approved | B17: =COUNTIF('Pet Register'!$I$5:$I$104,"Approved")
A18: Conditional | B18: =COUNTIF('Pet Register'!$I$5:$I$104,"Conditional")
A19: Pending Review | B19: =COUNTIF('Pet Register'!$I$5:$I$104,"Pending Review")
A20: No Longer at Property | B20: =COUNTIF('Pet Register'!$I$5:$I$104,"No Longer at Property")

Sheet Pet Register
A1: Rental Property Pet Register
A2: Yellow cells are editable inputs. The alert column provides prompts for a human check.
A4: Pet Record ID | B4: Property | C4: Unit | D4: Tenancy Reference | E4: Pet Name | F4: Species | G4: Breed / Description | H4: Weight (lb) | I4: Pet Status | J4: Responsible Party | K4: Approval Date | L4: Next Review Date | M4: Document Status | N4: Documents Received Date | O4: Operational Notes | P4: Operational Alert
A5: Fictional Pet Record FPR-001 | B5: Fictional Blue Comet Court | C5: Demo Unit A-01 | D5: Fictional Tenancy FT-001 | E5: Sample Pet Pixel | F5: Dog | G5: Fictional sample: small mixed breed with black coat | H5: 24.5 | I5: Approved | J5: Resident | K5: 45911 | L5: 46396 | M5: Complete | N5: 45916 | O5: Fictional sample: current photo noted in the manager file. | P5: =IF($A5="","",IF(OR($B5="",$C5="",$D5="",$E5="",$F5="",$I5="",$J5="",$M5=""),"Complete core fields",IF($I5="Pending Review","Human review needed",IF($I5="No Longer at Property","No current alert",IF(AND(OR($I5="Approved",$I5="Conditional"),$K5=""),"Approval date check",IF(AND($L5<>"",$L5<TODAY()),"Review overdue",IF(AND($L5<>"",$L5<=TODAY()+Assumptions!$B$4),"Review due soon",IF($M5="Incomplete","Document follow-up",IF(AND($H5<>"",$H5>Assumptions!$B$5),"Weight check","No current alert")))))))))
A6: Fictional Pet Record FPR-002 | B6: Fictional Blue Comet Court | C6: Demo Unit A-02 | D6: Fictional Tenancy FT-002 | E6: Sample Pet Waffle | F6: Cat | G6: Fictional sample: orange domestic shorthair | H6: 11.8 | I6: Conditional | J6: Shared | K6: 46076 | L6: 46366 | M6: Incomplete | O6: Fictional sample: request an updated document copy. | P6: =IF($A6="","",IF(OR($B6="",$C6="",$D6="",$E6="",$F6="",$I6="",$J6="",$M6=""),"Complete core fields",IF($I6="Pending Review","Human review needed",IF($I6="No Longer at Property","No current alert",IF(AND(OR($I6="Approved",$I6="Conditional"),$K6=""),"Approval date check",IF(AND($L6<>"",$L6<TODAY()),"Review overdue",IF(AND($L6<>"",$L6<=TODAY()+Assumptions!$B$4),"Review due soon",IF($M6="Incomplete","Document follow-up",IF(AND($H6<>"",$H6>Assumptions!$B$5),"Weight check","No current alert")))))))))
A7: Fictional Pet Record FPR-003 | B7: Fictional Juniper Kite Homes | C7: Demo Unit B-11 | D7: Fictional Tenancy FT-003 | E7: Sample Pet Thimble | F7: Rabbit | G7: Fictional sample: gray lop rabbit | H7: 6.2 | I7: Pending Review | J7: Manager | M7: Incomplete | O7: Fictional sample: details await a human review. | P7: =IF($A7="","",IF(OR($B7="",$C7="",$D7="",$E7="",$F7="",$I7="",$J7="",$M7=""),"Complete core fields",IF($I7="Pending Review","Human review needed",IF($I7="No Longer at Property","No current alert",IF(AND(OR($I7="Approved",$I7="Conditional"),$K7=""),"Approval date check",IF(AND($L7<>"",$L7<TODAY()),"Review overdue",IF(AND($L7<>"",$L7<=TODAY()+Assumptions!$B$4),"Review due soon",IF($M7="Incomplete","Document follow-up",IF(AND($H7<>"",$H7>Assumptions!$B$5),"Weight check","No current alert")))))))))
A8: Fictional Pet Record FPR-004 | B8: Fictional Juniper Kite Homes | C8: Demo Unit B-12 | D8: Fictional Tenancy FT-004 | E8: Sample Pet Echo | F8: Bird | G8: Fictional sample: green parakeet | H8: 0.3 | I8: Approved | J8: Resident | K8: 45876 | L8: 46275 | M8: Complete | N8: 45881 | O8: Fictional sample: review date intentionally tests an overdue alert. | P8: =IF($A8="","",IF(OR($B8="",$C8="",$D8="",$E8="",$F8="",$I8="",$J8="",$M8=""),"Complete core fields",IF($I8="Pending Review","Human review needed",IF($I8="No Longer at Property","No current alert",IF(AND(OR($I8="Approved",$I8="Conditional"),$K8=""),"Approval date check",IF(AND($L8<>"",$L8<TODAY()),"Review overdue",IF(AND($L8<>"",$L8<=TODAY()+Assumptions!$B$4),"Review due soon",IF($M8="Incomplete","Document follow-up",IF(AND($H8<>"",$H8>Assumptions!$B$5),"Weight check","No current alert")))))))))
A9: Fictional Pet Record FPR-005 | B9: Fictional Copper Lantern Place | C9: Demo Unit C-21 | D9: Fictional Tenancy FT-005 | E9: Sample Pet Marble | F9: Cat | G9: Fictional sample: silver domestic longhair | H9: 13.4 | I9: Approved | J9: Resident | K9: 45936 | L9: 46306 | M9: Complete | N9: 45941 | O9: Fictional sample: review date tests the warning-window boundary. | P9: =IF($A9="","",IF(OR($B9="",$C9="",$D9="",$E9="",$F9="",$I9="",$J9="",$M9=""),"Complete core fields",IF($I9="Pending Review","Human review needed",IF($I9="No Longer at Property","No current alert",IF(AND(OR($I9="Approved",$I9="Conditional"),$K9=""),"Approval date check",IF(AND($L9<>"",$L9<TODAY()),"Review overdue",IF(AND($L9<>"",$L9<=TODAY()+Assumptions!$B$4),"Review due soon",IF($M9="Incomplete","Document follow-up",IF(AND($H9<>"",$H9>Assumptions!$B$5),"Weight check","No current alert")))))))))
A10: Fictional Pet Record FPR-006 | B10: Fictional Copper Lantern Place | C10: Demo Unit C-22 | D10: Fictional Tenancy FT-006 | E10: Sample Pet Lantern | F10: Dog | G10: Fictional sample: medium mixed breed with tan coat | H10: 42 | I10: No Longer at Property | J10: Resident | K10: 45776 | L10: 46156 | M10: Incomplete | O10: Fictional sample: pet departure was entered by the manager. | P10: =IF($A10="","",IF(OR($B10="",$C10="",$D10="",$E10="",$F10="",$I10="",$J10="",$M10=""),"Complete core fields",IF($I10="Pending Review","Human review needed",IF($I10="No Longer at Property","No current alert",IF(AND(OR($I10="Approved",$I10="Conditional"),$K10=""),"Approval date check",IF(AND($L10<>"",$L10<TODAY()),"Review overdue",IF(AND($L10<>"",$L10<=TODAY()+Assumptions!$B$4),"Review due soon",IF($M10="Incomplete","Document follow-up",IF(AND($H10<>"",$H10>Assumptions!$B$5),"Weight check","No current alert")))))))))
A11: Fictional Pet Record FPR-007 | B11: Fictional Blue Comet Court | C11: Demo Unit A-03 | D11: Fictional Tenancy FT-007 | E11: Sample Pet Orbit | F11: Dog | G11: Fictional sample: large mixed breed with white coat | H11: 80 | I11: Approved | J11: Shared | K11: 46156 | L11: 46456 | M11: Complete | N11: 46161 | O11: Fictional sample: weight equals the editable check threshold. | P11: =IF($A11="","",IF(OR($B11="",$C11="",$D11="",$E11="",$F11="",$I11="",$J11="",$M11=""),"Complete core fields",IF($I11="Pending Review","Human review needed",IF($I11="No Longer at Property","No current alert",IF(AND(OR($I11="Approved",$I11="Conditional"),$K11=""),"Approval date check",IF(AND($L11<>"",$L11<TODAY()),"Review overdue",IF(AND($L11<>"",$L11<=TODAY()+Assumptions!$B$4),"Review due soon",IF($M11="Incomplete","Document follow-up",IF(AND($H11<>"",$H11>Assumptions!$B$5),"Weight check","No current alert")))))))))
A12: Fictional Pet Record FPR-008 | B12: Fictional Juniper Kite Homes | C12: Demo Unit B-13 | D12: Fictional Tenancy FT-008 | E12: Sample Pet Comet | F12: Dog | G12: Fictional sample: large mixed breed with brown coat | H12: 80.1 | I12: Approved | J12: Manager | K12: 46186 | L12: 46476 | M12: Complete | N12: 46191 | O12: Fictional sample: weight is above the operational check threshold. | P12: =IF($A12="","",IF(OR($B12="",$C12="",$D12="",$E12="",$F12="",$I12="",$J12="",$M12=""),"Complete core fields",IF($I12="Pending Review","Human review needed",IF($I12="No Longer at Property","No current alert",IF(AND(OR($I12="Approved",$I12="Conditional"),$K12=""),"Approval date check",IF(AND($L12<>"",$L12<TODAY()),"Review overdue",IF(AND($L12<>"",$L12<=TODAY()+Assumptions!$B$4),"Review due soon",IF($M12="Incomplete","Document follow-up",IF(AND($H12<>"",$H12>Assumptions!$B$5),"Weight check","No current alert")))))))))
A13: Fictional Pet Record FPR-009 | B13: Fictional Copper Lantern Place | C13: Demo Unit C-23 | D13: Fictional Tenancy FT-009 | E13: Sample Pet Button | F13: Cat | G13: Fictional sample: white domestic shorthair | H13: 9.6 | I13: Conditional | J13: Manager | L13: 46351 | M13: Complete | N13: 46176 | O13: Fictional sample: approval date requires human confirmation. | P13: =IF($A13="","",IF(OR($B13="",$C13="",$D13="",$E13="",$F13="",$I13="",$J13="",$M13=""),"Complete core fields",IF($I13="Pending Review","Human review needed",IF($I13="No Longer at Property","No current alert",IF(AND(OR($I13="Approved",$I13="Conditional"),$K13=""),"Approval date check",IF(AND($L13<>"",$L13<TODAY()),"Review overdue",IF(AND($L13<>"",$L13<=TODAY()+Assumptions!$B$4),"Review due soon",IF($M13="Incomplete","Document follow-up",IF(AND($H13<>"",$H13>Assumptions!$B$5),"Weight check","No current alert")))))))))
A14: Fictional Pet Record FPR-010 | B14: Fictional Blue Comet Court | C14: Demo Unit A-04 | D14: Fictional Tenancy FT-010 | E14: Sample Pet Pebble | F14: Other | G14: Fictional sample: small tortoise | H14: 12 | I14: Approved | J14: Resident | K14: 46226 | M14: Not Required | O14: Fictional sample: no recurring review date is currently entered. | P14: =IF($A14="","",IF(OR($B14="",$C14="",$D14="",$E14="",$F14="",$I14="",$J14="",$M14=""),"Complete core fields",IF($I14="Pending Review","Human review needed",IF($I14="No Longer at Property","No current alert",IF(AND(OR($I14="Approved",$I14="Conditional"),$K14=""),"Approval date check",IF(AND($L14<>"",$L14<TODAY()),"Review overdue",IF(AND($L14<>"",$L14<=TODAY()+Assumptions!$B$4),"Review due soon",IF($M14="Incomplete","Document follow-up",IF(AND($H14<>"",$H14>Assumptions!$B$5),"Weight check","No current alert")))))))))
P15: =IF($A15="","",IF(OR($B15="",$C15="",$D15="",$E15="",$F15="",$I15="",$J15="",$M15=""),"Complete core fields",IF($I15="Pending Review","Human review needed",IF($I15="No Longer at Property","No current alert",IF(AND(OR($I15="Approved",$I15="Conditional"),$K15=""),"Approval date check",IF(AND($L15<>"",$L15<TODAY()),"Review overdue",IF(AND($L15<>"",$L15<=TODAY()+Assumptions!$B$4),"Review due soon",IF($M15="Incomplete","Document follow-up",IF(AND($H15<>"",$H15>Assumptions!$B$5),"Weight check","No current alert")))))))))
P16: =IF($A16="","",IF(OR($B16="",$C16="",$D16="",$E16="",$F16="",$I16="",$J16="",$M16=""),"Complete core fields",IF($I16="Pending Review","Human review needed",IF($I16="No Longer at Property","No current alert",IF(AND(OR($I16="Approved",$I16="Conditional"),$K16=""),"Approval date check",IF(AND($L16<>"",$L16<TODAY()),"Review overdue",IF(AND($L16<>"",$L16<=TODAY()+Assumptions!$B$4),"Review due soon",IF($M16="Incomplete","Document follow-up",IF(AND($H16<>"",$H16>Assumptions!$B$5),"Weight check","No current alert")))))))))
P17: =IF($A17="","",IF(OR($B17="",$C17="",$D17="",$E17="",$F17="",$I17="",$J17="",$M17=""),"Complete core fields",IF($I17="Pending Review","Human review needed",IF($I17="No Longer at Property","No current alert",IF(AND(OR($I17="Approved",$I17="Conditional"),$K17=""),"Approval date check",IF(AND($L17<>"",$L17<TODAY()),"Review overdue",IF(AND($L17<>"",$L17<=TODAY()+Assumptions!$B$4),"Review due soon",IF($M17="Incomplete","Document follow-up",IF(AND($H17<>"",$H17>Assumptions!$B$5),"Weight check","No current alert")))))))))
P18: =IF($A18="","",IF(OR($B18="",$C18="",$D18="",$E18="",$F18="",$I18="",$J18="",$M18=""),"Complete core fields",IF($I18="Pending Review","Human review needed",IF($I18="No Longer at Property","No current alert",IF(AND(OR($I18="Approved",$I18="Conditional"),$K18=""),"Approval date check",IF(AND($L18<>"",$L18<TODAY()),"Review overdue",IF(AND($L18<>"",$L18<=TODAY()+Assumptions!$B$4),"Review due soon",IF($M18="Incomplete","Document follow-up",IF(AND($H18<>"",$H18>Assumptions!$B$5),"Weight check","No current alert")))))))))
P19: =IF($A19="","",IF(OR($B19="",$C19="",$D19="",$E19="",$F19="",$I19="",$J19="",$M19=""),"Complete core fields",IF($I19="Pending Review","Human review needed",IF($I19="No Longer at Property","No current alert",IF(AND(OR($I19="Approved",$I19="Conditional"),$K19=""),"Approval date check",IF(AND($L19<>"",$L19<TODAY()),"Review overdue",IF(AND($L19<>"",$L19<=TODAY()+Assumptions!$B$4),"Review due soon",IF($M19="Incomplete","Document follow-up",IF(AND($H19<>"",$H19>Assumptions!$B$5),"Weight check","No current alert")))))))))
P20: =IF($A20="","",IF(OR($B20="",$C20="",$D20="",$E20="",$F20="",$I20="",$J20="",$M20=""),"Complete core fields",IF($I20="Pending Review","Human review needed",IF($I20="No Longer at Property","No current alert",IF(AND(OR($I20="Approved",$I20="Conditional"),$K20=""),"Approval date check",IF(AND($L20<>"",$L20<TODAY()),"Review overdue",IF(AND($L20<>"",$L20<=TODAY()+Assumptions!$B$4),"Review due soon",IF($M20="Incomplete","Document follow-up",IF(AND($H20<>"",$H20>Assumptions!$B$5),"Weight check","No current alert")))))))))
P21: =IF($A21="","",IF(OR($B21="",$C21="",$D21="",$E21="",$F21="",$I21="",$J21="",$M21=""),"Complete core fields",IF($I21="Pending Review","Human review needed",IF($I21="No Longer at Property","No current alert",IF(AND(OR($I21="Approved",$I21="Conditional"),$K21=""),"Approval date check",IF(AND($L21<>"",$L21<TODAY()),"Review overdue",IF(AND($L21<>"",$L21<=TODAY()+Assumptions!$B$4),"Review due soon",IF($M21="Incomplete","Document follow-up",IF(AND($H21<>"",$H21>Assumptions!$B$5),"Weight check","No current alert")))))))))
P22: =IF($A22="","",IF(OR($B22="",$C22="",$D22="",$E22="",$F22="",$I22="",$J22="",$M22=""),"Complete core fields",IF($I22="Pending Review","Human review needed",IF($I22="No Longer at Property","No current alert",IF(AND(OR($I22="Approved",$I22="Conditional"),$K22=""),"Approval date check",IF(AND($L22<>"",$L22<TODAY()),"Review overdue",IF(AND($L22<>"",$L22<=TODAY()+Assumptions!$B$4),"Review due soon",IF($M22="Incomplete","Document follow-up",IF(AND($H22<>"",$H22>Assumptions!$B$5),"Weight check","No current alert")))))))))
P23: =IF($A23="","",IF(OR($B23="",$C23="",$D23="",$E23="",$F23="",$I23="",$J23="",$M23=""),"Complete core fields",IF($I23="Pending Review","Human review needed",IF($I23="No Longer at Property","No current alert",IF(AND(OR($I23="Approved",$I23="Conditional"),$K23=""),"Approval date check",IF(AND($L23<>"",$L23<TODAY()),"Review overdue",IF(AND($L23<>"",$L23<=TODAY()+Assumptions!$B$4),"Review due soon",IF($M23="Incomplete","Document follow-up",IF(AND($H23<>"",$H23>Assumptions!$B$5),"Weight check","No current alert")))))))))
P24: =IF($A24="","",IF(OR($B24="",$C24="",$D24="",$E24="",$F24="",$I24="",$J24="",$M24=""),"Complete core fields",IF($I24="Pending Review","Human review needed",IF($I24="No Longer at Property","No current alert",IF(AND(OR($I24="Approved",$I24="Conditional"),$K24=""),"Approval date check",IF(AND($L24<>"",$L24<TODAY()),"Review overdue",IF(AND($L24<>"",$L24<=TODAY()+Assumptions!$B$4),"Review due soon",IF($M24="Incomplete","Document follow-up",IF(AND($H24<>"",$H24>Assumptions!$B$5),"Weight check","No current alert")))))))))
P25: =IF($A25="","",IF(OR($B25="",$C25="",$D25="",$E25="",$F25="",$I25="",$J25="",$M25=""),"Complete core fields",IF($I25="Pending Review","Human review needed",IF($I25="No Longer at Property","No current alert",IF(AND(OR($I25="Approved",$I25="Conditional"),$K25=""),"Approval date check",IF(AND($L25<>"",$L25<TODAY()),"Review overdue",IF(AND($L25<>"",$L25<=TODAY()+Assumptions!$B$4),"Review due soon",IF($M25="Incomplete","Document follow-up",IF(AND($H25<>"",$H25>Assumptions!$B$5),"Weight check","No current alert")))))))))
P26: =IF($A26="","",IF(OR($B26="",$C26="",$D26="",$E26="",$F26="",$I26="",$J26="",$M26=""),"Complete core fields",IF($I26="Pending Review","Human review needed",IF($I26="No Longer at Property","No current alert",IF(AND(OR($I26="Approved",$I26="Conditional"),$K26=""),"Approval date check",IF(AND($L26<>"",$L26<TODAY()),"Review overdue",IF(AND($L26<>"",$L26<=TODAY()+Assumptions!$B$4),"Review due soon",IF($M26="Incomplete","Document follow-up",IF(AND($H26<>"",$H26>Assumptions!$B$5),"Weight check","No current alert")))))))))
... P104: =IF($A104="","",IF(OR($B104="",$C104="",$D104="",$E104="",$F104="",$I104="",$J104="",$M104=""),"Complete core fields",IF($I104="Pending Review","Human review needed",IF($I104="No Longer at Property","No current alert",IF(AND(OR($I104="Approved",$I104="Conditional"),$K104=""),"Approval date check",IF(AND($L104<>"",$L104<TODAY()),"Review overdue",IF(AND($L104<>"",$L104<=TODAY()+Assumptions!$B$4),"Review due soon",IF($M104="Incomplete","Document follow-up",IF(AND($H104<>"",$H104>Assumptions!$B$5),"Weight check","No current alert")))))))))

Sheet Assumptions
A1: Pet Register Assumptions
A2: Edit these operating prompts and stable lists to match the portfolio's current practices.
A3: Operating Prompt | B3: Value | C3: Purpose | D3: Pet Status | E3: Species | F3: Document Status | G3: Responsible Party | H3: Property
A4: Review warning window (days) | B4: 30 | C4: Days before the next review date that prompts a human check. | D4: Approved | E4: Dog | F4: Complete | G4: Resident | H4: Fictional Blue Comet Court
A5: Weight check threshold (lb) | B5: 80 | C5: A recorded weight above this value prompts a human check; it does not set a lease rule. | D5: Conditional | E5: Cat | F5: Incomplete | G5: Manager | H5: Fictional Juniper Kite Homes
D6: Pending Review | E6: Bird | F6: Not Required | G6: Shared | H6: Fictional Copper Lantern Place
D7: No Longer at Property | E7: Rabbit
E8: Other
