Workbook

Sheet Summary
A1: Rental Renewal Offer Tracker Summary
A2: As of Date | B2: =TODAY()
A4: As of date | B4: =TODAY() | C4: Offers entered | D4: =COUNTIF('Renewal Offers'!$A$5:$A$104,"<>") | E4: Lease ends in planning horizon | F4: =COUNTIFS('Renewal Offers'!$E$5:$E$104,">="&$B$4,'Renewal Offers'!$E$5:$E$104,"<="&$B$4+Assumptions!$B$6)
A6: Manager-approved, not sent | B6: =COUNTIFS('Renewal Offers'!$A$5:$A$104,"<>",'Renewal Offers'!$G$5:$G$104,"<>",'Renewal Offers'!$L$5:$L$104,"") | C6: Awaiting response | D6: =COUNTIF('Renewal Offers'!$S$5:$S$104,"Awaiting response") | E6: Response overdue | F6: =COUNTIF('Renewal Offers'!$S$5:$S$104,"Response overdue")
A8: Accepted, agreement open | B8: =COUNTIFS('Renewal Offers'!$N$5:$N$104,"Accepted",'Renewal Offers'!$P$5:$P$104,"<>Completed") | C8: Completed agreements | D8: =COUNTIF('Renewal Offers'!$P$5:$P$104,"Completed") | E8: Other review alerts | F8: =COUNTIF('Renewal Offers'!$S$5:$S$104,"Check*")+COUNTIF('Renewal Offers'!$S$5:$S$104,"Agreement follow-up")+COUNTIF('Renewal Offers'!$S$5:$S$104,"Review counter")+COUNTIF('Renewal Offers'!$S$5:$S$104,"Review no response")
A10: Current rent for priced offers | B10: =SUMIF('Renewal Offers'!$I$5:$I$104,"<>",'Renewal Offers'!$F$5:$F$104) | C10: Proposed rent total | D10: =SUM('Renewal Offers'!$I$5:$I$104) | E10: Weighted proposed change | F10: =IFERROR(SUM('Renewal Offers'!$J$5:$J$104)/SUMIF('Renewal Offers'!$I$5:$I$104,"<>",'Renewal Offers'!$F$5:$F$104),"")
A13: Tenant response | B13: Count
A14: Pending | B14: =COUNTIF('Renewal Offers'!$N$5:$N$104,A14)
A15: Accepted | B15: =COUNTIF('Renewal Offers'!$N$5:$N$104,A15)
A16: Declined | B16: =COUNTIF('Renewal Offers'!$N$5:$N$104,A16)
A17: Countered | B17: =COUNTIF('Renewal Offers'!$N$5:$N$104,A17)
A18: No Response | B18: =COUNTIF('Renewal Offers'!$N$5:$N$104,A18)

Sheet Renewal Offers
A1: Rental Renewal Offers
A2: Yellow cells are editable. Formula columns calculate due dates, changes, next actions, and human-check alerts.
A4: Offer ID | B4: Property | C4: Unit | D4: Tenant | E4: Current Lease End | F4: Current Monthly Rent | G4: Manager Approval Date | H4: Renewal Term Months | I4: Proposed Monthly Rent | J4: Monthly Change | K4: Change % | L4: Offer Sent Date | M4: Response Due Date | N4: Tenant Response | O4: Response Date | P4: Agreement Status | Q4: Agreement Completed Date | R4: Next Action Date | S4: Tracker Status | T4: Action Owner | U4: Notes
A5: DEMO-RO-001 | B5: Fictional Juniper Court | C5: Fictional Unit A-101 | D5: Fictional Tenant Avery North | E5: 46326 | F5: 1450 | G5: 46249 | H5: 12 | I5: 1525 | J5: =IF(OR($F5="",$I5=""),"",IFERROR($I5-$F5,"")) | K5: =IF(OR($F5="",$I5=""),"",IFERROR($J5/$F5,"")) | M5: =IF($A5="","",IF($L5="","",IFERROR($L5+Assumptions!$B$4,""))) | O5: 46250 | Q5: Pending | R5: =IF($A5="","",IF(OR($P5="Completed",$P5="Not Renewing",$P5="Withdrawn",$N5="Declined"),"",IF($N5="Accepted",IF($O5="","",IFERROR($O5+Assumptions!$B$5,"")),IF($N5="Countered",IF($O5="","",$O5),IF($L5<>"",$M5,IF($G5<>"",$G5,IF($E5="","",IFERROR($E5-Assumptions!$B$6,"")))))))) | S5: =IF($A5="","",IF(AND($P5="Completed",$Q5=""),"Check completion date",IF(AND($Q5<>"",$P5<>"Completed"),"Check agreement status",IF($P5="Completed","Completed",IF(OR($P5="Not Renewing",$P5="Withdrawn",$N5="Declined"),"Closed - no renewal",IF($N5="Accepted",IF($O5="","Check response date",IF(AND($R5<>"",$R5<TODAY()),"Agreement follow-up","Accepted - agreement open")),IF($N5="Countered","Review counter",IF($N5="No Response","Review no response",IF(AND($O5<>"",OR($N5="",$N5="Pending")),"Check response",IF($L5="",IF($G5="","Awaiting approval","Ready to send"),IF(AND($M5<>"",$M5<TODAY()),"Response overdue","Awaiting response")))))))))) | U5: Not Started | W5: =Assumptions!$A$13 | X5: =Assumptions!$C$13 | Y5: =Assumptions!$B$8
A6: DEMO-RO-002 | B6: Fictional Juniper Court | C6: Fictional Unit B-204 | D6: Fictional Tenant Blair Harbor | E6: 46356 | F6: 1620 | G6: 46262 | H6: 12 | I6: 1700 | J6: =IF(OR($F6="",$I6=""),"",IFERROR($I6-$F6,"")) | K6: =IF(OR($F6="",$I6=""),"",IFERROR($J6/$F6,"")) | M6: =IF($A6="","",IF($L6="","",IFERROR($L6+Assumptions!$B$4,""))) | O6: 46266 | Q6: Accepted | R6: =IF($A6="","",IF(OR($P6="Completed",$P6="Not Renewing",$P6="Withdrawn",$N6="Declined"),"",IF($N6="Accepted",IF($O6="","",IFERROR($O6+Assumptions!$B$5,"")),IF($N6="Countered",IF($O6="","",$O6),IF($L6<>"",$M6,IF($G6<>"",$G6,IF($E6="","",IFERROR($E6-Assumptions!$B$6,"")))))))) | S6: =IF($A6="","",IF(AND($P6="Completed",$Q6=""),"Check completion date",IF(AND($Q6<>"",$P6<>"Completed"),"Check agreement status",IF($P6="Completed","Completed",IF(OR($P6="Not Renewing",$P6="Withdrawn",$N6="Declined"),"Closed - no renewal",IF($N6="Accepted",IF($O6="","Check response date",IF(AND($R6<>"",$R6<TODAY()),"Agreement follow-up","Accepted - agreement open")),IF($N6="Countered","Review counter",IF($N6="No Response","Review no response",IF(AND($O6<>"",OR($N6="",$N6="Pending")),"Check response",IF($L6="",IF($G6="","Awaiting approval","Ready to send"),IF(AND($M6<>"",$M6<TODAY()),"Response overdue","Awaiting response")))))))))) | T6: 46270 | U6: Preparing | W6: =Assumptions!$A$14 | X6: =Assumptions!$C$14 | Y6: =Assumptions!$B$9
A7: DEMO-RO-003 | B7: Fictional Harbor Lantern Homes | C7: Fictional Unit C-03 | D7: Fictional Tenant Cameron Flint | E7: 46387 | F7: 1380 | H7: 12 | I7: 1490 | J7: =IF(OR($F7="",$I7=""),"",IFERROR($I7-$F7,"")) | K7: =IF(OR($F7="",$I7=""),"",IFERROR($J7/$F7,"")) | M7: =IF($A7="","",IF($L7="","",IFERROR($L7+Assumptions!$B$4,""))) | Q7: Pending | R7: =IF($A7="","",IF(OR($P7="Completed",$P7="Not Renewing",$P7="Withdrawn",$N7="Declined"),"",IF($N7="Accepted",IF($O7="","",IFERROR($O7+Assumptions!$B$5,"")),IF($N7="Countered",IF($O7="","",$O7),IF($L7<>"",$M7,IF($G7<>"",$G7,IF($E7="","",IFERROR($E7-Assumptions!$B$6,"")))))))) | S7: =IF($A7="","",IF(AND($P7="Completed",$Q7=""),"Check completion date",IF(AND($Q7<>"",$P7<>"Completed"),"Check agreement status",IF($P7="Completed","Completed",IF(OR($P7="Not Renewing",$P7="Withdrawn",$N7="Declined"),"Closed - no renewal",IF($N7="Accepted",IF($O7="","Check response date",IF(AND($R7<>"",$R7<TODAY()),"Agreement follow-up","Accepted - agreement open")),IF($N7="Countered","Review counter",IF($N7="No Response","Review no response",IF(AND($O7<>"",OR($N7="",$N7="Pending")),"Check response",IF($L7="",IF($G7="","Awaiting approval","Ready to send"),IF(AND($M7<>"",$M7<TODAY()),"Response overdue","Awaiting response")))))))))) | U7: Not Started | W7: =Assumptions!$A$15 | X7: =Assumptions!$C$15 | Y7: =Assumptions!$B$7
A8: DEMO-RO-004 | B8: Fictional Harbor Lantern Homes | C8: Fictional Unit D-12 | D8: Fictional Tenant Dakota Reed | E8: 46418 | F8: 2100 | G8: 46268 | H8: 12 | I8: 2268 | J8: =IF(OR($F8="",$I8=""),"",IFERROR($I8-$F8,"")) | K8: =IF(OR($F8="",$I8=""),"",IFERROR($J8/$F8,"")) | M8: =IF($A8="","",IF($L8="","",IFERROR($L8+Assumptions!$B$4,""))) | Q8: Pending | R8: =IF($A8="","",IF(OR($P8="Completed",$P8="Not Renewing",$P8="Withdrawn",$N8="Declined"),"",IF($N8="Accepted",IF($O8="","",IFERROR($O8+Assumptions!$B$5,"")),IF($N8="Countered",IF($O8="","",$O8),IF($L8<>"",$M8,IF($G8<>"",$G8,IF($E8="","",IFERROR($E8-Assumptions!$B$6,"")))))))) | S8: =IF($A8="","",IF(AND($P8="Completed",$Q8=""),"Check completion date",IF(AND($Q8<>"",$P8<>"Completed"),"Check agreement status",IF($P8="Completed","Completed",IF(OR($P8="Not Renewing",$P8="Withdrawn",$N8="Declined"),"Closed - no renewal",IF($N8="Accepted",IF($O8="","Check response date",IF(AND($R8<>"",$R8<TODAY()),"Agreement follow-up","Accepted - agreement open")),IF($N8="Countered","Review counter",IF($N8="No Response","Review no response",IF(AND($O8<>"",OR($N8="",$N8="Pending")),"Check response",IF($L8="",IF($G8="","Awaiting approval","Ready to send"),IF(AND($M8<>"",$M8<TODAY()),"Response overdue","Awaiting response")))))))))) | U8: Not Started | W8: =Assumptions!$A$16 | X8: =Assumptions!$C$16
A9: DEMO-RO-005 | B9: Fictional Maple Comet Place | C9: Fictional Unit E-08 | D9: Fictional Tenant Emerson Lake | E9: 46295 | F9: 1750 | G9: 46235 | H9: 12 | I9: 1750 | J9: =IF(OR($F9="",$I9=""),"",IFERROR($I9-$F9,"")) | K9: =IF(OR($F9="",$I9=""),"",IFERROR($J9/$F9,"")) | M9: =IF($A9="","",IF($L9="","",IFERROR($L9+Assumptions!$B$4,""))) | O9: 46236 | Q9: Accepted | R9: =IF($A9="","",IF(OR($P9="Completed",$P9="Not Renewing",$P9="Withdrawn",$N9="Declined"),"",IF($N9="Accepted",IF($O9="","",IFERROR($O9+Assumptions!$B$5,"")),IF($N9="Countered",IF($O9="","",$O9),IF($L9<>"",$M9,IF($G9<>"",$G9,IF($E9="","",IFERROR($E9-Assumptions!$B$6,"")))))))) | S9: =IF($A9="","",IF(AND($P9="Completed",$Q9=""),"Check completion date",IF(AND($Q9<>"",$P9<>"Completed"),"Check agreement status",IF($P9="Completed","Completed",IF(OR($P9="Not Renewing",$P9="Withdrawn",$N9="Declined"),"Closed - no renewal",IF($N9="Accepted",IF($O9="","Check response date",IF(AND($R9<>"",$R9<TODAY()),"Agreement follow-up","Accepted - agreement open")),IF($N9="Countered","Review counter",IF($N9="No Response","Review no response",IF(AND($O9<>"",OR($N9="",$N9="Pending")),"Check response",IF($L9="",IF($G9="","Awaiting approval","Ready to send"),IF(AND($M9<>"",$M9<TODAY()),"Response overdue","Awaiting response")))))))))) | T9: 46244 | U9: Completed | W9: =Assumptions!$A$17 | X9: =Assumptions!$C$17
A10: DEMO-RO-006 | B10: Fictional Maple Comet Place | C10: Fictional Unit F-14 | D10: Fictional Tenant Finley Stone | E10: 46310 | F10: 1325 | G10: 46239 | H10: 6 | I10: 1375 | J10: =IF(OR($F10="",$I10=""),"",IFERROR($I10-$F10,"")) | K10: =IF(OR($F10="",$I10=""),"",IFERROR($J10/$F10,"")) | M10: =IF($A10="","",IF($L10="","",IFERROR($L10+Assumptions!$B$4,""))) | O10: 46240 | Q10: Declined | R10: =IF($A10="","",IF(OR($P10="Completed",$P10="Not Renewing",$P10="Withdrawn",$N10="Declined"),"",IF($N10="Accepted",IF($O10="","",IFERROR($O10+Assumptions!$B$5,"")),IF($N10="Countered",IF($O10="","",$O10),IF($L10<>"",$M10,IF($G10<>"",$G10,IF($E10="","",IFERROR($E10-Assumptions!$B$6,"")))))))) | S10: =IF($A10="","",IF(AND($P10="Completed",$Q10=""),"Check completion date",IF(AND($Q10<>"",$P10<>"Completed"),"Check agreement status",IF($P10="Completed","Completed",IF(OR($P10="Not Renewing",$P10="Withdrawn",$N10="Declined"),"Closed - no renewal",IF($N10="Accepted",IF($O10="","Check response date",IF(AND($R10<>"",$R10<TODAY()),"Agreement follow-up","Accepted - agreement open")),IF($N10="Countered","Review counter",IF($N10="No Response","Review no response",IF(AND($O10<>"",OR($N10="",$N10="Pending")),"Check response",IF($L10="",IF($G10="","Awaiting approval","Ready to send"),IF(AND($M10<>"",$M10<TODAY()),"Response overdue","Awaiting response")))))))))) | T10: 46246 | U10: Not Renewing | X10: =Assumptions!$C$18
A11: DEMO-RO-007 | B11: Fictional Copper Kite Residences | C11: Fictional Unit G-07 | D11: Fictional Tenant Gray Willow | E11: 46371 | F11: 1980 | G11: 46263 | H11: 18 | I11: 2079 | J11: =IF(OR($F11="",$I11=""),"",IFERROR($I11-$F11,"")) | K11: =IF(OR($F11="",$I11=""),"",IFERROR($J11/$F11,"")) | M11: =IF($A11="","",IF($L11="","",IFERROR($L11+Assumptions!$B$4,""))) | O11: 46264 | Q11: Countered | R11: =IF($A11="","",IF(OR($P11="Completed",$P11="Not Renewing",$P11="Withdrawn",$N11="Declined"),"",IF($N11="Accepted",IF($O11="","",IFERROR($O11+Assumptions!$B$5,"")),IF($N11="Countered",IF($O11="","",$O11),IF($L11<>"",$M11,IF($G11<>"",$G11,IF($E11="","",IFERROR($E11-Assumptions!$B$6,"")))))))) | S11: =IF($A11="","",IF(AND($P11="Completed",$Q11=""),"Check completion date",IF(AND($Q11<>"",$P11<>"Completed"),"Check agreement status",IF($P11="Completed","Completed",IF(OR($P11="Not Renewing",$P11="Withdrawn",$N11="Declined"),"Closed - no renewal",IF($N11="Accepted",IF($O11="","Check response date",IF(AND($R11<>"",$R11<TODAY()),"Agreement follow-up","Accepted - agreement open")),IF($N11="Countered","Review counter",IF($N11="No Response","Review no response",IF(AND($O11<>"",OR($N11="",$N11="Pending")),"Check response",IF($L11="",IF($G11="","Awaiting approval","Ready to send"),IF(AND($M11<>"",$M11<TODAY()),"Response overdue","Awaiting response")))))))))) | T11: 46274 | U11: Not Started
A12: DEMO-RO-008 | B12: Fictional Copper Kite Residences | C12: Fictional Unit H-22 | D12: Fictional Tenant Harper Frost | E12: 46446 | F12: 1550 | G12: 46269 | H12: 1 | I12: 1610 | J12: =IF(OR($F12="",$I12=""),"",IFERROR($I12-$F12,"")) | K12: =IF(OR($F12="",$I12=""),"",IFERROR($J12/$F12,"")) | M12: =IF($A12="","",IF($L12="","",IFERROR($L12+Assumptions!$B$4,""))) | O12: 46270 | Q12: Pending | R12: =IF($A12="","",IF(OR($P12="Completed",$P12="Not Renewing",$P12="Withdrawn",$N12="Declined"),"",IF($N12="Accepted",IF($O12="","",IFERROR($O12+Assumptions!$B$5,"")),IF($N12="Countered",IF($O12="","",$O12),IF($L12<>"",$M12,IF($G12<>"",$G12,IF($E12="","",IFERROR($E12-Assumptions!$B$6,"")))))))) | S12: =IF($A12="","",IF(AND($P12="Completed",$Q12=""),"Check completion date",IF(AND($Q12<>"",$P12<>"Completed"),"Check agreement status",IF($P12="Completed","Completed",IF(OR($P12="Not Renewing",$P12="Withdrawn",$N12="Declined"),"Closed - no renewal",IF($N12="Accepted",IF($O12="","Check response date",IF(AND($R12<>"",$R12<TODAY()),"Agreement follow-up","Accepted - agreement open")),IF($N12="Countered","Review counter",IF($N12="No Response","Review no response",IF(AND($O12<>"",OR($N12="",$N12="Pending")),"Check response",IF($L12="",IF($G12="","Awaiting approval","Ready to send"),IF(AND($M12<>"",$M12<TODAY()),"Response overdue","Awaiting response")))))))))) | U12: Not Started
A13: DEMO-RO-009 | B13: Fictional Silver Acorn Row | C13: Fictional Unit J-09 | D13: Fictional Tenant Indigo Marsh | E13: 46341 | F13: 2250 | G13: 46250 | H13: 24 | I13: 2430 | J13: =IF(OR($F13="",$I13=""),"",IFERROR($I13-$F13,"")) | K13: =IF(OR($F13="",$I13=""),"",IFERROR($J13/$F13,"")) | M13: =IF($A13="","",IF($L13="","",IFERROR($L13+Assumptions!$B$4,""))) | O13: 46251 | Q13: No Response | R13: =IF($A13="","",IF(OR($P13="Completed",$P13="Not Renewing",$P13="Withdrawn",$N13="Declined"),"",IF($N13="Accepted",IF($O13="","",IFERROR($O13+Assumptions!$B$5,"")),IF($N13="Countered",IF($O13="","",$O13),IF($L13<>"",$M13,IF($G13<>"",$G13,IF($E13="","",IFERROR($E13-Assumptions!$B$6,"")))))))) | S13: =IF($A13="","",IF(AND($P13="Completed",$Q13=""),"Check completion date",IF(AND($Q13<>"",$P13<>"Completed"),"Check agreement status",IF($P13="Completed","Completed",IF(OR($P13="Not Renewing",$P13="Withdrawn",$N13="Declined"),"Closed - no renewal",IF($N13="Accepted",IF($O13="","Check response date",IF(AND($R13<>"",$R13<TODAY()),"Agreement follow-up","Accepted - agreement open")),IF($N13="Countered","Review counter",IF($N13="No Response","Review no response",IF(AND($O13<>"",OR($N13="",$N13="Pending")),"Check response",IF($L13="",IF($G13="","Awaiting approval","Ready to send"),IF(AND($M13<>"",$M13<TODAY()),"Response overdue","Awaiting response")))))))))) | T13: 46267 | U13: Not Started
A14: DEMO-RO-010 | B14: Fictional Silver Acorn Row | C14: Fictional Unit K-16 | D14: Fictional Tenant Jordan Pine | E14: 46477 | F14: 1685 | G14: 46267 | H14: 36 | I14: 1775 | J14: =IF(OR($F14="",$I14=""),"",IFERROR($I14-$F14,"")) | K14: =IF(OR($F14="",$I14=""),"",IFERROR($J14/$F14,"")) | M14: =IF($A14="","",IF($L14="","",IFERROR($L14+Assumptions!$B$4,""))) | O14: 46268 | Q14: Accepted | R14: =IF($A14="","",IF(OR($P14="Completed",$P14="Not Renewing",$P14="Withdrawn",$N14="Declined"),"",IF($N14="Accepted",IF($O14="","",IFERROR($O14+Assumptions!$B$5,"")),IF($N14="Countered",IF($O14="","",$O14),IF($L14<>"",$M14,IF($G14<>"",$G14,IF($E14="","",IFERROR($E14-Assumptions!$B$6,"")))))))) | S14: =IF($A14="","",IF(AND($P14="Completed",$Q14=""),"Check completion date",IF(AND($Q14<>"",$P14<>"Completed"),"Check agreement status",IF($P14="Completed","Completed",IF(OR($P14="Not Renewing",$P14="Withdrawn",$N14="Declined"),"Closed - no renewal",IF($N14="Accepted",IF($O14="","Check response date",IF(AND($R14<>"",$R14<TODAY()),"Agreement follow-up","Accepted - agreement open")),IF($N14="Countered","Review counter",IF($N14="No Response","Review no response",IF(AND($O14<>"",OR($N14="",$N14="Pending")),"Check response",IF($L14="",IF($G14="","Awaiting approval","Ready to send"),IF(AND($M14<>"",$M14<TODAY()),"Response overdue","Awaiting response")))))))))) | T14: 46273 | U14: Sent for Signature
J15: =IF(OR($F15="",$I15=""),"",IFERROR($I15-$F15,"")) | K15: =IF(OR($F15="",$I15=""),"",IFERROR($J15/$F15,"")) | M15: =IF($A15="","",IF($L15="","",IFERROR($L15+Assumptions!$B$4,""))) | R15: =IF($A15="","",IF(OR($P15="Completed",$P15="Not Renewing",$P15="Withdrawn",$N15="Declined"),"",IF($N15="Accepted",IF($O15="","",IFERROR($O15+Assumptions!$B$5,"")),IF($N15="Countered",IF($O15="","",$O15),IF($L15<>"",$M15,IF($G15<>"",$G15,IF($E15="","",IFERROR($E15-Assumptions!$B$6,"")))))))) | S15: =IF($A15="","",IF(AND($P15="Completed",$Q15=""),"Check completion date",IF(AND($Q15<>"",$P15<>"Completed"),"Check agreement status",IF($P15="Completed","Completed",IF(OR($P15="Not Renewing",$P15="Withdrawn",$N15="Declined"),"Closed - no renewal",IF($N15="Accepted",IF($O15="","Check response date",IF(AND($R15<>"",$R15<TODAY()),"Agreement follow-up","Accepted - agreement open")),IF($N15="Countered","Review counter",IF($N15="No Response","Review no response",IF(AND($O15<>"",OR($N15="",$N15="Pending")),"Check response",IF($L15="",IF($G15="","Awaiting approval","Ready to send"),IF(AND($M15<>"",$M15<TODAY()),"Response overdue","Awaiting response"))))))))))
J16: =IF(OR($F16="",$I16=""),"",IFERROR($I16-$F16,"")) | K16: =IF(OR($F16="",$I16=""),"",IFERROR($J16/$F16,"")) | M16: =IF($A16="","",IF($L16="","",IFERROR($L16+Assumptions!$B$4,""))) | R16: =IF($A16="","",IF(OR($P16="Completed",$P16="Not Renewing",$P16="Withdrawn",$N16="Declined"),"",IF($N16="Accepted",IF($O16="","",IFERROR($O16+Assumptions!$B$5,"")),IF($N16="Countered",IF($O16="","",$O16),IF($L16<>"",$M16,IF($G16<>"",$G16,IF($E16="","",IFERROR($E16-Assumptions!$B$6,"")))))))) | S16: =IF($A16="","",IF(AND($P16="Completed",$Q16=""),"Check completion date",IF(AND($Q16<>"",$P16<>"Completed"),"Check agreement status",IF($P16="Completed","Completed",IF(OR($P16="Not Renewing",$P16="Withdrawn",$N16="Declined"),"Closed - no renewal",IF($N16="Accepted",IF($O16="","Check response date",IF(AND($R16<>"",$R16<TODAY()),"Agreement follow-up","Accepted - agreement open")),IF($N16="Countered","Review counter",IF($N16="No Response","Review no response",IF(AND($O16<>"",OR($N16="",$N16="Pending")),"Check response",IF($L16="",IF($G16="","Awaiting approval","Ready to send"),IF(AND($M16<>"",$M16<TODAY()),"Response overdue","Awaiting response"))))))))))
J17: =IF(OR($F17="",$I17=""),"",IFERROR($I17-$F17,"")) | K17: =IF(OR($F17="",$I17=""),"",IFERROR($J17/$F17,"")) | M17: =IF($A17="","",IF($L17="","",IFERROR($L17+Assumptions!$B$4,""))) | R17: =IF($A17="","",IF(OR($P17="Completed",$P17="Not Renewing",$P17="Withdrawn",$N17="Declined"),"",IF($N17="Accepted",IF($O17="","",IFERROR($O17+Assumptions!$B$5,"")),IF($N17="Countered",IF($O17="","",$O17),IF($L17<>"",$M17,IF($G17<>"",$G17,IF($E17="","",IFERROR($E17-Assumptions!$B$6,"")))))))) | S17: =IF($A17="","",IF(AND($P17="Completed",$Q17=""),"Check completion date",IF(AND($Q17<>"",$P17<>"Completed"),"Check agreement status",IF($P17="Completed","Completed",IF(OR($P17="Not Renewing",$P17="Withdrawn",$N17="Declined"),"Closed - no renewal",IF($N17="Accepted",IF($O17="","Check response date",IF(AND($R17<>"",$R17<TODAY()),"Agreement follow-up","Accepted - agreement open")),IF($N17="Countered","Review counter",IF($N17="No Response","Review no response",IF(AND($O17<>"",OR($N17="",$N17="Pending")),"Check response",IF($L17="",IF($G17="","Awaiting approval","Ready to send"),IF(AND($M17<>"",$M17<TODAY()),"Response overdue","Awaiting response"))))))))))
J18: =IF(OR($F18="",$I18=""),"",IFERROR($I18-$F18,"")) | K18: =IF(OR($F18="",$I18=""),"",IFERROR($J18/$F18,"")) | M18: =IF($A18="","",IF($L18="","",IFERROR($L18+Assumptions!$B$4,""))) | R18: =IF($A18="","",IF(OR($P18="Completed",$P18="Not Renewing",$P18="Withdrawn",$N18="Declined"),"",IF($N18="Accepted",IF($O18="","",IFERROR($O18+Assumptions!$B$5,"")),IF($N18="Countered",IF($O18="","",$O18),IF($L18<>"",$M18,IF($G18<>"",$G18,IF($E18="","",IFERROR($E18-Assumptions!$B$6,"")))))))) | S18: =IF($A18="","",IF(AND($P18="Completed",$Q18=""),"Check completion date",IF(AND($Q18<>"",$P18<>"Completed"),"Check agreement status",IF($P18="Completed","Completed",IF(OR($P18="Not Renewing",$P18="Withdrawn",$N18="Declined"),"Closed - no renewal",IF($N18="Accepted",IF($O18="","Check response date",IF(AND($R18<>"",$R18<TODAY()),"Agreement follow-up","Accepted - agreement open")),IF($N18="Countered","Review counter",IF($N18="No Response","Review no response",IF(AND($O18<>"",OR($N18="",$N18="Pending")),"Check response",IF($L18="",IF($G18="","Awaiting approval","Ready to send"),IF(AND($M18<>"",$M18<TODAY()),"Response overdue","Awaiting response"))))))))))
J19: =IF(OR($F19="",$I19=""),"",IFERROR($I19-$F19,"")) | K19: =IF(OR($F19="",$I19=""),"",IFERROR($J19/$F19,"")) | M19: =IF($A19="","",IF($L19="","",IFERROR($L19+Assumptions!$B$4,""))) | R19: =IF($A19="","",IF(OR($P19="Completed",$P19="Not Renewing",$P19="Withdrawn",$N19="Declined"),"",IF($N19="Accepted",IF($O19="","",IFERROR($O19+Assumptions!$B$5,"")),IF($N19="Countered",IF($O19="","",$O19),IF($L19<>"",$M19,IF($G19<>"",$G19,IF($E19="","",IFERROR($E19-Assumptions!$B$6,"")))))))) | S19: =IF($A19="","",IF(AND($P19="Completed",$Q19=""),"Check completion date",IF(AND($Q19<>"",$P19<>"Completed"),"Check agreement status",IF($P19="Completed","Completed",IF(OR($P19="Not Renewing",$P19="Withdrawn",$N19="Declined"),"Closed - no renewal",IF($N19="Accepted",IF($O19="","Check response date",IF(AND($R19<>"",$R19<TODAY()),"Agreement follow-up","Accepted - agreement open")),IF($N19="Countered","Review counter",IF($N19="No Response","Review no response",IF(AND($O19<>"",OR($N19="",$N19="Pending")),"Check response",IF($L19="",IF($G19="","Awaiting approval","Ready to send"),IF(AND($M19<>"",$M19<TODAY()),"Response overdue","Awaiting response"))))))))))
J20: =IF(OR($F20="",$I20=""),"",IFERROR($I20-$F20,"")) | K20: =IF(OR($F20="",$I20=""),"",IFERROR($J20/$F20,"")) | M20: =IF($A20="","",IF($L20="","",IFERROR($L20+Assumptions!$B$4,""))) | R20: =IF($A20="","",IF(OR($P20="Completed",$P20="Not Renewing",$P20="Withdrawn",$N20="Declined"),"",IF($N20="Accepted",IF($O20="","",IFERROR($O20+Assumptions!$B$5,"")),IF($N20="Countered",IF($O20="","",$O20),IF($L20<>"",$M20,IF($G20<>"",$G20,IF($E20="","",IFERROR($E20-Assumptions!$B$6,"")))))))) | S20: =IF($A20="","",IF(AND($P20="Completed",$Q20=""),"Check completion date",IF(AND($Q20<>"",$P20<>"Completed"),"Check agreement status",IF($P20="Completed","Completed",IF(OR($P20="Not Renewing",$P20="Withdrawn",$N20="Declined"),"Closed - no renewal",IF($N20="Accepted",IF($O20="","Check response date",IF(AND($R20<>"",$R20<TODAY()),"Agreement follow-up","Accepted - agreement open")),IF($N20="Countered","Review counter",IF($N20="No Response","Review no response",IF(AND($O20<>"",OR($N20="",$N20="Pending")),"Check response",IF($L20="",IF($G20="","Awaiting approval","Ready to send"),IF(AND($M20<>"",$M20<TODAY()),"Response overdue","Awaiting response"))))))))))
J21: =IF(OR($F21="",$I21=""),"",IFERROR($I21-$F21,"")) | K21: =IF(OR($F21="",$I21=""),"",IFERROR($J21/$F21,"")) | M21: =IF($A21="","",IF($L21="","",IFERROR($L21+Assumptions!$B$4,""))) | R21: =IF($A21="","",IF(OR($P21="Completed",$P21="Not Renewing",$P21="Withdrawn",$N21="Declined"),"",IF($N21="Accepted",IF($O21="","",IFERROR($O21+Assumptions!$B$5,"")),IF($N21="Countered",IF($O21="","",$O21),IF($L21<>"",$M21,IF($G21<>"",$G21,IF($E21="","",IFERROR($E21-Assumptions!$B$6,"")))))))) | S21: =IF($A21="","",IF(AND($P21="Completed",$Q21=""),"Check completion date",IF(AND($Q21<>"",$P21<>"Completed"),"Check agreement status",IF($P21="Completed","Completed",IF(OR($P21="Not Renewing",$P21="Withdrawn",$N21="Declined"),"Closed - no renewal",IF($N21="Accepted",IF($O21="","Check response date",IF(AND($R21<>"",$R21<TODAY()),"Agreement follow-up","Accepted - agreement open")),IF($N21="Countered","Review counter",IF($N21="No Response","Review no response",IF(AND($O21<>"",OR($N21="",$N21="Pending")),"Check response",IF($L21="",IF($G21="","Awaiting approval","Ready to send"),IF(AND($M21<>"",$M21<TODAY()),"Response overdue","Awaiting response"))))))))))
J22: =IF(OR($F22="",$I22=""),"",IFERROR($I22-$F22,"")) | K22: =IF(OR($F22="",$I22=""),"",IFERROR($J22/$F22,"")) | M22: =IF($A22="","",IF($L22="","",IFERROR($L22+Assumptions!$B$4,""))) | R22: =IF($A22="","",IF(OR($P22="Completed",$P22="Not Renewing",$P22="Withdrawn",$N22="Declined"),"",IF($N22="Accepted",IF($O22="","",IFERROR($O22+Assumptions!$B$5,"")),IF($N22="Countered",IF($O22="","",$O22),IF($L22<>"",$M22,IF($G22<>"",$G22,IF($E22="","",IFERROR($E22-Assumptions!$B$6,"")))))))) | S22: =IF($A22="","",IF(AND($P22="Completed",$Q22=""),"Check completion date",IF(AND($Q22<>"",$P22<>"Completed"),"Check agreement status",IF($P22="Completed","Completed",IF(OR($P22="Not Renewing",$P22="Withdrawn",$N22="Declined"),"Closed - no renewal",IF($N22="Accepted",IF($O22="","Check response date",IF(AND($R22<>"",$R22<TODAY()),"Agreement follow-up","Accepted - agreement open")),IF($N22="Countered","Review counter",IF($N22="No Response","Review no response",IF(AND($O22<>"",OR($N22="",$N22="Pending")),"Check response",IF($L22="",IF($G22="","Awaiting approval","Ready to send"),IF(AND($M22<>"",$M22<TODAY()),"Response overdue","Awaiting response"))))))))))
J23: =IF(OR($F23="",$I23=""),"",IFERROR($I23-$F23,"")) | K23: =IF(OR($F23="",$I23=""),"",IFERROR($J23/$F23,"")) | M23: =IF($A23="","",IF($L23="","",IFERROR($L23+Assumptions!$B$4,""))) | R23: =IF($A23="","",IF(OR($P23="Completed",$P23="Not Renewing",$P23="Withdrawn",$N23="Declined"),"",IF($N23="Accepted",IF($O23="","",IFERROR($O23+Assumptions!$B$5,"")),IF($N23="Countered",IF($O23="","",$O23),IF($L23<>"",$M23,IF($G23<>"",$G23,IF($E23="","",IFERROR($E23-Assumptions!$B$6,"")))))))) | S23: =IF($A23="","",IF(AND($P23="Completed",$Q23=""),"Check completion date",IF(AND($Q23<>"",$P23<>"Completed"),"Check agreement status",IF($P23="Completed","Completed",IF(OR($P23="Not Renewing",$P23="Withdrawn",$N23="Declined"),"Closed - no renewal",IF($N23="Accepted",IF($O23="","Check response date",IF(AND($R23<>"",$R23<TODAY()),"Agreement follow-up","Accepted - agreement open")),IF($N23="Countered","Review counter",IF($N23="No Response","Review no response",IF(AND($O23<>"",OR($N23="",$N23="Pending")),"Check response",IF($L23="",IF($G23="","Awaiting approval","Ready to send"),IF(AND($M23<>"",$M23<TODAY()),"Response overdue","Awaiting response"))))))))))
J24: =IF(OR($F24="",$I24=""),"",IFERROR($I24-$F24,"")) | K24: =IF(OR($F24="",$I24=""),"",IFERROR($J24/$F24,"")) | M24: =IF($A24="","",IF($L24="","",IFERROR($L24+Assumptions!$B$4,""))) | R24: =IF($A24="","",IF(OR($P24="Completed",$P24="Not Renewing",$P24="Withdrawn",$N24="Declined"),"",IF($N24="Accepted",IF($O24="","",IFERROR($O24+Assumptions!$B$5,"")),IF($N24="Countered",IF($O24="","",$O24),IF($L24<>"",$M24,IF($G24<>"",$G24,IF($E24="","",IFERROR($E24-Assumptions!$B$6,"")))))))) | S24: =IF($A24="","",IF(AND($P24="Completed",$Q24=""),"Check completion date",IF(AND($Q24<>"",$P24<>"Completed"),"Check agreement status",IF($P24="Completed","Completed",IF(OR($P24="Not Renewing",$P24="Withdrawn",$N24="Declined"),"Closed - no renewal",IF($N24="Accepted",IF($O24="","Check response date",IF(AND($R24<>"",$R24<TODAY()),"Agreement follow-up","Accepted - agreement open")),IF($N24="Countered","Review counter",IF($N24="No Response","Review no response",IF(AND($O24<>"",OR($N24="",$N24="Pending")),"Check response",IF($L24="",IF($G24="","Awaiting approval","Ready to send"),IF(AND($M24<>"",$M24<TODAY()),"Response overdue","Awaiting response"))))))))))
J25: =IF(OR($F25="",$I25=""),"",IFERROR($I25-$F25,"")) | K25: =IF(OR($F25="",$I25=""),"",IFERROR($J25/$F25,"")) | M25: =IF($A25="","",IF($L25="","",IFERROR($L25+Assumptions!$B$4,""))) | R25: =IF($A25="","",IF(OR($P25="Completed",$P25="Not Renewing",$P25="Withdrawn",$N25="Declined"),"",IF($N25="Accepted",IF($O25="","",IFERROR($O25+Assumptions!$B$5,"")),IF($N25="Countered",IF($O25="","",$O25),IF($L25<>"",$M25,IF($G25<>"",$G25,IF($E25="","",IFERROR($E25-Assumptions!$B$6,"")))))))) | S25: =IF($A25="","",IF(AND($P25="Completed",$Q25=""),"Check completion date",IF(AND($Q25<>"",$P25<>"Completed"),"Check agreement status",IF($P25="Completed","Completed",IF(OR($P25="Not Renewing",$P25="Withdrawn",$N25="Declined"),"Closed - no renewal",IF($N25="Accepted",IF($O25="","Check response date",IF(AND($R25<>"",$R25<TODAY()),"Agreement follow-up","Accepted - agreement open")),IF($N25="Countered","Review counter",IF($N25="No Response","Review no response",IF(AND($O25<>"",OR($N25="",$N25="Pending")),"Check response",IF($L25="",IF($G25="","Awaiting approval","Ready to send"),IF(AND($M25<>"",$M25<TODAY()),"Response overdue","Awaiting response"))))))))))
J26: =IF(OR($F26="",$I26=""),"",IFERROR($I26-$F26,"")) | K26: =IF(OR($F26="",$I26=""),"",IFERROR($J26/$F26,"")) | M26: =IF($A26="","",IF($L26="","",IFERROR($L26+Assumptions!$B$4,""))) | R26: =IF($A26="","",IF(OR($P26="Completed",$P26="Not Renewing",$P26="Withdrawn",$N26="Declined"),"",IF($N26="Accepted",IF($O26="","",IFERROR($O26+Assumptions!$B$5,"")),IF($N26="Countered",IF($O26="","",$O26),IF($L26<>"",$M26,IF($G26<>"",$G26,IF($E26="","",IFERROR($E26-Assumptions!$B$6,"")))))))) | S26: =IF($A26="","",IF(AND($P26="Completed",$Q26=""),"Check completion date",IF(AND($Q26<>"",$P26<>"Completed"),"Check agreement status",IF($P26="Completed","Completed",IF(OR($P26="Not Renewing",$P26="Withdrawn",$N26="Declined"),"Closed - no renewal",IF($N26="Accepted",IF($O26="","Check response date",IF(AND($R26<>"",$R26<TODAY()),"Agreement follow-up","Accepted - agreement open")),IF($N26="Countered","Review counter",IF($N26="No Response","Review no response",IF(AND($O26<>"",OR($N26="",$N26="Pending")),"Check response",IF($L26="",IF($G26="","Awaiting approval","Ready to send"),IF(AND($M26<>"",$M26<TODAY()),"Response overdue","Awaiting response"))))))))))
... J104: =IF(OR($F104="",$I104=""),"",IFERROR($I104-$F104,"")) | K104: =IF(OR($F104="",$I104=""),"",IFERROR($J104/$F104,"")) | M104: =IF($A104="","",IF($L104="","",IFERROR($L104+Assumptions!$B$4,""))) | R104: =IF($A104="","",IF(OR($P104="Completed",$P104="Not Renewing",$P104="Withdrawn",$N104="Declined"),"",IF($N104="Accepted",IF($O104="","",IFERROR($O104+Assumptions!$B$5,"")),IF($N104="Countered",IF($O104="","",$O104),IF($L104<>"",$M104,IF($G104<>"",$G104,IF($E104="","",IFERROR($E104-Assumptions!$B$6,"")))))))) | S104: =IF($A104="","",IF(AND($P104="Completed",$Q104=""),"Check completion date",IF(AND($Q104<>"",$P104<>"Completed"),"Check agreement status",IF($P104="Completed","Completed",IF(OR($P104="Not Renewing",$P104="Withdrawn",$N104="Declined"),"Closed - no renewal",IF($N104="Accepted",IF($O104="","Check response date",IF(AND($R104<>"",$R104<TODAY()),"Agreement follow-up","Accepted - agreement open")),IF($N104="Countered","Review counter",IF($N104="No Response","Review no response",IF(AND($O104<>"",OR($N104="",$N104="Pending")),"Check response",IF($L104="",IF($G104="","Awaiting approval","Ready to send"),IF(AND($M104<>"",$M104<TODAY()),"Response overdue","Awaiting response"))))))))))

Sheet Assumptions
A1: Renewal Tracker Assumptions
A2: Edit yellow values and list choices to match the portfolio's internal workflow.
A3: Setting | B3: Value | C3: Purpose
A4: Response window days | B4: 14 | C4: Calendar days from the sent date to the response due date.
A5: Agreement follow-up days | B5: 5 | C5: Calendar days after acceptance before another human check.
A6: Lease planning horizon days | B6: 90 | C6: Days before lease end used for planning and summary counts.
A7: Monthly change review threshold | B7: 0.08 | C7: Highlights proposed monthly changes above this internal review level.
A8: Minimum renewal term months | B8: 1 | C8: Lowest term permitted by the term-entry validation.
A9: Maximum renewal term months | B9: 36 | C9: Highest term permitted by the term-entry validation.
A12: Tenant Response Choices | C12: Agreement Status Choices
A13: Pending | C13: Not Started
A14: Accepted | C14: Preparing
A15: Declined | C15: Sent for Signature
A16: Countered | C16: Completed
A17: No Response | C17: Not Renewing
C18: Withdrawn
