Workbook

Sheet Summary
A1: Rental Storage Assignment Register Summary
A2: Indicators recalculate from entered assignments and editable assumptions.
A3: Review flags prompt a human check. Monthly amounts are entered assignment charges, not invoices.
A4: Indicator | B4: Calculated Value
A5: As-of date | B5: =Assumptions!$B$4
A6: Assignments entered | B6: =COUNTIF(Assignments!$A$4:$A$103,"<>")
A7: Records marked Active | B7: =COUNTIF(Assignments!$M$4:$M$103,"Active")
A8: Records marked Reserved | B8: =COUNTIF(Assignments!$M$4:$M$103,"Reserved")
A9: Records marked On Hold | B9: =COUNTIF(Assignments!$M$4:$M$103,"On Hold")
A10: Records marked Ended | B10: =COUNTIF(Assignments!$M$4:$M$103,"Ended")
A11: Keys outstanding | B11: =SUM(Assignments!$O$4:$O$103)
A12: Active monthly charges | B12: =SUM(Assignments!$P$4:$P$103)
A13: Assignments needing review | B13: =COUNTIF(Assignments!$Q$4:$Q$103,"Check*")
A14: Total listed storage capacity | B14: =SUM(Assumptions!$E$4:$E$103)
A15: Marked Active / capacity | B15: =IFERROR(B7/B14,0)
A17: Property detail from the first 10 assumption rows
A18: Property | B18: Capacity | C18: Marked Active | D18: Available | E18: Use Rate | F18: Active Monthly Charges | G18: Review Flags
A19: =IF(Assumptions!D4="","",Assumptions!D4) | B19: =IF(A19="","",IFERROR(VLOOKUP(A19,Assumptions!$D$4:$E$103,2,FALSE),"")) | C19: =IF(A19="","",COUNTIFS(Assignments!$B$4:$B$103,A19,Assignments!$M$4:$M$103,"Active")) | D19: =IF(OR(A19="",B19=""),"",MAX(0,B19-C19)) | E19: =IF(A19="","",IFERROR(C19/B19,0)) | F19: =IF(A19="","",SUMIF(Assignments!$B$4:$B$103,A19,Assignments!$P$4:$P$103)) | G19: =IF(A19="","",COUNTIFS(Assignments!$B$4:$B$103,A19,Assignments!$Q$4:$Q$103,"Check*"))
A20: =IF(Assumptions!D5="","",Assumptions!D5) | B20: =IF(A20="","",IFERROR(VLOOKUP(A20,Assumptions!$D$4:$E$103,2,FALSE),"")) | C20: =IF(A20="","",COUNTIFS(Assignments!$B$4:$B$103,A20,Assignments!$M$4:$M$103,"Active")) | D20: =IF(OR(A20="",B20=""),"",MAX(0,B20-C20)) | E20: =IF(A20="","",IFERROR(C20/B20,0)) | F20: =IF(A20="","",SUMIF(Assignments!$B$4:$B$103,A20,Assignments!$P$4:$P$103)) | G20: =IF(A20="","",COUNTIFS(Assignments!$B$4:$B$103,A20,Assignments!$Q$4:$Q$103,"Check*"))
A21: =IF(Assumptions!D6="","",Assumptions!D6) | B21: =IF(A21="","",IFERROR(VLOOKUP(A21,Assumptions!$D$4:$E$103,2,FALSE),"")) | C21: =IF(A21="","",COUNTIFS(Assignments!$B$4:$B$103,A21,Assignments!$M$4:$M$103,"Active")) | D21: =IF(OR(A21="",B21=""),"",MAX(0,B21-C21)) | E21: =IF(A21="","",IFERROR(C21/B21,0)) | F21: =IF(A21="","",SUMIF(Assignments!$B$4:$B$103,A21,Assignments!$P$4:$P$103)) | G21: =IF(A21="","",COUNTIFS(Assignments!$B$4:$B$103,A21,Assignments!$Q$4:$Q$103,"Check*"))
A22: =IF(Assumptions!D7="","",Assumptions!D7) | B22: =IF(A22="","",IFERROR(VLOOKUP(A22,Assumptions!$D$4:$E$103,2,FALSE),"")) | C22: =IF(A22="","",COUNTIFS(Assignments!$B$4:$B$103,A22,Assignments!$M$4:$M$103,"Active")) | D22: =IF(OR(A22="",B22=""),"",MAX(0,B22-C22)) | E22: =IF(A22="","",IFERROR(C22/B22,0)) | F22: =IF(A22="","",SUMIF(Assignments!$B$4:$B$103,A22,Assignments!$P$4:$P$103)) | G22: =IF(A22="","",COUNTIFS(Assignments!$B$4:$B$103,A22,Assignments!$Q$4:$Q$103,"Check*"))
A23: =IF(Assumptions!D8="","",Assumptions!D8) | B23: =IF(A23="","",IFERROR(VLOOKUP(A23,Assumptions!$D$4:$E$103,2,FALSE),"")) | C23: =IF(A23="","",COUNTIFS(Assignments!$B$4:$B$103,A23,Assignments!$M$4:$M$103,"Active")) | D23: =IF(OR(A23="",B23=""),"",MAX(0,B23-C23)) | E23: =IF(A23="","",IFERROR(C23/B23,0)) | F23: =IF(A23="","",SUMIF(Assignments!$B$4:$B$103,A23,Assignments!$P$4:$P$103)) | G23: =IF(A23="","",COUNTIFS(Assignments!$B$4:$B$103,A23,Assignments!$Q$4:$Q$103,"Check*"))
A24: =IF(Assumptions!D9="","",Assumptions!D9) | B24: =IF(A24="","",IFERROR(VLOOKUP(A24,Assumptions!$D$4:$E$103,2,FALSE),"")) | C24: =IF(A24="","",COUNTIFS(Assignments!$B$4:$B$103,A24,Assignments!$M$4:$M$103,"Active")) | D24: =IF(OR(A24="",B24=""),"",MAX(0,B24-C24)) | E24: =IF(A24="","",IFERROR(C24/B24,0)) | F24: =IF(A24="","",SUMIF(Assignments!$B$4:$B$103,A24,Assignments!$P$4:$P$103)) | G24: =IF(A24="","",COUNTIFS(Assignments!$B$4:$B$103,A24,Assignments!$Q$4:$Q$103,"Check*"))
A25: =IF(Assumptions!D10="","",Assumptions!D10) | B25: =IF(A25="","",IFERROR(VLOOKUP(A25,Assumptions!$D$4:$E$103,2,FALSE),"")) | C25: =IF(A25="","",COUNTIFS(Assignments!$B$4:$B$103,A25,Assignments!$M$4:$M$103,"Active")) | D25: =IF(OR(A25="",B25=""),"",MAX(0,B25-C25)) | E25: =IF(A25="","",IFERROR(C25/B25,0)) | F25: =IF(A25="","",SUMIF(Assignments!$B$4:$B$103,A25,Assignments!$P$4:$P$103)) | G25: =IF(A25="","",COUNTIFS(Assignments!$B$4:$B$103,A25,Assignments!$Q$4:$Q$103,"Check*"))
A26: =IF(Assumptions!D11="","",Assumptions!D11) | B26: =IF(A26="","",IFERROR(VLOOKUP(A26,Assumptions!$D$4:$E$103,2,FALSE),"")) | C26: =IF(A26="","",COUNTIFS(Assignments!$B$4:$B$103,A26,Assignments!$M$4:$M$103,"Active")) | D26: =IF(OR(A26="",B26=""),"",MAX(0,B26-C26)) | E26: =IF(A26="","",IFERROR(C26/B26,0)) | F26: =IF(A26="","",SUMIF(Assignments!$B$4:$B$103,A26,Assignments!$P$4:$P$103)) | G26: =IF(A26="","",COUNTIFS(Assignments!$B$4:$B$103,A26,Assignments!$Q$4:$Q$103,"Check*"))
A27: =IF(Assumptions!D12="","",Assumptions!D12) | B27: =IF(A27="","",IFERROR(VLOOKUP(A27,Assumptions!$D$4:$E$103,2,FALSE),"")) | C27: =IF(A27="","",COUNTIFS(Assignments!$B$4:$B$103,A27,Assignments!$M$4:$M$103,"Active")) | D27: =IF(OR(A27="",B27=""),"",MAX(0,B27-C27)) | E27: =IF(A27="","",IFERROR(C27/B27,0)) | F27: =IF(A27="","",SUMIF(Assignments!$B$4:$B$103,A27,Assignments!$P$4:$P$103)) | G27: =IF(A27="","",COUNTIFS(Assignments!$B$4:$B$103,A27,Assignments!$Q$4:$Q$103,"Check*"))
A28: =IF(Assumptions!D13="","",Assumptions!D13) | B28: =IF(A28="","",IFERROR(VLOOKUP(A28,Assumptions!$D$4:$E$103,2,FALSE),"")) | C28: =IF(A28="","",COUNTIFS(Assignments!$B$4:$B$103,A28,Assignments!$M$4:$M$103,"Active")) | D28: =IF(OR(A28="",B28=""),"",MAX(0,B28-C28)) | E28: =IF(A28="","",IFERROR(C28/B28,0)) | F28: =IF(A28="","",SUMIF(Assignments!$B$4:$B$103,A28,Assignments!$P$4:$P$103)) | G28: =IF(A28="","",COUNTIFS(Assignments!$B$4:$B$103,A28,Assignments!$Q$4:$Q$103,"Check*"))

Sheet Assignments
A1: Rental Storage Assignment Register
A2: Fictional samples include deliberate review cases; replace them before operational use. | H2: Status choices: | I2: Active | J2: Reserved | K2: On Hold | L2: Ended | M2: Responsibility: | N2: Tenant | O2: Property | P2: Shared
A3: Assignment ID | B3: Property | C3: Rental Unit | D3: Tenant / Tenancy | E3: Storage Area | F3: Storage Space | G3: Start Date | H3: End Date | I3: Keys Issued | J3: Keys Returned | K3: Monthly Charge | L3: Responsibility | M3: Status | N3: Occupied Days | O3: Keys Outstanding | P3: Active Monthly Charge | Q3: Review Flag
A4: FIC-SA-0001 | B4: Fictional Cedar Court | C4: FIC-C101 | D4: Avery Example (fictional) | E4: North Basement | F4: FIC-CED-L01 | G4: 46076 | I4: 2 | J4: 0 | K4: 45 | L4: Tenant | M4: Active | N4: =IF(COUNTA(A4:M4)=0,"",IF(NOT(ISNUMBER(G4)),"",IFERROR(MAX(0,MIN(IF(OR(H4="",NOT(ISNUMBER(H4))),Assumptions!$B$4,H4),Assumptions!$B$4)-G4+1),""))) | O4: =IF(COUNTA(A4:M4)=0,"",IF(OR(I4="",NOT(ISNUMBER(I4))),"",IFERROR(MAX(0,I4-IF(OR(J4="",NOT(ISNUMBER(J4))),0,J4)),""))) | P4: =IF(COUNTA(A4:M4)=0,"",IF(AND(M4="Active",ISNUMBER(G4),G4<=Assumptions!$B$4,OR(H4="",AND(ISNUMBER(H4),H4>=Assumptions!$B$4))),IF(ISNUMBER(K4),K4,""),0)) | Q4: =IF(COUNTA(A4:M4)=0,"",IF(OR(A4="",B4="",C4="",D4="",E4="",F4="",G4="",L4="",M4=""),"Check required fields",IF(COUNTIF(Assumptions!$D$4:$D$103,B4)=0,"Check property list",IF(COUNTIF($A$4:$A$103,A4)>1,"Check assignment ID",IF(OR(NOT(ISNUMBER(G4)),AND(H4<>"",NOT(ISNUMBER(H4))),AND(ISNUMBER(H4),H4<G4)),"Check dates",IF(OR(I4="",J4="",NOT(ISNUMBER(I4)),NOT(ISNUMBER(J4))),"Check key counts",IF(I4<J4,"Check key counts",IF(AND(K4<>"",NOT(ISNUMBER(K4))),"Check monthly charge",IF(AND(M4="Active",G4<=Assumptions!$B$4,OR(H4="",H4>=Assumptions!$B$4),COUNTIFS($B$4:$B$103,B4,$F$4:$F$103,F4,$M$4:$M$103,"Active",$G$4:$G$103,"<="&Assumptions!$B$4,$H$4:$H$103,">="&Assumptions!$B$4)+COUNTIFS($B$4:$B$103,B4,$F$4:$F$103,F4,$M$4:$M$103,"Active",$G$4:$G$103,"<="&Assumptions!$B$4,$H$4:$H$103,"")>1),"Check duplicate space",IF(AND(M4="Active",H4<>"",H4<Assumptions!$B$4),"Check status/end date",IF(AND(M4="Ended",OR(H4="",J4<I4)),"Check closure",IF(AND(M4="Reserved",G4<Assumptions!$B$4),"Check reserved date","OK"))))))))))))
A5: FIC-SA-0002 | B5: Fictional Cedar Court | C5: FIC-C102 | D5: Jordan Sample (fictional) | E5: East Hall | F5: FIC-CED-L02 | G5: 46186 | I5: 1 | J5: 1 | K5: 0 | L5: Property | M5: Active | N5: =IF(COUNTA(A5:M5)=0,"",IF(NOT(ISNUMBER(G5)),"",IFERROR(MAX(0,MIN(IF(OR(H5="",NOT(ISNUMBER(H5))),Assumptions!$B$4,H5),Assumptions!$B$4)-G5+1),""))) | O5: =IF(COUNTA(A5:M5)=0,"",IF(OR(I5="",NOT(ISNUMBER(I5))),"",IFERROR(MAX(0,I5-IF(OR(J5="",NOT(ISNUMBER(J5))),0,J5)),""))) | P5: =IF(COUNTA(A5:M5)=0,"",IF(AND(M5="Active",ISNUMBER(G5),G5<=Assumptions!$B$4,OR(H5="",AND(ISNUMBER(H5),H5>=Assumptions!$B$4))),IF(ISNUMBER(K5),K5,""),0)) | Q5: =IF(COUNTA(A5:M5)=0,"",IF(OR(A5="",B5="",C5="",D5="",E5="",F5="",G5="",L5="",M5=""),"Check required fields",IF(COUNTIF(Assumptions!$D$4:$D$103,B5)=0,"Check property list",IF(COUNTIF($A$4:$A$103,A5)>1,"Check assignment ID",IF(OR(NOT(ISNUMBER(G5)),AND(H5<>"",NOT(ISNUMBER(H5))),AND(ISNUMBER(H5),H5<G5)),"Check dates",IF(OR(I5="",J5="",NOT(ISNUMBER(I5)),NOT(ISNUMBER(J5))),"Check key counts",IF(I5<J5,"Check key counts",IF(AND(K5<>"",NOT(ISNUMBER(K5))),"Check monthly charge",IF(AND(M5="Active",G5<=Assumptions!$B$4,OR(H5="",H5>=Assumptions!$B$4),COUNTIFS($B$4:$B$103,B5,$F$4:$F$103,F5,$M$4:$M$103,"Active",$G$4:$G$103,"<="&Assumptions!$B$4,$H$4:$H$103,">="&Assumptions!$B$4)+COUNTIFS($B$4:$B$103,B5,$F$4:$F$103,F5,$M$4:$M$103,"Active",$G$4:$G$103,"<="&Assumptions!$B$4,$H$4:$H$103,"")>1),"Check duplicate space",IF(AND(M5="Active",H5<>"",H5<Assumptions!$B$4),"Check status/end date",IF(AND(M5="Ended",OR(H5="",J5<I5)),"Check closure",IF(AND(M5="Reserved",G5<Assumptions!$B$4),"Check reserved date","OK"))))))))))))
A6: FIC-SA-0003 | B6: Fictional Maple House | C6: FIC-M201 | D6: Morgan Placeholder (fictional) | E6: Lower Level | F6: FIC-MAP-L01 | G6: 45876 | H6: 46236 | I6: 2 | J6: 2 | K6: 35 | L6: Tenant | M6: Ended | N6: =IF(COUNTA(A6:M6)=0,"",IF(NOT(ISNUMBER(G6)),"",IFERROR(MAX(0,MIN(IF(OR(H6="",NOT(ISNUMBER(H6))),Assumptions!$B$4,H6),Assumptions!$B$4)-G6+1),""))) | O6: =IF(COUNTA(A6:M6)=0,"",IF(OR(I6="",NOT(ISNUMBER(I6))),"",IFERROR(MAX(0,I6-IF(OR(J6="",NOT(ISNUMBER(J6))),0,J6)),""))) | P6: =IF(COUNTA(A6:M6)=0,"",IF(AND(M6="Active",ISNUMBER(G6),G6<=Assumptions!$B$4,OR(H6="",AND(ISNUMBER(H6),H6>=Assumptions!$B$4))),IF(ISNUMBER(K6),K6,""),0)) | Q6: =IF(COUNTA(A6:M6)=0,"",IF(OR(A6="",B6="",C6="",D6="",E6="",F6="",G6="",L6="",M6=""),"Check required fields",IF(COUNTIF(Assumptions!$D$4:$D$103,B6)=0,"Check property list",IF(COUNTIF($A$4:$A$103,A6)>1,"Check assignment ID",IF(OR(NOT(ISNUMBER(G6)),AND(H6<>"",NOT(ISNUMBER(H6))),AND(ISNUMBER(H6),H6<G6)),"Check dates",IF(OR(I6="",J6="",NOT(ISNUMBER(I6)),NOT(ISNUMBER(J6))),"Check key counts",IF(I6<J6,"Check key counts",IF(AND(K6<>"",NOT(ISNUMBER(K6))),"Check monthly charge",IF(AND(M6="Active",G6<=Assumptions!$B$4,OR(H6="",H6>=Assumptions!$B$4),COUNTIFS($B$4:$B$103,B6,$F$4:$F$103,F6,$M$4:$M$103,"Active",$G$4:$G$103,"<="&Assumptions!$B$4,$H$4:$H$103,">="&Assumptions!$B$4)+COUNTIFS($B$4:$B$103,B6,$F$4:$F$103,F6,$M$4:$M$103,"Active",$G$4:$G$103,"<="&Assumptions!$B$4,$H$4:$H$103,"")>1),"Check duplicate space",IF(AND(M6="Active",H6<>"",H6<Assumptions!$B$4),"Check status/end date",IF(AND(M6="Ended",OR(H6="",J6<I6)),"Check closure",IF(AND(M6="Reserved",G6<Assumptions!$B$4),"Check reserved date","OK"))))))))))))
A7: FIC-SA-0004 | B7: Fictional Harbor Flats | C7: FIC-H301 | D7: Riley Testcase (fictional) | E7: Garage Annex | F7: FIC-HAR-L01 | G7: 46296 | I7: 0 | J7: 0 | K7: 50 | L7: Tenant | M7: Reserved | N7: =IF(COUNTA(A7:M7)=0,"",IF(NOT(ISNUMBER(G7)),"",IFERROR(MAX(0,MIN(IF(OR(H7="",NOT(ISNUMBER(H7))),Assumptions!$B$4,H7),Assumptions!$B$4)-G7+1),""))) | O7: =IF(COUNTA(A7:M7)=0,"",IF(OR(I7="",NOT(ISNUMBER(I7))),"",IFERROR(MAX(0,I7-IF(OR(J7="",NOT(ISNUMBER(J7))),0,J7)),""))) | P7: =IF(COUNTA(A7:M7)=0,"",IF(AND(M7="Active",ISNUMBER(G7),G7<=Assumptions!$B$4,OR(H7="",AND(ISNUMBER(H7),H7>=Assumptions!$B$4))),IF(ISNUMBER(K7),K7,""),0)) | Q7: =IF(COUNTA(A7:M7)=0,"",IF(OR(A7="",B7="",C7="",D7="",E7="",F7="",G7="",L7="",M7=""),"Check required fields",IF(COUNTIF(Assumptions!$D$4:$D$103,B7)=0,"Check property list",IF(COUNTIF($A$4:$A$103,A7)>1,"Check assignment ID",IF(OR(NOT(ISNUMBER(G7)),AND(H7<>"",NOT(ISNUMBER(H7))),AND(ISNUMBER(H7),H7<G7)),"Check dates",IF(OR(I7="",J7="",NOT(ISNUMBER(I7)),NOT(ISNUMBER(J7))),"Check key counts",IF(I7<J7,"Check key counts",IF(AND(K7<>"",NOT(ISNUMBER(K7))),"Check monthly charge",IF(AND(M7="Active",G7<=Assumptions!$B$4,OR(H7="",H7>=Assumptions!$B$4),COUNTIFS($B$4:$B$103,B7,$F$4:$F$103,F7,$M$4:$M$103,"Active",$G$4:$G$103,"<="&Assumptions!$B$4,$H$4:$H$103,">="&Assumptions!$B$4)+COUNTIFS($B$4:$B$103,B7,$F$4:$F$103,F7,$M$4:$M$103,"Active",$G$4:$G$103,"<="&Assumptions!$B$4,$H$4:$H$103,"")>1),"Check duplicate space",IF(AND(M7="Active",H7<>"",H7<Assumptions!$B$4),"Check status/end date",IF(AND(M7="Ended",OR(H7="",J7<I7)),"Check closure",IF(AND(M7="Reserved",G7<Assumptions!$B$4),"Check reserved date","OK"))))))))))))
A8: FIC-SA-0005 | B8: Fictional Juniper Place | C8: FIC-J101 | D8: Casey Example (fictional) | E8: Rear Hall | F8: FIC-JUN-L01 | G8: 46246 | I8: 0 | J8: 0 | K8: 25 | L8: Shared | M8: On Hold | N8: =IF(COUNTA(A8:M8)=0,"",IF(NOT(ISNUMBER(G8)),"",IFERROR(MAX(0,MIN(IF(OR(H8="",NOT(ISNUMBER(H8))),Assumptions!$B$4,H8),Assumptions!$B$4)-G8+1),""))) | O8: =IF(COUNTA(A8:M8)=0,"",IF(OR(I8="",NOT(ISNUMBER(I8))),"",IFERROR(MAX(0,I8-IF(OR(J8="",NOT(ISNUMBER(J8))),0,J8)),""))) | P8: =IF(COUNTA(A8:M8)=0,"",IF(AND(M8="Active",ISNUMBER(G8),G8<=Assumptions!$B$4,OR(H8="",AND(ISNUMBER(H8),H8>=Assumptions!$B$4))),IF(ISNUMBER(K8),K8,""),0)) | Q8: =IF(COUNTA(A8:M8)=0,"",IF(OR(A8="",B8="",C8="",D8="",E8="",F8="",G8="",L8="",M8=""),"Check required fields",IF(COUNTIF(Assumptions!$D$4:$D$103,B8)=0,"Check property list",IF(COUNTIF($A$4:$A$103,A8)>1,"Check assignment ID",IF(OR(NOT(ISNUMBER(G8)),AND(H8<>"",NOT(ISNUMBER(H8))),AND(ISNUMBER(H8),H8<G8)),"Check dates",IF(OR(I8="",J8="",NOT(ISNUMBER(I8)),NOT(ISNUMBER(J8))),"Check key counts",IF(I8<J8,"Check key counts",IF(AND(K8<>"",NOT(ISNUMBER(K8))),"Check monthly charge",IF(AND(M8="Active",G8<=Assumptions!$B$4,OR(H8="",H8>=Assumptions!$B$4),COUNTIFS($B$4:$B$103,B8,$F$4:$F$103,F8,$M$4:$M$103,"Active",$G$4:$G$103,"<="&Assumptions!$B$4,$H$4:$H$103,">="&Assumptions!$B$4)+COUNTIFS($B$4:$B$103,B8,$F$4:$F$103,F8,$M$4:$M$103,"Active",$G$4:$G$103,"<="&Assumptions!$B$4,$H$4:$H$103,"")>1),"Check duplicate space",IF(AND(M8="Active",H8<>"",H8<Assumptions!$B$4),"Check status/end date",IF(AND(M8="Ended",OR(H8="",J8<I8)),"Check closure",IF(AND(M8="Reserved",G8<Assumptions!$B$4),"Check reserved date","OK"))))))))))))
A9: FIC-SA-0006 | B9: Fictional Maple House | C9: FIC-M202 | D9: Taylor Sample (fictional) | E9: Lower Level | F9: FIC-MAP-L02 | G9: 46276 | I9: 1 | J9: 0 | K9: 40 | L9: Tenant | M9: Active | N9: =IF(COUNTA(A9:M9)=0,"",IF(NOT(ISNUMBER(G9)),"",IFERROR(MAX(0,MIN(IF(OR(H9="",NOT(ISNUMBER(H9))),Assumptions!$B$4,H9),Assumptions!$B$4)-G9+1),""))) | O9: =IF(COUNTA(A9:M9)=0,"",IF(OR(I9="",NOT(ISNUMBER(I9))),"",IFERROR(MAX(0,I9-IF(OR(J9="",NOT(ISNUMBER(J9))),0,J9)),""))) | P9: =IF(COUNTA(A9:M9)=0,"",IF(AND(M9="Active",ISNUMBER(G9),G9<=Assumptions!$B$4,OR(H9="",AND(ISNUMBER(H9),H9>=Assumptions!$B$4))),IF(ISNUMBER(K9),K9,""),0)) | Q9: =IF(COUNTA(A9:M9)=0,"",IF(OR(A9="",B9="",C9="",D9="",E9="",F9="",G9="",L9="",M9=""),"Check required fields",IF(COUNTIF(Assumptions!$D$4:$D$103,B9)=0,"Check property list",IF(COUNTIF($A$4:$A$103,A9)>1,"Check assignment ID",IF(OR(NOT(ISNUMBER(G9)),AND(H9<>"",NOT(ISNUMBER(H9))),AND(ISNUMBER(H9),H9<G9)),"Check dates",IF(OR(I9="",J9="",NOT(ISNUMBER(I9)),NOT(ISNUMBER(J9))),"Check key counts",IF(I9<J9,"Check key counts",IF(AND(K9<>"",NOT(ISNUMBER(K9))),"Check monthly charge",IF(AND(M9="Active",G9<=Assumptions!$B$4,OR(H9="",H9>=Assumptions!$B$4),COUNTIFS($B$4:$B$103,B9,$F$4:$F$103,F9,$M$4:$M$103,"Active",$G$4:$G$103,"<="&Assumptions!$B$4,$H$4:$H$103,">="&Assumptions!$B$4)+COUNTIFS($B$4:$B$103,B9,$F$4:$F$103,F9,$M$4:$M$103,"Active",$G$4:$G$103,"<="&Assumptions!$B$4,$H$4:$H$103,"")>1),"Check duplicate space",IF(AND(M9="Active",H9<>"",H9<Assumptions!$B$4),"Check status/end date",IF(AND(M9="Ended",OR(H9="",J9<I9)),"Check closure",IF(AND(M9="Reserved",G9<Assumptions!$B$4),"Check reserved date","OK"))))))))))))
A10: FIC-SA-0007 | B10: Fictional Harbor Flats | C10: FIC-H302 | D10: Quinn Placeholder (fictional) | E10: Garage Annex | F10: FIC-HAR-L02 | G10: 46176 | H10: 46276 | I10: 1 | J10: 0 | K10: 55 | L10: Tenant | M10: Ended | N10: =IF(COUNTA(A10:M10)=0,"",IF(NOT(ISNUMBER(G10)),"",IFERROR(MAX(0,MIN(IF(OR(H10="",NOT(ISNUMBER(H10))),Assumptions!$B$4,H10),Assumptions!$B$4)-G10+1),""))) | O10: =IF(COUNTA(A10:M10)=0,"",IF(OR(I10="",NOT(ISNUMBER(I10))),"",IFERROR(MAX(0,I10-IF(OR(J10="",NOT(ISNUMBER(J10))),0,J10)),""))) | P10: =IF(COUNTA(A10:M10)=0,"",IF(AND(M10="Active",ISNUMBER(G10),G10<=Assumptions!$B$4,OR(H10="",AND(ISNUMBER(H10),H10>=Assumptions!$B$4))),IF(ISNUMBER(K10),K10,""),0)) | Q10: =IF(COUNTA(A10:M10)=0,"",IF(OR(A10="",B10="",C10="",D10="",E10="",F10="",G10="",L10="",M10=""),"Check required fields",IF(COUNTIF(Assumptions!$D$4:$D$103,B10)=0,"Check property list",IF(COUNTIF($A$4:$A$103,A10)>1,"Check assignment ID",IF(OR(NOT(ISNUMBER(G10)),AND(H10<>"",NOT(ISNUMBER(H10))),AND(ISNUMBER(H10),H10<G10)),"Check dates",IF(OR(I10="",J10="",NOT(ISNUMBER(I10)),NOT(ISNUMBER(J10))),"Check key counts",IF(I10<J10,"Check key counts",IF(AND(K10<>"",NOT(ISNUMBER(K10))),"Check monthly charge",IF(AND(M10="Active",G10<=Assumptions!$B$4,OR(H10="",H10>=Assumptions!$B$4),COUNTIFS($B$4:$B$103,B10,$F$4:$F$103,F10,$M$4:$M$103,"Active",$G$4:$G$103,"<="&Assumptions!$B$4,$H$4:$H$103,">="&Assumptions!$B$4)+COUNTIFS($B$4:$B$103,B10,$F$4:$F$103,F10,$M$4:$M$103,"Active",$G$4:$G$103,"<="&Assumptions!$B$4,$H$4:$H$103,"")>1),"Check duplicate space",IF(AND(M10="Active",H10<>"",H10<Assumptions!$B$4),"Check status/end date",IF(AND(M10="Ended",OR(H10="",J10<I10)),"Check closure",IF(AND(M10="Reserved",G10<Assumptions!$B$4),"Check reserved date","OK"))))))))))))
A11: FIC-SA-0008 | B11: Fictional Juniper Place | C11: FIC-J102 | D11: Parker Testcase (fictional) | E11: Rear Hall | F11: FIC-JUN-L02 | G11: 46266 | H11: 46336 | I11: 2 | J11: 0 | K11: 60 | L11: Tenant | M11: Active | N11: =IF(COUNTA(A11:M11)=0,"",IF(NOT(ISNUMBER(G11)),"",IFERROR(MAX(0,MIN(IF(OR(H11="",NOT(ISNUMBER(H11))),Assumptions!$B$4,H11),Assumptions!$B$4)-G11+1),""))) | O11: =IF(COUNTA(A11:M11)=0,"",IF(OR(I11="",NOT(ISNUMBER(I11))),"",IFERROR(MAX(0,I11-IF(OR(J11="",NOT(ISNUMBER(J11))),0,J11)),""))) | P11: =IF(COUNTA(A11:M11)=0,"",IF(AND(M11="Active",ISNUMBER(G11),G11<=Assumptions!$B$4,OR(H11="",AND(ISNUMBER(H11),H11>=Assumptions!$B$4))),IF(ISNUMBER(K11),K11,""),0)) | Q11: =IF(COUNTA(A11:M11)=0,"",IF(OR(A11="",B11="",C11="",D11="",E11="",F11="",G11="",L11="",M11=""),"Check required fields",IF(COUNTIF(Assumptions!$D$4:$D$103,B11)=0,"Check property list",IF(COUNTIF($A$4:$A$103,A11)>1,"Check assignment ID",IF(OR(NOT(ISNUMBER(G11)),AND(H11<>"",NOT(ISNUMBER(H11))),AND(ISNUMBER(H11),H11<G11)),"Check dates",IF(OR(I11="",J11="",NOT(ISNUMBER(I11)),NOT(ISNUMBER(J11))),"Check key counts",IF(I11<J11,"Check key counts",IF(AND(K11<>"",NOT(ISNUMBER(K11))),"Check monthly charge",IF(AND(M11="Active",G11<=Assumptions!$B$4,OR(H11="",H11>=Assumptions!$B$4),COUNTIFS($B$4:$B$103,B11,$F$4:$F$103,F11,$M$4:$M$103,"Active",$G$4:$G$103,"<="&Assumptions!$B$4,$H$4:$H$103,">="&Assumptions!$B$4)+COUNTIFS($B$4:$B$103,B11,$F$4:$F$103,F11,$M$4:$M$103,"Active",$G$4:$G$103,"<="&Assumptions!$B$4,$H$4:$H$103,"")>1),"Check duplicate space",IF(AND(M11="Active",H11<>"",H11<Assumptions!$B$4),"Check status/end date",IF(AND(M11="Ended",OR(H11="",J11<I11)),"Check closure",IF(AND(M11="Reserved",G11<Assumptions!$B$4),"Check reserved date","OK"))))))))))))
A12: FIC-SA-0009 | B12: Fictional Cedar Court | C12: FIC-C103 | D12: Drew Example (fictional) | E12: North Basement | F12: FIC-CED-L03 | G12: 46276 | I12: 0 | J12: 0 | K12: 30 | L12: Shared | M12: Reserved | N12: =IF(COUNTA(A12:M12)=0,"",IF(NOT(ISNUMBER(G12)),"",IFERROR(MAX(0,MIN(IF(OR(H12="",NOT(ISNUMBER(H12))),Assumptions!$B$4,H12),Assumptions!$B$4)-G12+1),""))) | O12: =IF(COUNTA(A12:M12)=0,"",IF(OR(I12="",NOT(ISNUMBER(I12))),"",IFERROR(MAX(0,I12-IF(OR(J12="",NOT(ISNUMBER(J12))),0,J12)),""))) | P12: =IF(COUNTA(A12:M12)=0,"",IF(AND(M12="Active",ISNUMBER(G12),G12<=Assumptions!$B$4,OR(H12="",AND(ISNUMBER(H12),H12>=Assumptions!$B$4))),IF(ISNUMBER(K12),K12,""),0)) | Q12: =IF(COUNTA(A12:M12)=0,"",IF(OR(A12="",B12="",C12="",D12="",E12="",F12="",G12="",L12="",M12=""),"Check required fields",IF(COUNTIF(Assumptions!$D$4:$D$103,B12)=0,"Check property list",IF(COUNTIF($A$4:$A$103,A12)>1,"Check assignment ID",IF(OR(NOT(ISNUMBER(G12)),AND(H12<>"",NOT(ISNUMBER(H12))),AND(ISNUMBER(H12),H12<G12)),"Check dates",IF(OR(I12="",J12="",NOT(ISNUMBER(I12)),NOT(ISNUMBER(J12))),"Check key counts",IF(I12<J12,"Check key counts",IF(AND(K12<>"",NOT(ISNUMBER(K12))),"Check monthly charge",IF(AND(M12="Active",G12<=Assumptions!$B$4,OR(H12="",H12>=Assumptions!$B$4),COUNTIFS($B$4:$B$103,B12,$F$4:$F$103,F12,$M$4:$M$103,"Active",$G$4:$G$103,"<="&Assumptions!$B$4,$H$4:$H$103,">="&Assumptions!$B$4)+COUNTIFS($B$4:$B$103,B12,$F$4:$F$103,F12,$M$4:$M$103,"Active",$G$4:$G$103,"<="&Assumptions!$B$4,$H$4:$H$103,"")>1),"Check duplicate space",IF(AND(M12="Active",H12<>"",H12<Assumptions!$B$4),"Check status/end date",IF(AND(M12="Ended",OR(H12="",J12<I12)),"Check closure",IF(AND(M12="Reserved",G12<Assumptions!$B$4),"Check reserved date","OK"))))))))))))
A13: FIC-SA-0010 | B13: Fictional Orchard Row | C13: FIC-O101 | D13: Cameron Sample (fictional) | E13: Garden Level | F13: FIC-ORC-L01 | G13: 46156 | H13: 46275 | I13: 1 | J13: 1 | K13: 45 | L13: Tenant | M13: Active | N13: =IF(COUNTA(A13:M13)=0,"",IF(NOT(ISNUMBER(G13)),"",IFERROR(MAX(0,MIN(IF(OR(H13="",NOT(ISNUMBER(H13))),Assumptions!$B$4,H13),Assumptions!$B$4)-G13+1),""))) | O13: =IF(COUNTA(A13:M13)=0,"",IF(OR(I13="",NOT(ISNUMBER(I13))),"",IFERROR(MAX(0,I13-IF(OR(J13="",NOT(ISNUMBER(J13))),0,J13)),""))) | P13: =IF(COUNTA(A13:M13)=0,"",IF(AND(M13="Active",ISNUMBER(G13),G13<=Assumptions!$B$4,OR(H13="",AND(ISNUMBER(H13),H13>=Assumptions!$B$4))),IF(ISNUMBER(K13),K13,""),0)) | Q13: =IF(COUNTA(A13:M13)=0,"",IF(OR(A13="",B13="",C13="",D13="",E13="",F13="",G13="",L13="",M13=""),"Check required fields",IF(COUNTIF(Assumptions!$D$4:$D$103,B13)=0,"Check property list",IF(COUNTIF($A$4:$A$103,A13)>1,"Check assignment ID",IF(OR(NOT(ISNUMBER(G13)),AND(H13<>"",NOT(ISNUMBER(H13))),AND(ISNUMBER(H13),H13<G13)),"Check dates",IF(OR(I13="",J13="",NOT(ISNUMBER(I13)),NOT(ISNUMBER(J13))),"Check key counts",IF(I13<J13,"Check key counts",IF(AND(K13<>"",NOT(ISNUMBER(K13))),"Check monthly charge",IF(AND(M13="Active",G13<=Assumptions!$B$4,OR(H13="",H13>=Assumptions!$B$4),COUNTIFS($B$4:$B$103,B13,$F$4:$F$103,F13,$M$4:$M$103,"Active",$G$4:$G$103,"<="&Assumptions!$B$4,$H$4:$H$103,">="&Assumptions!$B$4)+COUNTIFS($B$4:$B$103,B13,$F$4:$F$103,F13,$M$4:$M$103,"Active",$G$4:$G$103,"<="&Assumptions!$B$4,$H$4:$H$103,"")>1),"Check duplicate space",IF(AND(M13="Active",H13<>"",H13<Assumptions!$B$4),"Check status/end date",IF(AND(M13="Ended",OR(H13="",J13<I13)),"Check closure",IF(AND(M13="Reserved",G13<Assumptions!$B$4),"Check reserved date","OK"))))))))))))
A14: FIC-SA-0011 | B14: Fictional Cedar Court | C14: FIC-C104 | D14: Skyler Placeholder (fictional) | E14: North Basement | F14: FIC-CED-L01 | G14: 46275 | I14: 1 | J14: 0 | K14: 47 | L14: Tenant | M14: Active | N14: =IF(COUNTA(A14:M14)=0,"",IF(NOT(ISNUMBER(G14)),"",IFERROR(MAX(0,MIN(IF(OR(H14="",NOT(ISNUMBER(H14))),Assumptions!$B$4,H14),Assumptions!$B$4)-G14+1),""))) | O14: =IF(COUNTA(A14:M14)=0,"",IF(OR(I14="",NOT(ISNUMBER(I14))),"",IFERROR(MAX(0,I14-IF(OR(J14="",NOT(ISNUMBER(J14))),0,J14)),""))) | P14: =IF(COUNTA(A14:M14)=0,"",IF(AND(M14="Active",ISNUMBER(G14),G14<=Assumptions!$B$4,OR(H14="",AND(ISNUMBER(H14),H14>=Assumptions!$B$4))),IF(ISNUMBER(K14),K14,""),0)) | Q14: =IF(COUNTA(A14:M14)=0,"",IF(OR(A14="",B14="",C14="",D14="",E14="",F14="",G14="",L14="",M14=""),"Check required fields",IF(COUNTIF(Assumptions!$D$4:$D$103,B14)=0,"Check property list",IF(COUNTIF($A$4:$A$103,A14)>1,"Check assignment ID",IF(OR(NOT(ISNUMBER(G14)),AND(H14<>"",NOT(ISNUMBER(H14))),AND(ISNUMBER(H14),H14<G14)),"Check dates",IF(OR(I14="",J14="",NOT(ISNUMBER(I14)),NOT(ISNUMBER(J14))),"Check key counts",IF(I14<J14,"Check key counts",IF(AND(K14<>"",NOT(ISNUMBER(K14))),"Check monthly charge",IF(AND(M14="Active",G14<=Assumptions!$B$4,OR(H14="",H14>=Assumptions!$B$4),COUNTIFS($B$4:$B$103,B14,$F$4:$F$103,F14,$M$4:$M$103,"Active",$G$4:$G$103,"<="&Assumptions!$B$4,$H$4:$H$103,">="&Assumptions!$B$4)+COUNTIFS($B$4:$B$103,B14,$F$4:$F$103,F14,$M$4:$M$103,"Active",$G$4:$G$103,"<="&Assumptions!$B$4,$H$4:$H$103,"")>1),"Check duplicate space",IF(AND(M14="Active",H14<>"",H14<Assumptions!$B$4),"Check status/end date",IF(AND(M14="Ended",OR(H14="",J14<I14)),"Check closure",IF(AND(M14="Reserved",G14<Assumptions!$B$4),"Check reserved date","OK"))))))))))))
N15: =IF(COUNTA(A15:M15)=0,"",IF(NOT(ISNUMBER(G15)),"",IFERROR(MAX(0,MIN(IF(OR(H15="",NOT(ISNUMBER(H15))),Assumptions!$B$4,H15),Assumptions!$B$4)-G15+1),""))) | O15: =IF(COUNTA(A15:M15)=0,"",IF(OR(I15="",NOT(ISNUMBER(I15))),"",IFERROR(MAX(0,I15-IF(OR(J15="",NOT(ISNUMBER(J15))),0,J15)),""))) | P15: =IF(COUNTA(A15:M15)=0,"",IF(AND(M15="Active",ISNUMBER(G15),G15<=Assumptions!$B$4,OR(H15="",AND(ISNUMBER(H15),H15>=Assumptions!$B$4))),IF(ISNUMBER(K15),K15,""),0)) | Q15: =IF(COUNTA(A15:M15)=0,"",IF(OR(A15="",B15="",C15="",D15="",E15="",F15="",G15="",L15="",M15=""),"Check required fields",IF(COUNTIF(Assumptions!$D$4:$D$103,B15)=0,"Check property list",IF(COUNTIF($A$4:$A$103,A15)>1,"Check assignment ID",IF(OR(NOT(ISNUMBER(G15)),AND(H15<>"",NOT(ISNUMBER(H15))),AND(ISNUMBER(H15),H15<G15)),"Check dates",IF(OR(I15="",J15="",NOT(ISNUMBER(I15)),NOT(ISNUMBER(J15))),"Check key counts",IF(I15<J15,"Check key counts",IF(AND(K15<>"",NOT(ISNUMBER(K15))),"Check monthly charge",IF(AND(M15="Active",G15<=Assumptions!$B$4,OR(H15="",H15>=Assumptions!$B$4),COUNTIFS($B$4:$B$103,B15,$F$4:$F$103,F15,$M$4:$M$103,"Active",$G$4:$G$103,"<="&Assumptions!$B$4,$H$4:$H$103,">="&Assumptions!$B$4)+COUNTIFS($B$4:$B$103,B15,$F$4:$F$103,F15,$M$4:$M$103,"Active",$G$4:$G$103,"<="&Assumptions!$B$4,$H$4:$H$103,"")>1),"Check duplicate space",IF(AND(M15="Active",H15<>"",H15<Assumptions!$B$4),"Check status/end date",IF(AND(M15="Ended",OR(H15="",J15<I15)),"Check closure",IF(AND(M15="Reserved",G15<Assumptions!$B$4),"Check reserved date","OK"))))))))))))
N16: =IF(COUNTA(A16:M16)=0,"",IF(NOT(ISNUMBER(G16)),"",IFERROR(MAX(0,MIN(IF(OR(H16="",NOT(ISNUMBER(H16))),Assumptions!$B$4,H16),Assumptions!$B$4)-G16+1),""))) | O16: =IF(COUNTA(A16:M16)=0,"",IF(OR(I16="",NOT(ISNUMBER(I16))),"",IFERROR(MAX(0,I16-IF(OR(J16="",NOT(ISNUMBER(J16))),0,J16)),""))) | P16: =IF(COUNTA(A16:M16)=0,"",IF(AND(M16="Active",ISNUMBER(G16),G16<=Assumptions!$B$4,OR(H16="",AND(ISNUMBER(H16),H16>=Assumptions!$B$4))),IF(ISNUMBER(K16),K16,""),0)) | Q16: =IF(COUNTA(A16:M16)=0,"",IF(OR(A16="",B16="",C16="",D16="",E16="",F16="",G16="",L16="",M16=""),"Check required fields",IF(COUNTIF(Assumptions!$D$4:$D$103,B16)=0,"Check property list",IF(COUNTIF($A$4:$A$103,A16)>1,"Check assignment ID",IF(OR(NOT(ISNUMBER(G16)),AND(H16<>"",NOT(ISNUMBER(H16))),AND(ISNUMBER(H16),H16<G16)),"Check dates",IF(OR(I16="",J16="",NOT(ISNUMBER(I16)),NOT(ISNUMBER(J16))),"Check key counts",IF(I16<J16,"Check key counts",IF(AND(K16<>"",NOT(ISNUMBER(K16))),"Check monthly charge",IF(AND(M16="Active",G16<=Assumptions!$B$4,OR(H16="",H16>=Assumptions!$B$4),COUNTIFS($B$4:$B$103,B16,$F$4:$F$103,F16,$M$4:$M$103,"Active",$G$4:$G$103,"<="&Assumptions!$B$4,$H$4:$H$103,">="&Assumptions!$B$4)+COUNTIFS($B$4:$B$103,B16,$F$4:$F$103,F16,$M$4:$M$103,"Active",$G$4:$G$103,"<="&Assumptions!$B$4,$H$4:$H$103,"")>1),"Check duplicate space",IF(AND(M16="Active",H16<>"",H16<Assumptions!$B$4),"Check status/end date",IF(AND(M16="Ended",OR(H16="",J16<I16)),"Check closure",IF(AND(M16="Reserved",G16<Assumptions!$B$4),"Check reserved date","OK"))))))))))))
N17: =IF(COUNTA(A17:M17)=0,"",IF(NOT(ISNUMBER(G17)),"",IFERROR(MAX(0,MIN(IF(OR(H17="",NOT(ISNUMBER(H17))),Assumptions!$B$4,H17),Assumptions!$B$4)-G17+1),""))) | O17: =IF(COUNTA(A17:M17)=0,"",IF(OR(I17="",NOT(ISNUMBER(I17))),"",IFERROR(MAX(0,I17-IF(OR(J17="",NOT(ISNUMBER(J17))),0,J17)),""))) | P17: =IF(COUNTA(A17:M17)=0,"",IF(AND(M17="Active",ISNUMBER(G17),G17<=Assumptions!$B$4,OR(H17="",AND(ISNUMBER(H17),H17>=Assumptions!$B$4))),IF(ISNUMBER(K17),K17,""),0)) | Q17: =IF(COUNTA(A17:M17)=0,"",IF(OR(A17="",B17="",C17="",D17="",E17="",F17="",G17="",L17="",M17=""),"Check required fields",IF(COUNTIF(Assumptions!$D$4:$D$103,B17)=0,"Check property list",IF(COUNTIF($A$4:$A$103,A17)>1,"Check assignment ID",IF(OR(NOT(ISNUMBER(G17)),AND(H17<>"",NOT(ISNUMBER(H17))),AND(ISNUMBER(H17),H17<G17)),"Check dates",IF(OR(I17="",J17="",NOT(ISNUMBER(I17)),NOT(ISNUMBER(J17))),"Check key counts",IF(I17<J17,"Check key counts",IF(AND(K17<>"",NOT(ISNUMBER(K17))),"Check monthly charge",IF(AND(M17="Active",G17<=Assumptions!$B$4,OR(H17="",H17>=Assumptions!$B$4),COUNTIFS($B$4:$B$103,B17,$F$4:$F$103,F17,$M$4:$M$103,"Active",$G$4:$G$103,"<="&Assumptions!$B$4,$H$4:$H$103,">="&Assumptions!$B$4)+COUNTIFS($B$4:$B$103,B17,$F$4:$F$103,F17,$M$4:$M$103,"Active",$G$4:$G$103,"<="&Assumptions!$B$4,$H$4:$H$103,"")>1),"Check duplicate space",IF(AND(M17="Active",H17<>"",H17<Assumptions!$B$4),"Check status/end date",IF(AND(M17="Ended",OR(H17="",J17<I17)),"Check closure",IF(AND(M17="Reserved",G17<Assumptions!$B$4),"Check reserved date","OK"))))))))))))
N18: =IF(COUNTA(A18:M18)=0,"",IF(NOT(ISNUMBER(G18)),"",IFERROR(MAX(0,MIN(IF(OR(H18="",NOT(ISNUMBER(H18))),Assumptions!$B$4,H18),Assumptions!$B$4)-G18+1),""))) | O18: =IF(COUNTA(A18:M18)=0,"",IF(OR(I18="",NOT(ISNUMBER(I18))),"",IFERROR(MAX(0,I18-IF(OR(J18="",NOT(ISNUMBER(J18))),0,J18)),""))) | P18: =IF(COUNTA(A18:M18)=0,"",IF(AND(M18="Active",ISNUMBER(G18),G18<=Assumptions!$B$4,OR(H18="",AND(ISNUMBER(H18),H18>=Assumptions!$B$4))),IF(ISNUMBER(K18),K18,""),0)) | Q18: =IF(COUNTA(A18:M18)=0,"",IF(OR(A18="",B18="",C18="",D18="",E18="",F18="",G18="",L18="",M18=""),"Check required fields",IF(COUNTIF(Assumptions!$D$4:$D$103,B18)=0,"Check property list",IF(COUNTIF($A$4:$A$103,A18)>1,"Check assignment ID",IF(OR(NOT(ISNUMBER(G18)),AND(H18<>"",NOT(ISNUMBER(H18))),AND(ISNUMBER(H18),H18<G18)),"Check dates",IF(OR(I18="",J18="",NOT(ISNUMBER(I18)),NOT(ISNUMBER(J18))),"Check key counts",IF(I18<J18,"Check key counts",IF(AND(K18<>"",NOT(ISNUMBER(K18))),"Check monthly charge",IF(AND(M18="Active",G18<=Assumptions!$B$4,OR(H18="",H18>=Assumptions!$B$4),COUNTIFS($B$4:$B$103,B18,$F$4:$F$103,F18,$M$4:$M$103,"Active",$G$4:$G$103,"<="&Assumptions!$B$4,$H$4:$H$103,">="&Assumptions!$B$4)+COUNTIFS($B$4:$B$103,B18,$F$4:$F$103,F18,$M$4:$M$103,"Active",$G$4:$G$103,"<="&Assumptions!$B$4,$H$4:$H$103,"")>1),"Check duplicate space",IF(AND(M18="Active",H18<>"",H18<Assumptions!$B$4),"Check status/end date",IF(AND(M18="Ended",OR(H18="",J18<I18)),"Check closure",IF(AND(M18="Reserved",G18<Assumptions!$B$4),"Check reserved date","OK"))))))))))))
N19: =IF(COUNTA(A19:M19)=0,"",IF(NOT(ISNUMBER(G19)),"",IFERROR(MAX(0,MIN(IF(OR(H19="",NOT(ISNUMBER(H19))),Assumptions!$B$4,H19),Assumptions!$B$4)-G19+1),""))) | O19: =IF(COUNTA(A19:M19)=0,"",IF(OR(I19="",NOT(ISNUMBER(I19))),"",IFERROR(MAX(0,I19-IF(OR(J19="",NOT(ISNUMBER(J19))),0,J19)),""))) | P19: =IF(COUNTA(A19:M19)=0,"",IF(AND(M19="Active",ISNUMBER(G19),G19<=Assumptions!$B$4,OR(H19="",AND(ISNUMBER(H19),H19>=Assumptions!$B$4))),IF(ISNUMBER(K19),K19,""),0)) | Q19: =IF(COUNTA(A19:M19)=0,"",IF(OR(A19="",B19="",C19="",D19="",E19="",F19="",G19="",L19="",M19=""),"Check required fields",IF(COUNTIF(Assumptions!$D$4:$D$103,B19)=0,"Check property list",IF(COUNTIF($A$4:$A$103,A19)>1,"Check assignment ID",IF(OR(NOT(ISNUMBER(G19)),AND(H19<>"",NOT(ISNUMBER(H19))),AND(ISNUMBER(H19),H19<G19)),"Check dates",IF(OR(I19="",J19="",NOT(ISNUMBER(I19)),NOT(ISNUMBER(J19))),"Check key counts",IF(I19<J19,"Check key counts",IF(AND(K19<>"",NOT(ISNUMBER(K19))),"Check monthly charge",IF(AND(M19="Active",G19<=Assumptions!$B$4,OR(H19="",H19>=Assumptions!$B$4),COUNTIFS($B$4:$B$103,B19,$F$4:$F$103,F19,$M$4:$M$103,"Active",$G$4:$G$103,"<="&Assumptions!$B$4,$H$4:$H$103,">="&Assumptions!$B$4)+COUNTIFS($B$4:$B$103,B19,$F$4:$F$103,F19,$M$4:$M$103,"Active",$G$4:$G$103,"<="&Assumptions!$B$4,$H$4:$H$103,"")>1),"Check duplicate space",IF(AND(M19="Active",H19<>"",H19<Assumptions!$B$4),"Check status/end date",IF(AND(M19="Ended",OR(H19="",J19<I19)),"Check closure",IF(AND(M19="Reserved",G19<Assumptions!$B$4),"Check reserved date","OK"))))))))))))
N20: =IF(COUNTA(A20:M20)=0,"",IF(NOT(ISNUMBER(G20)),"",IFERROR(MAX(0,MIN(IF(OR(H20="",NOT(ISNUMBER(H20))),Assumptions!$B$4,H20),Assumptions!$B$4)-G20+1),""))) | O20: =IF(COUNTA(A20:M20)=0,"",IF(OR(I20="",NOT(ISNUMBER(I20))),"",IFERROR(MAX(0,I20-IF(OR(J20="",NOT(ISNUMBER(J20))),0,J20)),""))) | P20: =IF(COUNTA(A20:M20)=0,"",IF(AND(M20="Active",ISNUMBER(G20),G20<=Assumptions!$B$4,OR(H20="",AND(ISNUMBER(H20),H20>=Assumptions!$B$4))),IF(ISNUMBER(K20),K20,""),0)) | Q20: =IF(COUNTA(A20:M20)=0,"",IF(OR(A20="",B20="",C20="",D20="",E20="",F20="",G20="",L20="",M20=""),"Check required fields",IF(COUNTIF(Assumptions!$D$4:$D$103,B20)=0,"Check property list",IF(COUNTIF($A$4:$A$103,A20)>1,"Check assignment ID",IF(OR(NOT(ISNUMBER(G20)),AND(H20<>"",NOT(ISNUMBER(H20))),AND(ISNUMBER(H20),H20<G20)),"Check dates",IF(OR(I20="",J20="",NOT(ISNUMBER(I20)),NOT(ISNUMBER(J20))),"Check key counts",IF(I20<J20,"Check key counts",IF(AND(K20<>"",NOT(ISNUMBER(K20))),"Check monthly charge",IF(AND(M20="Active",G20<=Assumptions!$B$4,OR(H20="",H20>=Assumptions!$B$4),COUNTIFS($B$4:$B$103,B20,$F$4:$F$103,F20,$M$4:$M$103,"Active",$G$4:$G$103,"<="&Assumptions!$B$4,$H$4:$H$103,">="&Assumptions!$B$4)+COUNTIFS($B$4:$B$103,B20,$F$4:$F$103,F20,$M$4:$M$103,"Active",$G$4:$G$103,"<="&Assumptions!$B$4,$H$4:$H$103,"")>1),"Check duplicate space",IF(AND(M20="Active",H20<>"",H20<Assumptions!$B$4),"Check status/end date",IF(AND(M20="Ended",OR(H20="",J20<I20)),"Check closure",IF(AND(M20="Reserved",G20<Assumptions!$B$4),"Check reserved date","OK"))))))))))))
N21: =IF(COUNTA(A21:M21)=0,"",IF(NOT(ISNUMBER(G21)),"",IFERROR(MAX(0,MIN(IF(OR(H21="",NOT(ISNUMBER(H21))),Assumptions!$B$4,H21),Assumptions!$B$4)-G21+1),""))) | O21: =IF(COUNTA(A21:M21)=0,"",IF(OR(I21="",NOT(ISNUMBER(I21))),"",IFERROR(MAX(0,I21-IF(OR(J21="",NOT(ISNUMBER(J21))),0,J21)),""))) | P21: =IF(COUNTA(A21:M21)=0,"",IF(AND(M21="Active",ISNUMBER(G21),G21<=Assumptions!$B$4,OR(H21="",AND(ISNUMBER(H21),H21>=Assumptions!$B$4))),IF(ISNUMBER(K21),K21,""),0)) | Q21: =IF(COUNTA(A21:M21)=0,"",IF(OR(A21="",B21="",C21="",D21="",E21="",F21="",G21="",L21="",M21=""),"Check required fields",IF(COUNTIF(Assumptions!$D$4:$D$103,B21)=0,"Check property list",IF(COUNTIF($A$4:$A$103,A21)>1,"Check assignment ID",IF(OR(NOT(ISNUMBER(G21)),AND(H21<>"",NOT(ISNUMBER(H21))),AND(ISNUMBER(H21),H21<G21)),"Check dates",IF(OR(I21="",J21="",NOT(ISNUMBER(I21)),NOT(ISNUMBER(J21))),"Check key counts",IF(I21<J21,"Check key counts",IF(AND(K21<>"",NOT(ISNUMBER(K21))),"Check monthly charge",IF(AND(M21="Active",G21<=Assumptions!$B$4,OR(H21="",H21>=Assumptions!$B$4),COUNTIFS($B$4:$B$103,B21,$F$4:$F$103,F21,$M$4:$M$103,"Active",$G$4:$G$103,"<="&Assumptions!$B$4,$H$4:$H$103,">="&Assumptions!$B$4)+COUNTIFS($B$4:$B$103,B21,$F$4:$F$103,F21,$M$4:$M$103,"Active",$G$4:$G$103,"<="&Assumptions!$B$4,$H$4:$H$103,"")>1),"Check duplicate space",IF(AND(M21="Active",H21<>"",H21<Assumptions!$B$4),"Check status/end date",IF(AND(M21="Ended",OR(H21="",J21<I21)),"Check closure",IF(AND(M21="Reserved",G21<Assumptions!$B$4),"Check reserved date","OK"))))))))))))
N22: =IF(COUNTA(A22:M22)=0,"",IF(NOT(ISNUMBER(G22)),"",IFERROR(MAX(0,MIN(IF(OR(H22="",NOT(ISNUMBER(H22))),Assumptions!$B$4,H22),Assumptions!$B$4)-G22+1),""))) | O22: =IF(COUNTA(A22:M22)=0,"",IF(OR(I22="",NOT(ISNUMBER(I22))),"",IFERROR(MAX(0,I22-IF(OR(J22="",NOT(ISNUMBER(J22))),0,J22)),""))) | P22: =IF(COUNTA(A22:M22)=0,"",IF(AND(M22="Active",ISNUMBER(G22),G22<=Assumptions!$B$4,OR(H22="",AND(ISNUMBER(H22),H22>=Assumptions!$B$4))),IF(ISNUMBER(K22),K22,""),0)) | Q22: =IF(COUNTA(A22:M22)=0,"",IF(OR(A22="",B22="",C22="",D22="",E22="",F22="",G22="",L22="",M22=""),"Check required fields",IF(COUNTIF(Assumptions!$D$4:$D$103,B22)=0,"Check property list",IF(COUNTIF($A$4:$A$103,A22)>1,"Check assignment ID",IF(OR(NOT(ISNUMBER(G22)),AND(H22<>"",NOT(ISNUMBER(H22))),AND(ISNUMBER(H22),H22<G22)),"Check dates",IF(OR(I22="",J22="",NOT(ISNUMBER(I22)),NOT(ISNUMBER(J22))),"Check key counts",IF(I22<J22,"Check key counts",IF(AND(K22<>"",NOT(ISNUMBER(K22))),"Check monthly charge",IF(AND(M22="Active",G22<=Assumptions!$B$4,OR(H22="",H22>=Assumptions!$B$4),COUNTIFS($B$4:$B$103,B22,$F$4:$F$103,F22,$M$4:$M$103,"Active",$G$4:$G$103,"<="&Assumptions!$B$4,$H$4:$H$103,">="&Assumptions!$B$4)+COUNTIFS($B$4:$B$103,B22,$F$4:$F$103,F22,$M$4:$M$103,"Active",$G$4:$G$103,"<="&Assumptions!$B$4,$H$4:$H$103,"")>1),"Check duplicate space",IF(AND(M22="Active",H22<>"",H22<Assumptions!$B$4),"Check status/end date",IF(AND(M22="Ended",OR(H22="",J22<I22)),"Check closure",IF(AND(M22="Reserved",G22<Assumptions!$B$4),"Check reserved date","OK"))))))))))))
N23: =IF(COUNTA(A23:M23)=0,"",IF(NOT(ISNUMBER(G23)),"",IFERROR(MAX(0,MIN(IF(OR(H23="",NOT(ISNUMBER(H23))),Assumptions!$B$4,H23),Assumptions!$B$4)-G23+1),""))) | O23: =IF(COUNTA(A23:M23)=0,"",IF(OR(I23="",NOT(ISNUMBER(I23))),"",IFERROR(MAX(0,I23-IF(OR(J23="",NOT(ISNUMBER(J23))),0,J23)),""))) | P23: =IF(COUNTA(A23:M23)=0,"",IF(AND(M23="Active",ISNUMBER(G23),G23<=Assumptions!$B$4,OR(H23="",AND(ISNUMBER(H23),H23>=Assumptions!$B$4))),IF(ISNUMBER(K23),K23,""),0)) | Q23: =IF(COUNTA(A23:M23)=0,"",IF(OR(A23="",B23="",C23="",D23="",E23="",F23="",G23="",L23="",M23=""),"Check required fields",IF(COUNTIF(Assumptions!$D$4:$D$103,B23)=0,"Check property list",IF(COUNTIF($A$4:$A$103,A23)>1,"Check assignment ID",IF(OR(NOT(ISNUMBER(G23)),AND(H23<>"",NOT(ISNUMBER(H23))),AND(ISNUMBER(H23),H23<G23)),"Check dates",IF(OR(I23="",J23="",NOT(ISNUMBER(I23)),NOT(ISNUMBER(J23))),"Check key counts",IF(I23<J23,"Check key counts",IF(AND(K23<>"",NOT(ISNUMBER(K23))),"Check monthly charge",IF(AND(M23="Active",G23<=Assumptions!$B$4,OR(H23="",H23>=Assumptions!$B$4),COUNTIFS($B$4:$B$103,B23,$F$4:$F$103,F23,$M$4:$M$103,"Active",$G$4:$G$103,"<="&Assumptions!$B$4,$H$4:$H$103,">="&Assumptions!$B$4)+COUNTIFS($B$4:$B$103,B23,$F$4:$F$103,F23,$M$4:$M$103,"Active",$G$4:$G$103,"<="&Assumptions!$B$4,$H$4:$H$103,"")>1),"Check duplicate space",IF(AND(M23="Active",H23<>"",H23<Assumptions!$B$4),"Check status/end date",IF(AND(M23="Ended",OR(H23="",J23<I23)),"Check closure",IF(AND(M23="Reserved",G23<Assumptions!$B$4),"Check reserved date","OK"))))))))))))
N24: =IF(COUNTA(A24:M24)=0,"",IF(NOT(ISNUMBER(G24)),"",IFERROR(MAX(0,MIN(IF(OR(H24="",NOT(ISNUMBER(H24))),Assumptions!$B$4,H24),Assumptions!$B$4)-G24+1),""))) | O24: =IF(COUNTA(A24:M24)=0,"",IF(OR(I24="",NOT(ISNUMBER(I24))),"",IFERROR(MAX(0,I24-IF(OR(J24="",NOT(ISNUMBER(J24))),0,J24)),""))) | P24: =IF(COUNTA(A24:M24)=0,"",IF(AND(M24="Active",ISNUMBER(G24),G24<=Assumptions!$B$4,OR(H24="",AND(ISNUMBER(H24),H24>=Assumptions!$B$4))),IF(ISNUMBER(K24),K24,""),0)) | Q24: =IF(COUNTA(A24:M24)=0,"",IF(OR(A24="",B24="",C24="",D24="",E24="",F24="",G24="",L24="",M24=""),"Check required fields",IF(COUNTIF(Assumptions!$D$4:$D$103,B24)=0,"Check property list",IF(COUNTIF($A$4:$A$103,A24)>1,"Check assignment ID",IF(OR(NOT(ISNUMBER(G24)),AND(H24<>"",NOT(ISNUMBER(H24))),AND(ISNUMBER(H24),H24<G24)),"Check dates",IF(OR(I24="",J24="",NOT(ISNUMBER(I24)),NOT(ISNUMBER(J24))),"Check key counts",IF(I24<J24,"Check key counts",IF(AND(K24<>"",NOT(ISNUMBER(K24))),"Check monthly charge",IF(AND(M24="Active",G24<=Assumptions!$B$4,OR(H24="",H24>=Assumptions!$B$4),COUNTIFS($B$4:$B$103,B24,$F$4:$F$103,F24,$M$4:$M$103,"Active",$G$4:$G$103,"<="&Assumptions!$B$4,$H$4:$H$103,">="&Assumptions!$B$4)+COUNTIFS($B$4:$B$103,B24,$F$4:$F$103,F24,$M$4:$M$103,"Active",$G$4:$G$103,"<="&Assumptions!$B$4,$H$4:$H$103,"")>1),"Check duplicate space",IF(AND(M24="Active",H24<>"",H24<Assumptions!$B$4),"Check status/end date",IF(AND(M24="Ended",OR(H24="",J24<I24)),"Check closure",IF(AND(M24="Reserved",G24<Assumptions!$B$4),"Check reserved date","OK"))))))))))))
N25: =IF(COUNTA(A25:M25)=0,"",IF(NOT(ISNUMBER(G25)),"",IFERROR(MAX(0,MIN(IF(OR(H25="",NOT(ISNUMBER(H25))),Assumptions!$B$4,H25),Assumptions!$B$4)-G25+1),""))) | O25: =IF(COUNTA(A25:M25)=0,"",IF(OR(I25="",NOT(ISNUMBER(I25))),"",IFERROR(MAX(0,I25-IF(OR(J25="",NOT(ISNUMBER(J25))),0,J25)),""))) | P25: =IF(COUNTA(A25:M25)=0,"",IF(AND(M25="Active",ISNUMBER(G25),G25<=Assumptions!$B$4,OR(H25="",AND(ISNUMBER(H25),H25>=Assumptions!$B$4))),IF(ISNUMBER(K25),K25,""),0)) | Q25: =IF(COUNTA(A25:M25)=0,"",IF(OR(A25="",B25="",C25="",D25="",E25="",F25="",G25="",L25="",M25=""),"Check required fields",IF(COUNTIF(Assumptions!$D$4:$D$103,B25)=0,"Check property list",IF(COUNTIF($A$4:$A$103,A25)>1,"Check assignment ID",IF(OR(NOT(ISNUMBER(G25)),AND(H25<>"",NOT(ISNUMBER(H25))),AND(ISNUMBER(H25),H25<G25)),"Check dates",IF(OR(I25="",J25="",NOT(ISNUMBER(I25)),NOT(ISNUMBER(J25))),"Check key counts",IF(I25<J25,"Check key counts",IF(AND(K25<>"",NOT(ISNUMBER(K25))),"Check monthly charge",IF(AND(M25="Active",G25<=Assumptions!$B$4,OR(H25="",H25>=Assumptions!$B$4),COUNTIFS($B$4:$B$103,B25,$F$4:$F$103,F25,$M$4:$M$103,"Active",$G$4:$G$103,"<="&Assumptions!$B$4,$H$4:$H$103,">="&Assumptions!$B$4)+COUNTIFS($B$4:$B$103,B25,$F$4:$F$103,F25,$M$4:$M$103,"Active",$G$4:$G$103,"<="&Assumptions!$B$4,$H$4:$H$103,"")>1),"Check duplicate space",IF(AND(M25="Active",H25<>"",H25<Assumptions!$B$4),"Check status/end date",IF(AND(M25="Ended",OR(H25="",J25<I25)),"Check closure",IF(AND(M25="Reserved",G25<Assumptions!$B$4),"Check reserved date","OK"))))))))))))
N26: =IF(COUNTA(A26:M26)=0,"",IF(NOT(ISNUMBER(G26)),"",IFERROR(MAX(0,MIN(IF(OR(H26="",NOT(ISNUMBER(H26))),Assumptions!$B$4,H26),Assumptions!$B$4)-G26+1),""))) | O26: =IF(COUNTA(A26:M26)=0,"",IF(OR(I26="",NOT(ISNUMBER(I26))),"",IFERROR(MAX(0,I26-IF(OR(J26="",NOT(ISNUMBER(J26))),0,J26)),""))) | P26: =IF(COUNTA(A26:M26)=0,"",IF(AND(M26="Active",ISNUMBER(G26),G26<=Assumptions!$B$4,OR(H26="",AND(ISNUMBER(H26),H26>=Assumptions!$B$4))),IF(ISNUMBER(K26),K26,""),0)) | Q26: =IF(COUNTA(A26:M26)=0,"",IF(OR(A26="",B26="",C26="",D26="",E26="",F26="",G26="",L26="",M26=""),"Check required fields",IF(COUNTIF(Assumptions!$D$4:$D$103,B26)=0,"Check property list",IF(COUNTIF($A$4:$A$103,A26)>1,"Check assignment ID",IF(OR(NOT(ISNUMBER(G26)),AND(H26<>"",NOT(ISNUMBER(H26))),AND(ISNUMBER(H26),H26<G26)),"Check dates",IF(OR(I26="",J26="",NOT(ISNUMBER(I26)),NOT(ISNUMBER(J26))),"Check key counts",IF(I26<J26,"Check key counts",IF(AND(K26<>"",NOT(ISNUMBER(K26))),"Check monthly charge",IF(AND(M26="Active",G26<=Assumptions!$B$4,OR(H26="",H26>=Assumptions!$B$4),COUNTIFS($B$4:$B$103,B26,$F$4:$F$103,F26,$M$4:$M$103,"Active",$G$4:$G$103,"<="&Assumptions!$B$4,$H$4:$H$103,">="&Assumptions!$B$4)+COUNTIFS($B$4:$B$103,B26,$F$4:$F$103,F26,$M$4:$M$103,"Active",$G$4:$G$103,"<="&Assumptions!$B$4,$H$4:$H$103,"")>1),"Check duplicate space",IF(AND(M26="Active",H26<>"",H26<Assumptions!$B$4),"Check status/end date",IF(AND(M26="Ended",OR(H26="",J26<I26)),"Check closure",IF(AND(M26="Reserved",G26<Assumptions!$B$4),"Check reserved date","OK"))))))))))))
... N103: =IF(COUNTA(A103:M103)=0,"",IF(NOT(ISNUMBER(G103)),"",IFERROR(MAX(0,MIN(IF(OR(H103="",NOT(ISNUMBER(H103))),Assumptions!$B$4,H103),Assumptions!$B$4)-G103+1),""))) | O103: =IF(COUNTA(A103:M103)=0,"",IF(OR(I103="",NOT(ISNUMBER(I103))),"",IFERROR(MAX(0,I103-IF(OR(J103="",NOT(ISNUMBER(J103))),0,J103)),""))) | P103: =IF(COUNTA(A103:M103)=0,"",IF(AND(M103="Active",ISNUMBER(G103),G103<=Assumptions!$B$4,OR(H103="",AND(ISNUMBER(H103),H103>=Assumptions!$B$4))),IF(ISNUMBER(K103),K103,""),0)) | Q103: =IF(COUNTA(A103:M103)=0,"",IF(OR(A103="",B103="",C103="",D103="",E103="",F103="",G103="",L103="",M103=""),"Check required fields",IF(COUNTIF(Assumptions!$D$4:$D$103,B103)=0,"Check property list",IF(COUNTIF($A$4:$A$103,A103)>1,"Check assignment ID",IF(OR(NOT(ISNUMBER(G103)),AND(H103<>"",NOT(ISNUMBER(H103))),AND(ISNUMBER(H103),H103<G103)),"Check dates",IF(OR(I103="",J103="",NOT(ISNUMBER(I103)),NOT(ISNUMBER(J103))),"Check key counts",IF(I103<J103,"Check key counts",IF(AND(K103<>"",NOT(ISNUMBER(K103))),"Check monthly charge",IF(AND(M103="Active",G103<=Assumptions!$B$4,OR(H103="",H103>=Assumptions!$B$4),COUNTIFS($B$4:$B$103,B103,$F$4:$F$103,F103,$M$4:$M$103,"Active",$G$4:$G$103,"<="&Assumptions!$B$4,$H$4:$H$103,">="&Assumptions!$B$4)+COUNTIFS($B$4:$B$103,B103,$F$4:$F$103,F103,$M$4:$M$103,"Active",$G$4:$G$103,"<="&Assumptions!$B$4,$H$4:$H$103,"")>1),"Check duplicate space",IF(AND(M103="Active",H103<>"",H103<Assumptions!$B$4),"Check status/end date",IF(AND(M103="Ended",OR(H103="",J103<I103)),"Check closure",IF(AND(M103="Reserved",G103<Assumptions!$B$4),"Check reserved date","OK"))))))))))))

Sheet Assumptions
A1: Rental Storage Assignment Assumptions
A2: Edit the as-of date, fictional property list, and planning capacities. Capacities are internal inputs, not official limits.
A3: Setting | B3: Value | D3: Property | E3: Storage Capacity
A4: As-of date | B4: 46276 | D4: Fictional Cedar Court | E4: 8
D5: Fictional Maple House | E5: 6
D6: Fictional Harbor Flats | E6: 5
D7: Fictional Juniper Place | E7: 7
D8: Fictional Orchard Row | E8: 4
