Workbook

Sheet Summary
A1: Rental Unit Turnover Readiness Checklist
A3: Indicator | B3: Calculated Value
A4: Checklist tasks | B4: =COUNTIF(Checklist!$F$5:$F$124,"<>")
A5: Required tasks | B5: =COUNTIFS(Checklist!$F$5:$F$124,"<>",Checklist!$O$5:$O$124,"Required")
A6: Completed required tasks | B6: =COUNTIFS(Checklist!$F$5:$F$124,"<>",Checklist!$O$5:$O$124,"Required",Checklist!$J$5:$J$124,"Complete")
A7: Required completion | B7: =IFERROR(B6/B5,"")
A8: Open required tasks | B8: =COUNTIFS(Checklist!$F$5:$F$124,"<>",Checklist!$O$5:$O$124,"Required",Checklist!$J$5:$J$124,"<>Complete")
A9: Overdue required tasks | B9: =COUNTIFS(Checklist!$F$5:$F$124,"<>",Checklist!$O$5:$O$124,"Required",Checklist!$J$5:$J$124,"<>Complete",Checklist!$J$5:$J$124,"<>Not Needed",Checklist!$I$5:$I$124,">0",Checklist!$I$5:$I$124,"<"&TODAY())
A10: Blocked tasks | B10: =COUNTIFS(Checklist!$F$5:$F$124,"<>",Checklist!$J$5:$J$124,"Blocked")
A11: Required tasks missing due dates | B11: =COUNTIFS(Checklist!$F$5:$F$124,"<>",Checklist!$O$5:$O$124,"Required",Checklist!$J$5:$J$124,"<>Complete",Checklist!$I$5:$I$124,"")
A12: Required tasks due soon | B12: =COUNTIFS(Checklist!$F$5:$F$124,"<>",Checklist!$O$5:$O$124,"Required",Checklist!$J$5:$J$124,"<>Complete",Checklist!$J$5:$J$124,"<>Not Needed",Checklist!$I$5:$I$124,">="&TODAY(),Checklist!$I$5:$I$124,"<="&TODAY()+Assumptions!$B$4)
A13: Total estimated amount | B13: =IF(COUNT(Checklist!$N$5:$N$124)=0,"",SUM(Checklist!$N$5:$N$124))
A14: Checklist signal | B14: =IF(B4=0,"No checklist data",IF(B5=0,"Add required tasks",IF(AND(B8=0,B9=0,B10=0,B11=0),"Ready for human review","Work remains")))
A16: Status | B16: Task Count
A17: Planned | B17: =COUNTIF(Checklist!$J$5:$J$124,A17)
A18: In Progress | B18: =COUNTIF(Checklist!$J$5:$J$124,A18)
A19: Blocked | B19: =COUNTIF(Checklist!$J$5:$J$124,A19)
A20: Complete | B20: =COUNTIF(Checklist!$J$5:$J$124,A20)
A21: Not Needed | B21: =COUNTIF(Checklist!$J$5:$J$124,A21)
A22: Blank status | B22: =COUNTIFS(Checklist!$F$5:$F$124,"<>",Checklist!$J$5:$J$124,"")

Sheet Checklist
A1: Turnover Task Checklist | Q1: =Assumptions!$E$4 | R1: =Assumptions!$F$4 | S1: =Assumptions!$G$4 | T1: =Assumptions!$H$4 | U1: =Assumptions!$B$4
A2: Enter one row per turnover task. Yellow cells are editable; alerts prompt a human review. | Q2: =Assumptions!$E$5 | R2: =Assumptions!$F$5 | S2: =Assumptions!$G$5 | T2: =Assumptions!$H$5 | U2: =Assumptions!$B$5
Q3: =Assumptions!$E$6 | R3: =Assumptions!$F$6 | S3: =Assumptions!$G$6 | U3: =Assumptions!$B$6
A4: Property | B4: Unit | C4: Turnover Start | D4: Target Ready | E4: Category | F4: Task Description | G4: Responsibility | H4: Vendor | I4: Due Date | J4: Status | K4: Completed Date | L4: Quantity | M4: Unit Amount | N4: Estimated Amount | O4: Requirement | P4: Alert | Q4: =Assumptions!$E$7 | R4: =Assumptions!$F$7 | S4: =Assumptions!$G$7 | U4: =Assumptions!$B$7
A5: Fictional Cedar Kite Residences | B5: Demo Unit F-204 | C5: 46270 | D5: 46282 | E5: Cleaning | F5: Deep-clean kitchen and bathrooms | G5: Vendor | H5: Fictional Bright Broom Crew | I5: 46274 | J5: Complete | K5: 46274 | L5: 1 | M5: 340 | N5: =IF(F5="","",IF(OR(L5="",M5=""),"",IFERROR(L5*M5,""))) | O5: Required | P5: =IF(F5="","",IF(AND(C5<>"",D5<>"",D5<C5),"Check target date",IF(AND(I5<>"",C5<>"",I5<C5),"Check due date",IF(AND(K5<>"",C5<>"",K5<C5),"Check completion date",IF(AND(K5<>"",J5<>"Complete"),"Check completion status",IF(J5="Complete",IF(K5="","Check completion date","Complete"),IF(J5="Not Needed",IF(O5="Required","Check requirement","Not needed"),IF(J5="","Set status",IF(AND(O5="Required",I5=""),"Add due date",IF(J5="Blocked","Blocked - review",IF(AND(I5<>"",I5<TODAY()),"Overdue - review",IF(AND(D5<>"",D5<TODAY()),"Past target - review",IF(AND(I5<>"",I5<=TODAY()+$U$1),"Due soon - review","On track"))))))))))))) | Q5: =Assumptions!$E$8 | R5: =Assumptions!$F$8 | S5: =Assumptions!$G$8 | U5: =Assumptions!$B$8
A6: Fictional Cedar Kite Residences | B6: Demo Unit F-204 | C6: 46270 | D6: 46282 | E6: Repairs | F6: Patch and paint the scuffed bedroom wall | G6: Vendor | H6: Fictional Copper Kettle Repairs | I6: 46277 | J6: Planned | L6: 1 | M6: 290 | N6: =IF(F6="","",IF(OR(L6="",M6=""),"",IFERROR(L6*M6,""))) | O6: Required | P6: =IF(F6="","",IF(AND(C6<>"",D6<>"",D6<C6),"Check target date",IF(AND(I6<>"",C6<>"",I6<C6),"Check due date",IF(AND(K6<>"",C6<>"",K6<C6),"Check completion date",IF(AND(K6<>"",J6<>"Complete"),"Check completion status",IF(J6="Complete",IF(K6="","Check completion date","Complete"),IF(J6="Not Needed",IF(O6="Required","Check requirement","Not needed"),IF(J6="","Set status",IF(AND(O6="Required",I6=""),"Add due date",IF(J6="Blocked","Blocked - review",IF(AND(I6<>"",I6<TODAY()),"Overdue - review",IF(AND(D6<>"",D6<TODAY()),"Past target - review",IF(AND(I6<>"",I6<=TODAY()+$U$1),"Due soon - review","On track"))))))))))))) | Q6: =Assumptions!$E$9
A7: Fictional Cedar Kite Residences | B7: Demo Unit F-204 | C7: 46270 | D7: 46282 | E7: Safety Checks | F7: Test smoke and carbon monoxide alarms | G7: Maintenance | I7: 46275 | J7: In Progress | L7: 4 | M7: 12.5 | N7: =IF(F7="","",IF(OR(L7="",M7=""),"",IFERROR(L7*M7,""))) | O7: Required | P7: =IF(F7="","",IF(AND(C7<>"",D7<>"",D7<C7),"Check target date",IF(AND(I7<>"",C7<>"",I7<C7),"Check due date",IF(AND(K7<>"",C7<>"",K7<C7),"Check completion date",IF(AND(K7<>"",J7<>"Complete"),"Check completion status",IF(J7="Complete",IF(K7="","Check completion date","Complete"),IF(J7="Not Needed",IF(O7="Required","Check requirement","Not needed"),IF(J7="","Set status",IF(AND(O7="Required",I7=""),"Add due date",IF(J7="Blocked","Blocked - review",IF(AND(I7<>"",I7<TODAY()),"Overdue - review",IF(AND(D7<>"",D7<TODAY()),"Past target - review",IF(AND(I7<>"",I7<=TODAY()+$U$1),"Due soon - review","On track"))))))))))))) | Q7: =Assumptions!$E$10
A8: Fictional Cedar Kite Residences | B8: Demo Unit F-204 | C8: 46270 | D8: 46282 | E8: Keys | F8: Rekey the entry lock and confirm the key count | G8: Vendor | H8: Fictional Northstar Key Crew | I8: 46279 | J8: Planned | L8: 3 | M8: 18 | N8: =IF(F8="","",IF(OR(L8="",M8=""),"",IFERROR(L8*M8,""))) | O8: Required | P8: =IF(F8="","",IF(AND(C8<>"",D8<>"",D8<C8),"Check target date",IF(AND(I8<>"",C8<>"",I8<C8),"Check due date",IF(AND(K8<>"",C8<>"",K8<C8),"Check completion date",IF(AND(K8<>"",J8<>"Complete"),"Check completion status",IF(J8="Complete",IF(K8="","Check completion date","Complete"),IF(J8="Not Needed",IF(O8="Required","Check requirement","Not needed"),IF(J8="","Set status",IF(AND(O8="Required",I8=""),"Add due date",IF(J8="Blocked","Blocked - review",IF(AND(I8<>"",I8<TODAY()),"Overdue - review",IF(AND(D8<>"",D8<TODAY()),"Past target - review",IF(AND(I8<>"",I8<=TODAY()+$U$1),"Due soon - review","On track")))))))))))))
A9: Fictional Cedar Kite Residences | B9: Demo Unit F-204 | C9: 46270 | D9: 46282 | E9: Utilities | F9: Confirm vacancy-period utility service | G9: Manager | I9: 46273 | J9: Complete | K9: 46273 | L9: 1 | M9: 0 | N9: =IF(F9="","",IF(OR(L9="",M9=""),"",IFERROR(L9*M9,""))) | O9: Required | P9: =IF(F9="","",IF(AND(C9<>"",D9<>"",D9<C9),"Check target date",IF(AND(I9<>"",C9<>"",I9<C9),"Check due date",IF(AND(K9<>"",C9<>"",K9<C9),"Check completion date",IF(AND(K9<>"",J9<>"Complete"),"Check completion status",IF(J9="Complete",IF(K9="","Check completion date","Complete"),IF(J9="Not Needed",IF(O9="Required","Check requirement","Not needed"),IF(J9="","Set status",IF(AND(O9="Required",I9=""),"Add due date",IF(J9="Blocked","Blocked - review",IF(AND(I9<>"",I9<TODAY()),"Overdue - review",IF(AND(D9<>"",D9<TODAY()),"Past target - review",IF(AND(I9<>"",I9<=TODAY()+$U$1),"Due soon - review","On track")))))))))))))
A10: Fictional Cedar Kite Residences | B10: Demo Unit F-204 | C10: 46270 | D10: 46282 | E10: Final Review | F10: Walk the unit and document the readiness decision | G10: Manager | I10: 46282 | J10: Planned | N10: =IF(F10="","",IF(OR(L10="",M10=""),"",IFERROR(L10*M10,""))) | O10: Required | P10: =IF(F10="","",IF(AND(C10<>"",D10<>"",D10<C10),"Check target date",IF(AND(I10<>"",C10<>"",I10<C10),"Check due date",IF(AND(K10<>"",C10<>"",K10<C10),"Check completion date",IF(AND(K10<>"",J10<>"Complete"),"Check completion status",IF(J10="Complete",IF(K10="","Check completion date","Complete"),IF(J10="Not Needed",IF(O10="Required","Check requirement","Not needed"),IF(J10="","Set status",IF(AND(O10="Required",I10=""),"Add due date",IF(J10="Blocked","Blocked - review",IF(AND(I10<>"",I10<TODAY()),"Overdue - review",IF(AND(D10<>"",D10<TODAY()),"Past target - review",IF(AND(I10<>"",I10<=TODAY()+$U$1),"Due soon - review","On track")))))))))))))
A11: Fictional Blue Acorn Flats | B11: Demo Unit Q-7 | C11: 46273 | D11: 46285 | E11: Cleaning | F11: Remove debris and clean cabinet interiors | G11: Vendor | H11: Fictional Paper Moon Turn Crew | I11: 46274 | J11: Blocked | L11: 1 | M11: 175 | N11: =IF(F11="","",IF(OR(L11="",M11=""),"",IFERROR(L11*M11,""))) | O11: Required | P11: =IF(F11="","",IF(AND(C11<>"",D11<>"",D11<C11),"Check target date",IF(AND(I11<>"",C11<>"",I11<C11),"Check due date",IF(AND(K11<>"",C11<>"",K11<C11),"Check completion date",IF(AND(K11<>"",J11<>"Complete"),"Check completion status",IF(J11="Complete",IF(K11="","Check completion date","Complete"),IF(J11="Not Needed",IF(O11="Required","Check requirement","Not needed"),IF(J11="","Set status",IF(AND(O11="Required",I11=""),"Add due date",IF(J11="Blocked","Blocked - review",IF(AND(I11<>"",I11<TODAY()),"Overdue - review",IF(AND(D11<>"",D11<TODAY()),"Past target - review",IF(AND(I11<>"",I11<=TODAY()+$U$1),"Due soon - review","On track")))))))))))))
A12: Fictional Blue Acorn Flats | B12: Demo Unit Q-7 | C12: 46273 | D12: 46285 | E12: Repairs | F12: Check faucets, drains, and toilet operation | G12: Maintenance | I12: 46276 | J12: In Progress | L12: 1 | M12: 120 | N12: =IF(F12="","",IF(OR(L12="",M12=""),"",IFERROR(L12*M12,""))) | O12: Required | P12: =IF(F12="","",IF(AND(C12<>"",D12<>"",D12<C12),"Check target date",IF(AND(I12<>"",C12<>"",I12<C12),"Check due date",IF(AND(K12<>"",C12<>"",K12<C12),"Check completion date",IF(AND(K12<>"",J12<>"Complete"),"Check completion status",IF(J12="Complete",IF(K12="","Check completion date","Complete"),IF(J12="Not Needed",IF(O12="Required","Check requirement","Not needed"),IF(J12="","Set status",IF(AND(O12="Required",I12=""),"Add due date",IF(J12="Blocked","Blocked - review",IF(AND(I12<>"",I12<TODAY()),"Overdue - review",IF(AND(D12<>"",D12<TODAY()),"Past target - review",IF(AND(I12<>"",I12<=TODAY()+$U$1),"Due soon - review","On track")))))))))))))
A13: Fictional Blue Acorn Flats | B13: Demo Unit Q-7 | C13: 46273 | D13: 46285 | E13: Listing | F13: Verify listing photos and written unit details | G13: Leasing | H13: Fictional Bluebird Listing Studio | I13: 46278 | J13: Planned | L13: 1 | M13: 95 | N13: =IF(F13="","",IF(OR(L13="",M13=""),"",IFERROR(L13*M13,""))) | O13: Required | P13: =IF(F13="","",IF(AND(C13<>"",D13<>"",D13<C13),"Check target date",IF(AND(I13<>"",C13<>"",I13<C13),"Check due date",IF(AND(K13<>"",C13<>"",K13<C13),"Check completion date",IF(AND(K13<>"",J13<>"Complete"),"Check completion status",IF(J13="Complete",IF(K13="","Check completion date","Complete"),IF(J13="Not Needed",IF(O13="Required","Check requirement","Not needed"),IF(J13="","Set status",IF(AND(O13="Required",I13=""),"Add due date",IF(J13="Blocked","Blocked - review",IF(AND(I13<>"",I13<TODAY()),"Overdue - review",IF(AND(D13<>"",D13<TODAY()),"Past target - review",IF(AND(I13<>"",I13<=TODAY()+$U$1),"Due soon - review","On track")))))))))))))
A14: Fictional Blue Acorn Flats | B14: Demo Unit Q-7 | C14: 46273 | D14: 46285 | E14: Safety Checks | F14: Confirm handrails and review visible trip hazards | G14: Manager | I14: 46285 | J14: Planned | L14: 1 | M14: 0 | N14: =IF(F14="","",IF(OR(L14="",M14=""),"",IFERROR(L14*M14,""))) | O14: Required | P14: =IF(F14="","",IF(AND(C14<>"",D14<>"",D14<C14),"Check target date",IF(AND(I14<>"",C14<>"",I14<C14),"Check due date",IF(AND(K14<>"",C14<>"",K14<C14),"Check completion date",IF(AND(K14<>"",J14<>"Complete"),"Check completion status",IF(J14="Complete",IF(K14="","Check completion date","Complete"),IF(J14="Not Needed",IF(O14="Required","Check requirement","Not needed"),IF(J14="","Set status",IF(AND(O14="Required",I14=""),"Add due date",IF(J14="Blocked","Blocked - review",IF(AND(I14<>"",I14<TODAY()),"Overdue - review",IF(AND(D14<>"",D14<TODAY()),"Past target - review",IF(AND(I14<>"",I14<=TODAY()+$U$1),"Due soon - review","On track")))))))))))))
A15: Fictional Blue Acorn Flats | B15: Demo Unit Q-7 | C15: 46273 | D15: 46285 | E15: Listing | F15: Refresh the optional patio listing photo | G15: Leasing | I15: 46280 | J15: Not Needed | N15: =IF(F15="","",IF(OR(L15="",M15=""),"",IFERROR(L15*M15,""))) | O15: Optional | P15: =IF(F15="","",IF(AND(C15<>"",D15<>"",D15<C15),"Check target date",IF(AND(I15<>"",C15<>"",I15<C15),"Check due date",IF(AND(K15<>"",C15<>"",K15<C15),"Check completion date",IF(AND(K15<>"",J15<>"Complete"),"Check completion status",IF(J15="Complete",IF(K15="","Check completion date","Complete"),IF(J15="Not Needed",IF(O15="Required","Check requirement","Not needed"),IF(J15="","Set status",IF(AND(O15="Required",I15=""),"Add due date",IF(J15="Blocked","Blocked - review",IF(AND(I15<>"",I15<TODAY()),"Overdue - review",IF(AND(D15<>"",D15<TODAY()),"Past target - review",IF(AND(I15<>"",I15<=TODAY()+$U$1),"Due soon - review","On track")))))))))))))
N16: =IF(F16="","",IF(OR(L16="",M16=""),"",IFERROR(L16*M16,""))) | P16: =IF(F16="","",IF(AND(C16<>"",D16<>"",D16<C16),"Check target date",IF(AND(I16<>"",C16<>"",I16<C16),"Check due date",IF(AND(K16<>"",C16<>"",K16<C16),"Check completion date",IF(AND(K16<>"",J16<>"Complete"),"Check completion status",IF(J16="Complete",IF(K16="","Check completion date","Complete"),IF(J16="Not Needed",IF(O16="Required","Check requirement","Not needed"),IF(J16="","Set status",IF(AND(O16="Required",I16=""),"Add due date",IF(J16="Blocked","Blocked - review",IF(AND(I16<>"",I16<TODAY()),"Overdue - review",IF(AND(D16<>"",D16<TODAY()),"Past target - review",IF(AND(I16<>"",I16<=TODAY()+$U$1),"Due soon - review","On track")))))))))))))
N17: =IF(F17="","",IF(OR(L17="",M17=""),"",IFERROR(L17*M17,""))) | P17: =IF(F17="","",IF(AND(C17<>"",D17<>"",D17<C17),"Check target date",IF(AND(I17<>"",C17<>"",I17<C17),"Check due date",IF(AND(K17<>"",C17<>"",K17<C17),"Check completion date",IF(AND(K17<>"",J17<>"Complete"),"Check completion status",IF(J17="Complete",IF(K17="","Check completion date","Complete"),IF(J17="Not Needed",IF(O17="Required","Check requirement","Not needed"),IF(J17="","Set status",IF(AND(O17="Required",I17=""),"Add due date",IF(J17="Blocked","Blocked - review",IF(AND(I17<>"",I17<TODAY()),"Overdue - review",IF(AND(D17<>"",D17<TODAY()),"Past target - review",IF(AND(I17<>"",I17<=TODAY()+$U$1),"Due soon - review","On track")))))))))))))
N18: =IF(F18="","",IF(OR(L18="",M18=""),"",IFERROR(L18*M18,""))) | P18: =IF(F18="","",IF(AND(C18<>"",D18<>"",D18<C18),"Check target date",IF(AND(I18<>"",C18<>"",I18<C18),"Check due date",IF(AND(K18<>"",C18<>"",K18<C18),"Check completion date",IF(AND(K18<>"",J18<>"Complete"),"Check completion status",IF(J18="Complete",IF(K18="","Check completion date","Complete"),IF(J18="Not Needed",IF(O18="Required","Check requirement","Not needed"),IF(J18="","Set status",IF(AND(O18="Required",I18=""),"Add due date",IF(J18="Blocked","Blocked - review",IF(AND(I18<>"",I18<TODAY()),"Overdue - review",IF(AND(D18<>"",D18<TODAY()),"Past target - review",IF(AND(I18<>"",I18<=TODAY()+$U$1),"Due soon - review","On track")))))))))))))
N19: =IF(F19="","",IF(OR(L19="",M19=""),"",IFERROR(L19*M19,""))) | P19: =IF(F19="","",IF(AND(C19<>"",D19<>"",D19<C19),"Check target date",IF(AND(I19<>"",C19<>"",I19<C19),"Check due date",IF(AND(K19<>"",C19<>"",K19<C19),"Check completion date",IF(AND(K19<>"",J19<>"Complete"),"Check completion status",IF(J19="Complete",IF(K19="","Check completion date","Complete"),IF(J19="Not Needed",IF(O19="Required","Check requirement","Not needed"),IF(J19="","Set status",IF(AND(O19="Required",I19=""),"Add due date",IF(J19="Blocked","Blocked - review",IF(AND(I19<>"",I19<TODAY()),"Overdue - review",IF(AND(D19<>"",D19<TODAY()),"Past target - review",IF(AND(I19<>"",I19<=TODAY()+$U$1),"Due soon - review","On track")))))))))))))
N20: =IF(F20="","",IF(OR(L20="",M20=""),"",IFERROR(L20*M20,""))) | P20: =IF(F20="","",IF(AND(C20<>"",D20<>"",D20<C20),"Check target date",IF(AND(I20<>"",C20<>"",I20<C20),"Check due date",IF(AND(K20<>"",C20<>"",K20<C20),"Check completion date",IF(AND(K20<>"",J20<>"Complete"),"Check completion status",IF(J20="Complete",IF(K20="","Check completion date","Complete"),IF(J20="Not Needed",IF(O20="Required","Check requirement","Not needed"),IF(J20="","Set status",IF(AND(O20="Required",I20=""),"Add due date",IF(J20="Blocked","Blocked - review",IF(AND(I20<>"",I20<TODAY()),"Overdue - review",IF(AND(D20<>"",D20<TODAY()),"Past target - review",IF(AND(I20<>"",I20<=TODAY()+$U$1),"Due soon - review","On track")))))))))))))
N21: =IF(F21="","",IF(OR(L21="",M21=""),"",IFERROR(L21*M21,""))) | P21: =IF(F21="","",IF(AND(C21<>"",D21<>"",D21<C21),"Check target date",IF(AND(I21<>"",C21<>"",I21<C21),"Check due date",IF(AND(K21<>"",C21<>"",K21<C21),"Check completion date",IF(AND(K21<>"",J21<>"Complete"),"Check completion status",IF(J21="Complete",IF(K21="","Check completion date","Complete"),IF(J21="Not Needed",IF(O21="Required","Check requirement","Not needed"),IF(J21="","Set status",IF(AND(O21="Required",I21=""),"Add due date",IF(J21="Blocked","Blocked - review",IF(AND(I21<>"",I21<TODAY()),"Overdue - review",IF(AND(D21<>"",D21<TODAY()),"Past target - review",IF(AND(I21<>"",I21<=TODAY()+$U$1),"Due soon - review","On track")))))))))))))
N22: =IF(F22="","",IF(OR(L22="",M22=""),"",IFERROR(L22*M22,""))) | P22: =IF(F22="","",IF(AND(C22<>"",D22<>"",D22<C22),"Check target date",IF(AND(I22<>"",C22<>"",I22<C22),"Check due date",IF(AND(K22<>"",C22<>"",K22<C22),"Check completion date",IF(AND(K22<>"",J22<>"Complete"),"Check completion status",IF(J22="Complete",IF(K22="","Check completion date","Complete"),IF(J22="Not Needed",IF(O22="Required","Check requirement","Not needed"),IF(J22="","Set status",IF(AND(O22="Required",I22=""),"Add due date",IF(J22="Blocked","Blocked - review",IF(AND(I22<>"",I22<TODAY()),"Overdue - review",IF(AND(D22<>"",D22<TODAY()),"Past target - review",IF(AND(I22<>"",I22<=TODAY()+$U$1),"Due soon - review","On track")))))))))))))
N23: =IF(F23="","",IF(OR(L23="",M23=""),"",IFERROR(L23*M23,""))) | P23: =IF(F23="","",IF(AND(C23<>"",D23<>"",D23<C23),"Check target date",IF(AND(I23<>"",C23<>"",I23<C23),"Check due date",IF(AND(K23<>"",C23<>"",K23<C23),"Check completion date",IF(AND(K23<>"",J23<>"Complete"),"Check completion status",IF(J23="Complete",IF(K23="","Check completion date","Complete"),IF(J23="Not Needed",IF(O23="Required","Check requirement","Not needed"),IF(J23="","Set status",IF(AND(O23="Required",I23=""),"Add due date",IF(J23="Blocked","Blocked - review",IF(AND(I23<>"",I23<TODAY()),"Overdue - review",IF(AND(D23<>"",D23<TODAY()),"Past target - review",IF(AND(I23<>"",I23<=TODAY()+$U$1),"Due soon - review","On track")))))))))))))
N24: =IF(F24="","",IF(OR(L24="",M24=""),"",IFERROR(L24*M24,""))) | P24: =IF(F24="","",IF(AND(C24<>"",D24<>"",D24<C24),"Check target date",IF(AND(I24<>"",C24<>"",I24<C24),"Check due date",IF(AND(K24<>"",C24<>"",K24<C24),"Check completion date",IF(AND(K24<>"",J24<>"Complete"),"Check completion status",IF(J24="Complete",IF(K24="","Check completion date","Complete"),IF(J24="Not Needed",IF(O24="Required","Check requirement","Not needed"),IF(J24="","Set status",IF(AND(O24="Required",I24=""),"Add due date",IF(J24="Blocked","Blocked - review",IF(AND(I24<>"",I24<TODAY()),"Overdue - review",IF(AND(D24<>"",D24<TODAY()),"Past target - review",IF(AND(I24<>"",I24<=TODAY()+$U$1),"Due soon - review","On track")))))))))))))
N25: =IF(F25="","",IF(OR(L25="",M25=""),"",IFERROR(L25*M25,""))) | P25: =IF(F25="","",IF(AND(C25<>"",D25<>"",D25<C25),"Check target date",IF(AND(I25<>"",C25<>"",I25<C25),"Check due date",IF(AND(K25<>"",C25<>"",K25<C25),"Check completion date",IF(AND(K25<>"",J25<>"Complete"),"Check completion status",IF(J25="Complete",IF(K25="","Check completion date","Complete"),IF(J25="Not Needed",IF(O25="Required","Check requirement","Not needed"),IF(J25="","Set status",IF(AND(O25="Required",I25=""),"Add due date",IF(J25="Blocked","Blocked - review",IF(AND(I25<>"",I25<TODAY()),"Overdue - review",IF(AND(D25<>"",D25<TODAY()),"Past target - review",IF(AND(I25<>"",I25<=TODAY()+$U$1),"Due soon - review","On track")))))))))))))
N26: =IF(F26="","",IF(OR(L26="",M26=""),"",IFERROR(L26*M26,""))) | P26: =IF(F26="","",IF(AND(C26<>"",D26<>"",D26<C26),"Check target date",IF(AND(I26<>"",C26<>"",I26<C26),"Check due date",IF(AND(K26<>"",C26<>"",K26<C26),"Check completion date",IF(AND(K26<>"",J26<>"Complete"),"Check completion status",IF(J26="Complete",IF(K26="","Check completion date","Complete"),IF(J26="Not Needed",IF(O26="Required","Check requirement","Not needed"),IF(J26="","Set status",IF(AND(O26="Required",I26=""),"Add due date",IF(J26="Blocked","Blocked - review",IF(AND(I26<>"",I26<TODAY()),"Overdue - review",IF(AND(D26<>"",D26<TODAY()),"Past target - review",IF(AND(I26<>"",I26<=TODAY()+$U$1),"Due soon - review","On track")))))))))))))
N27: =IF(F27="","",IF(OR(L27="",M27=""),"",IFERROR(L27*M27,""))) | P27: =IF(F27="","",IF(AND(C27<>"",D27<>"",D27<C27),"Check target date",IF(AND(I27<>"",C27<>"",I27<C27),"Check due date",IF(AND(K27<>"",C27<>"",K27<C27),"Check completion date",IF(AND(K27<>"",J27<>"Complete"),"Check completion status",IF(J27="Complete",IF(K27="","Check completion date","Complete"),IF(J27="Not Needed",IF(O27="Required","Check requirement","Not needed"),IF(J27="","Set status",IF(AND(O27="Required",I27=""),"Add due date",IF(J27="Blocked","Blocked - review",IF(AND(I27<>"",I27<TODAY()),"Overdue - review",IF(AND(D27<>"",D27<TODAY()),"Past target - review",IF(AND(I27<>"",I27<=TODAY()+$U$1),"Due soon - review","On track")))))))))))))
... N124: =IF(F124="","",IF(OR(L124="",M124=""),"",IFERROR(L124*M124,""))) | P124: =IF(F124="","",IF(AND(C124<>"",D124<>"",D124<C124),"Check target date",IF(AND(I124<>"",C124<>"",I124<C124),"Check due date",IF(AND(K124<>"",C124<>"",K124<C124),"Check completion date",IF(AND(K124<>"",J124<>"Complete"),"Check completion status",IF(J124="Complete",IF(K124="","Check completion date","Complete"),IF(J124="Not Needed",IF(O124="Required","Check requirement","Not needed"),IF(J124="","Set status",IF(AND(O124="Required",I124=""),"Add due date",IF(J124="Blocked","Blocked - review",IF(AND(I124<>"",I124<TODAY()),"Overdue - review",IF(AND(D124<>"",D124<TODAY()),"Past target - review",IF(AND(I124<>"",I124<=TODAY()+$U$1),"Due soon - review","On track")))))))))))))

Sheet Assumptions
A1: Checklist Assumptions and Editable Lists
A3: Setting | B3: Value | C3: Use | E3: Task Categories | F3: Responsibilities | G3: Statuses | H3: Requirements
A4: Due-soon horizon (days) | B4: 3 | C4: Used by due-soon alerts and the Summary. | E4: Cleaning | F4: Manager | G4: Planned | H4: Required
A5: Maximum quantity | B5: 1000 | C5: Entry control only; edit for local operating needs. | E5: Repairs | F5: Maintenance | G5: In Progress | H5: Optional
A6: Maximum unit amount | B6: 25000 | C6: Entry control only; not pricing guidance. | E6: Safety Checks | F6: Leasing | G6: Blocked
A7: Earliest allowed date | B7: 44197 | C7: Earliest date accepted in the checklist. | E7: Keys | F7: Vendor | G7: Complete
A8: Latest allowed date | B8: 50040 | C8: Latest date accepted in the checklist. | E8: Utilities | F8: Owner | G8: Not Needed
E9: Listing
E10: Final Review
A12: Yellow cells are editable. Review limits and list choices before using the checklist.
