Workbook

Sheet Summary
A1: Tenant Notice Delivery Log Summary
G3: As of | H3: =TODAY()
B4: Indicator | C4: Calculated Value
B5: Records entered | C5: =COUNTIF('Delivery Log'!$A$5:$A$104,"<>")
B6: Delivery or attempt dates recorded | C6: =COUNT('Delivery Log'!$H$5:$H$104)
B7: Open statuses | C7: =COUNTIF('Delivery Log'!$M$5:$M$104,Assumptions!$D$5)+COUNTIF('Delivery Log'!$M$5:$M$104,Assumptions!$D$6)+COUNTIF('Delivery Log'!$M$5:$M$104,Assumptions!$D$7)+COUNTIF('Delivery Log'!$M$5:$M$104,Assumptions!$D$8)
B8: Review checks | C8: =COUNTIF('Delivery Log'!$O$5:$O$104,"Check:*")
B9: Follow-ups due or soon | C9: =COUNTIF('Delivery Log'!$O$5:$O$104,"Check: follow-up*")
B10: Average nonnegative days from preparation | C10: =IFERROR(SUMIF('Delivery Log'!$N$5:$N$104,">=0",'Delivery Log'!$N$5:$N$104)/COUNTIF('Delivery Log'!$N$5:$N$104,">=0"),"")
B11: Most recent delivery or attempt date | C11: =IF(COUNT('Delivery Log'!$H$5:$H$104)=0,"",MAX('Delivery Log'!$H$5:$H$104))
B13: Status | C13: Record Count
B14: =Assumptions!D5 | C14: =COUNTIF('Delivery Log'!$M$5:$M$104,B14)
B15: =Assumptions!D6 | C15: =COUNTIF('Delivery Log'!$M$5:$M$104,B15)
B16: =Assumptions!D7 | C16: =COUNTIF('Delivery Log'!$M$5:$M$104,B16)
B17: =Assumptions!D8 | C17: =COUNTIF('Delivery Log'!$M$5:$M$104,B17)
B18: =Assumptions!D9 | C18: =COUNTIF('Delivery Log'!$M$5:$M$104,B18)

Sheet Delivery Log
A1: Tenant Notice Delivery Log
A3: Yellow cells are editable. Review alerts are prompts for a human check and do not determine delivery validity or compliance.
A4: Notice ID | B4: Property | C4: Unit | D4: Tenancy Label | E4: Notice Type | F4: Prepared Date | G4: Delivery Method | H4: Delivery / Attempt Date | I4: Delivered By / Vendor | J4: Evidence Description | K4: Follow-Up Date | L4: Responsibility | M4: Status | N4: Days from Preparation | O4: Review Alert
A5: SAMPLE-N-001 | B5: Fictional Cedar Court | C5: FIC-101 | D5: Fictional Aster Household | E5: Routine inspection notice | F5: 46248 | G5: First-class mail | H5: 46249 | I5: Fictional Cedar Office | J5: Fictional mail log reference ML-001 | L5: Property manager | M5: Closed | N5: =IF(OR(F5="",H5=""),"",IFERROR(H5-F5,"")) | O5: =IF(A5="","",IF(COUNTIF($A$5:$A$104,A5)>1,"Check: duplicate ID",IF(OR(B5="",C5="",D5="",E5="",F5="",L5="",M5=""),"Check: missing core field",IF(AND(H5<>"",F5<>"",H5<F5),"Check: date order",IF(AND(M5=Assumptions!$D$7,H5=""),"Check: add delivery date",IF(AND(H5<>"",G5=""),"Check: add delivery method",IF(AND(H5<>"",J5=""),"Check: add evidence",IF(AND(K5<>"",K5<TODAY(),M5<>Assumptions!$D$9),"Check: follow-up overdue",IF(IFERROR(AND(K5<>"",K5>=TODAY(),K5<=TODAY()+Assumptions!$G$5,M5<>Assumptions!$D$9),FALSE),"Check: follow-up soon","")))))))))
A6: SAMPLE-N-002 | B6: Imaginary Harbor Flats | C6: FIC-204 | D6: Fictional Birch Household | E6: Maintenance access notice | F6: 46262 | G6: Hand delivery | H6: 46262 | I6: Fictional Rowan Staff Member | J6: Fictional signed delivery note EV-002 | L6: Site staff | M6: Delivered | N6: =IF(OR(F6="",H6=""),"",IFERROR(H6-F6,"")) | O6: =IF(A6="","",IF(COUNTIF($A$5:$A$104,A6)>1,"Check: duplicate ID",IF(OR(B6="",C6="",D6="",E6="",F6="",L6="",M6=""),"Check: missing core field",IF(AND(H6<>"",F6<>"",H6<F6),"Check: date order",IF(AND(M6=Assumptions!$D$7,H6=""),"Check: add delivery date",IF(AND(H6<>"",G6=""),"Check: add delivery method",IF(AND(H6<>"",J6=""),"Check: add evidence",IF(AND(K6<>"",K6<TODAY(),M6<>Assumptions!$D$9),"Check: follow-up overdue",IF(IFERROR(AND(K6<>"",K6>=TODAY(),K6<=TODAY()+Assumptions!$G$5,M6<>Assumptions!$D$9),FALSE),"Check: follow-up soon","")))))))))
A7: SAMPLE-N-003 | B7: Sample Juniper Homes | C7: FIC-3A | D7: Fictional Clover Household | E7: Lease renewal reminder | F7: 46272 | K7: 46278 | L7: Property manager | M7: Prepared | N7: =IF(OR(F7="",H7=""),"",IFERROR(H7-F7,"")) | O7: =IF(A7="","",IF(COUNTIF($A$5:$A$104,A7)>1,"Check: duplicate ID",IF(OR(B7="",C7="",D7="",E7="",F7="",L7="",M7=""),"Check: missing core field",IF(AND(H7<>"",F7<>"",H7<F7),"Check: date order",IF(AND(M7=Assumptions!$D$7,H7=""),"Check: add delivery date",IF(AND(H7<>"",G7=""),"Check: add delivery method",IF(AND(H7<>"",J7=""),"Check: add evidence",IF(AND(K7<>"",K7<TODAY(),M7<>Assumptions!$D$9),"Check: follow-up overdue",IF(IFERROR(AND(K7<>"",K7>=TODAY(),K7<=TODAY()+Assumptions!$G$5,M7<>Assumptions!$D$9),FALSE),"Check: follow-up soon","")))))))))
A8: SAMPLE-N-004 | B8: Fictional Cedar Court | C8: FIC-108 | D8: Fictional Dune Household | E8: Community policy reminder | F8: 46266 | G8: Door posting | H8: 46267 | I8: Fictional Cedar Office | J8: Fictional attempt note EV-004 | K8: 46275 | L8: Site staff | M8: Delivery attempted | N8: =IF(OR(F8="",H8=""),"",IFERROR(H8-F8,"")) | O8: =IF(A8="","",IF(COUNTIF($A$5:$A$104,A8)>1,"Check: duplicate ID",IF(OR(B8="",C8="",D8="",E8="",F8="",L8="",M8=""),"Check: missing core field",IF(AND(H8<>"",F8<>"",H8<F8),"Check: date order",IF(AND(M8=Assumptions!$D$7,H8=""),"Check: add delivery date",IF(AND(H8<>"",G8=""),"Check: add delivery method",IF(AND(H8<>"",J8=""),"Check: add evidence",IF(AND(K8<>"",K8<TODAY(),M8<>Assumptions!$D$9),"Check: follow-up overdue",IF(IFERROR(AND(K8<>"",K8>=TODAY(),K8<=TODAY()+Assumptions!$G$5,M8<>Assumptions!$D$9),FALSE),"Check: follow-up soon","")))))))))
A9: SAMPLE-N-005 | B9: Imaginary Harbor Flats | C9: FIC-311 | D9: Fictional Elm Household | E9: Balance reminder | F9: 46256 | G9: Certified mail | H9: 46258 | I9: Fictional Northwind Courier | L9: Third-party courier | M9: Delivered | N9: =IF(OR(F9="",H9=""),"",IFERROR(H9-F9,"")) | O9: =IF(A9="","",IF(COUNTIF($A$5:$A$104,A9)>1,"Check: duplicate ID",IF(OR(B9="",C9="",D9="",E9="",F9="",L9="",M9=""),"Check: missing core field",IF(AND(H9<>"",F9<>"",H9<F9),"Check: date order",IF(AND(M9=Assumptions!$D$7,H9=""),"Check: add delivery date",IF(AND(H9<>"",G9=""),"Check: add delivery method",IF(AND(H9<>"",J9=""),"Check: add evidence",IF(AND(K9<>"",K9<TODAY(),M9<>Assumptions!$D$9),"Check: follow-up overdue",IF(IFERROR(AND(K9<>"",K9>=TODAY(),K9<=TODAY()+Assumptions!$G$5,M9<>Assumptions!$D$9),FALSE),"Check: follow-up soon","")))))))))
A10: SAMPLE-N-006 | B10: Sample Juniper Homes | C10: FIC-4B | D10: Fictional Fern Household | E10: Parking reminder | F10: 46269 | G10: Hand delivery | H10: 46268 | I10: Fictional Marigold Staff Member | J10: Fictional hand-delivery note EV-006 | L10: Site staff | M10: Delivered | N10: =IF(OR(F10="",H10=""),"",IFERROR(H10-F10,"")) | O10: =IF(A10="","",IF(COUNTIF($A$5:$A$104,A10)>1,"Check: duplicate ID",IF(OR(B10="",C10="",D10="",E10="",F10="",L10="",M10=""),"Check: missing core field",IF(AND(H10<>"",F10<>"",H10<F10),"Check: date order",IF(AND(M10=Assumptions!$D$7,H10=""),"Check: add delivery date",IF(AND(H10<>"",G10=""),"Check: add delivery method",IF(AND(H10<>"",J10=""),"Check: add evidence",IF(AND(K10<>"",K10<TODAY(),M10<>Assumptions!$D$9),"Check: follow-up overdue",IF(IFERROR(AND(K10<>"",K10>=TODAY(),K10<=TODAY()+Assumptions!$G$5,M10<>Assumptions!$D$9),FALSE),"Check: follow-up soon","")))))))))
A11: SAMPLE-N-007 | B11: Fictional Cedar Court | C11: FIC-115 | D11: Fictional Grove Household | E11: Other manager-prepared notice | F11: 46274 | K11: 46290 | L11: Owner representative | M11: Prepared | N11: =IF(OR(F11="",H11=""),"",IFERROR(H11-F11,"")) | O11: =IF(A11="","",IF(COUNTIF($A$5:$A$104,A11)>1,"Check: duplicate ID",IF(OR(B11="",C11="",D11="",E11="",F11="",L11="",M11=""),"Check: missing core field",IF(AND(H11<>"",F11<>"",H11<F11),"Check: date order",IF(AND(M11=Assumptions!$D$7,H11=""),"Check: add delivery date",IF(AND(H11<>"",G11=""),"Check: add delivery method",IF(AND(H11<>"",J11=""),"Check: add evidence",IF(AND(K11<>"",K11<TODAY(),M11<>Assumptions!$D$9),"Check: follow-up overdue",IF(IFERROR(AND(K11<>"",K11>=TODAY(),K11<=TODAY()+Assumptions!$G$5,M11<>Assumptions!$D$9),FALSE),"Check: follow-up soon","")))))))))
A12: SAMPLE-N-008 | B12: Imaginary Harbor Flats | C12: FIC-407 | D12: Fictional Hazel Household | E12: Nonrenewal notice record | F12: 46267 | G12: Certified mail | H12: 46269 | I12: Fictional Northwind Courier | J12: Fictional mailing receipt EV-008 | K12: 46276 | L12: Property manager | M12: Follow-up pending | N12: =IF(OR(F12="",H12=""),"",IFERROR(H12-F12,"")) | O12: =IF(A12="","",IF(COUNTIF($A$5:$A$104,A12)>1,"Check: duplicate ID",IF(OR(B12="",C12="",D12="",E12="",F12="",L12="",M12=""),"Check: missing core field",IF(AND(H12<>"",F12<>"",H12<F12),"Check: date order",IF(AND(M12=Assumptions!$D$7,H12=""),"Check: add delivery date",IF(AND(H12<>"",G12=""),"Check: add delivery method",IF(AND(H12<>"",J12=""),"Check: add evidence",IF(AND(K12<>"",K12<TODAY(),M12<>Assumptions!$D$9),"Check: follow-up overdue",IF(IFERROR(AND(K12<>"",K12>=TODAY(),K12<=TODAY()+Assumptions!$G$5,M12<>Assumptions!$D$9),FALSE),"Check: follow-up soon","")))))))))
A13: SAMPLE-N-009 | B13: Sample Juniper Homes | C13: FIC-5C | D13: Fictional Indigo Household | E13: Routine inspection notice | F13: 46231 | G13: Email copy | H13: 46232 | I13: Fictional Juniper Office | J13: Fictional sent-copy reference EV-009 | L13: Property manager | M13: Closed | N13: =IF(OR(F13="",H13=""),"",IFERROR(H13-F13,"")) | O13: =IF(A13="","",IF(COUNTIF($A$5:$A$104,A13)>1,"Check: duplicate ID",IF(OR(B13="",C13="",D13="",E13="",F13="",L13="",M13=""),"Check: missing core field",IF(AND(H13<>"",F13<>"",H13<F13),"Check: date order",IF(AND(M13=Assumptions!$D$7,H13=""),"Check: add delivery date",IF(AND(H13<>"",G13=""),"Check: add delivery method",IF(AND(H13<>"",J13=""),"Check: add evidence",IF(AND(K13<>"",K13<TODAY(),M13<>Assumptions!$D$9),"Check: follow-up overdue",IF(IFERROR(AND(K13<>"",K13>=TODAY(),K13<=TODAY()+Assumptions!$G$5,M13<>Assumptions!$D$9),FALSE),"Check: follow-up soon","")))))))))
A14: SAMPLE-N-010 | B14: Fictional Cedar Court | C14: FIC-122 | D14: Fictional Lark Household | E14: Maintenance access notice | F14: 46275 | G14: Courier | H14: 46276 | I14: Fictional Bluebird Courier | J14: Fictional courier receipt EV-010 | K14: 46283 | L14: Other | M14: Delivered | N14: =IF(OR(F14="",H14=""),"",IFERROR(H14-F14,"")) | O14: =IF(A14="","",IF(COUNTIF($A$5:$A$104,A14)>1,"Check: duplicate ID",IF(OR(B14="",C14="",D14="",E14="",F14="",L14="",M14=""),"Check: missing core field",IF(AND(H14<>"",F14<>"",H14<F14),"Check: date order",IF(AND(M14=Assumptions!$D$7,H14=""),"Check: add delivery date",IF(AND(H14<>"",G14=""),"Check: add delivery method",IF(AND(H14<>"",J14=""),"Check: add evidence",IF(AND(K14<>"",K14<TODAY(),M14<>Assumptions!$D$9),"Check: follow-up overdue",IF(IFERROR(AND(K14<>"",K14>=TODAY(),K14<=TODAY()+Assumptions!$G$5,M14<>Assumptions!$D$9),FALSE),"Check: follow-up soon","")))))))))
N15: =IF(OR(F15="",H15=""),"",IFERROR(H15-F15,"")) | O15: =IF(A15="","",IF(COUNTIF($A$5:$A$104,A15)>1,"Check: duplicate ID",IF(OR(B15="",C15="",D15="",E15="",F15="",L15="",M15=""),"Check: missing core field",IF(AND(H15<>"",F15<>"",H15<F15),"Check: date order",IF(AND(M15=Assumptions!$D$7,H15=""),"Check: add delivery date",IF(AND(H15<>"",G15=""),"Check: add delivery method",IF(AND(H15<>"",J15=""),"Check: add evidence",IF(AND(K15<>"",K15<TODAY(),M15<>Assumptions!$D$9),"Check: follow-up overdue",IF(IFERROR(AND(K15<>"",K15>=TODAY(),K15<=TODAY()+Assumptions!$G$5,M15<>Assumptions!$D$9),FALSE),"Check: follow-up soon","")))))))))
N16: =IF(OR(F16="",H16=""),"",IFERROR(H16-F16,"")) | O16: =IF(A16="","",IF(COUNTIF($A$5:$A$104,A16)>1,"Check: duplicate ID",IF(OR(B16="",C16="",D16="",E16="",F16="",L16="",M16=""),"Check: missing core field",IF(AND(H16<>"",F16<>"",H16<F16),"Check: date order",IF(AND(M16=Assumptions!$D$7,H16=""),"Check: add delivery date",IF(AND(H16<>"",G16=""),"Check: add delivery method",IF(AND(H16<>"",J16=""),"Check: add evidence",IF(AND(K16<>"",K16<TODAY(),M16<>Assumptions!$D$9),"Check: follow-up overdue",IF(IFERROR(AND(K16<>"",K16>=TODAY(),K16<=TODAY()+Assumptions!$G$5,M16<>Assumptions!$D$9),FALSE),"Check: follow-up soon","")))))))))
N17: =IF(OR(F17="",H17=""),"",IFERROR(H17-F17,"")) | O17: =IF(A17="","",IF(COUNTIF($A$5:$A$104,A17)>1,"Check: duplicate ID",IF(OR(B17="",C17="",D17="",E17="",F17="",L17="",M17=""),"Check: missing core field",IF(AND(H17<>"",F17<>"",H17<F17),"Check: date order",IF(AND(M17=Assumptions!$D$7,H17=""),"Check: add delivery date",IF(AND(H17<>"",G17=""),"Check: add delivery method",IF(AND(H17<>"",J17=""),"Check: add evidence",IF(AND(K17<>"",K17<TODAY(),M17<>Assumptions!$D$9),"Check: follow-up overdue",IF(IFERROR(AND(K17<>"",K17>=TODAY(),K17<=TODAY()+Assumptions!$G$5,M17<>Assumptions!$D$9),FALSE),"Check: follow-up soon","")))))))))
N18: =IF(OR(F18="",H18=""),"",IFERROR(H18-F18,"")) | O18: =IF(A18="","",IF(COUNTIF($A$5:$A$104,A18)>1,"Check: duplicate ID",IF(OR(B18="",C18="",D18="",E18="",F18="",L18="",M18=""),"Check: missing core field",IF(AND(H18<>"",F18<>"",H18<F18),"Check: date order",IF(AND(M18=Assumptions!$D$7,H18=""),"Check: add delivery date",IF(AND(H18<>"",G18=""),"Check: add delivery method",IF(AND(H18<>"",J18=""),"Check: add evidence",IF(AND(K18<>"",K18<TODAY(),M18<>Assumptions!$D$9),"Check: follow-up overdue",IF(IFERROR(AND(K18<>"",K18>=TODAY(),K18<=TODAY()+Assumptions!$G$5,M18<>Assumptions!$D$9),FALSE),"Check: follow-up soon","")))))))))
N19: =IF(OR(F19="",H19=""),"",IFERROR(H19-F19,"")) | O19: =IF(A19="","",IF(COUNTIF($A$5:$A$104,A19)>1,"Check: duplicate ID",IF(OR(B19="",C19="",D19="",E19="",F19="",L19="",M19=""),"Check: missing core field",IF(AND(H19<>"",F19<>"",H19<F19),"Check: date order",IF(AND(M19=Assumptions!$D$7,H19=""),"Check: add delivery date",IF(AND(H19<>"",G19=""),"Check: add delivery method",IF(AND(H19<>"",J19=""),"Check: add evidence",IF(AND(K19<>"",K19<TODAY(),M19<>Assumptions!$D$9),"Check: follow-up overdue",IF(IFERROR(AND(K19<>"",K19>=TODAY(),K19<=TODAY()+Assumptions!$G$5,M19<>Assumptions!$D$9),FALSE),"Check: follow-up soon","")))))))))
N20: =IF(OR(F20="",H20=""),"",IFERROR(H20-F20,"")) | O20: =IF(A20="","",IF(COUNTIF($A$5:$A$104,A20)>1,"Check: duplicate ID",IF(OR(B20="",C20="",D20="",E20="",F20="",L20="",M20=""),"Check: missing core field",IF(AND(H20<>"",F20<>"",H20<F20),"Check: date order",IF(AND(M20=Assumptions!$D$7,H20=""),"Check: add delivery date",IF(AND(H20<>"",G20=""),"Check: add delivery method",IF(AND(H20<>"",J20=""),"Check: add evidence",IF(AND(K20<>"",K20<TODAY(),M20<>Assumptions!$D$9),"Check: follow-up overdue",IF(IFERROR(AND(K20<>"",K20>=TODAY(),K20<=TODAY()+Assumptions!$G$5,M20<>Assumptions!$D$9),FALSE),"Check: follow-up soon","")))))))))
N21: =IF(OR(F21="",H21=""),"",IFERROR(H21-F21,"")) | O21: =IF(A21="","",IF(COUNTIF($A$5:$A$104,A21)>1,"Check: duplicate ID",IF(OR(B21="",C21="",D21="",E21="",F21="",L21="",M21=""),"Check: missing core field",IF(AND(H21<>"",F21<>"",H21<F21),"Check: date order",IF(AND(M21=Assumptions!$D$7,H21=""),"Check: add delivery date",IF(AND(H21<>"",G21=""),"Check: add delivery method",IF(AND(H21<>"",J21=""),"Check: add evidence",IF(AND(K21<>"",K21<TODAY(),M21<>Assumptions!$D$9),"Check: follow-up overdue",IF(IFERROR(AND(K21<>"",K21>=TODAY(),K21<=TODAY()+Assumptions!$G$5,M21<>Assumptions!$D$9),FALSE),"Check: follow-up soon","")))))))))
N22: =IF(OR(F22="",H22=""),"",IFERROR(H22-F22,"")) | O22: =IF(A22="","",IF(COUNTIF($A$5:$A$104,A22)>1,"Check: duplicate ID",IF(OR(B22="",C22="",D22="",E22="",F22="",L22="",M22=""),"Check: missing core field",IF(AND(H22<>"",F22<>"",H22<F22),"Check: date order",IF(AND(M22=Assumptions!$D$7,H22=""),"Check: add delivery date",IF(AND(H22<>"",G22=""),"Check: add delivery method",IF(AND(H22<>"",J22=""),"Check: add evidence",IF(AND(K22<>"",K22<TODAY(),M22<>Assumptions!$D$9),"Check: follow-up overdue",IF(IFERROR(AND(K22<>"",K22>=TODAY(),K22<=TODAY()+Assumptions!$G$5,M22<>Assumptions!$D$9),FALSE),"Check: follow-up soon","")))))))))
N23: =IF(OR(F23="",H23=""),"",IFERROR(H23-F23,"")) | O23: =IF(A23="","",IF(COUNTIF($A$5:$A$104,A23)>1,"Check: duplicate ID",IF(OR(B23="",C23="",D23="",E23="",F23="",L23="",M23=""),"Check: missing core field",IF(AND(H23<>"",F23<>"",H23<F23),"Check: date order",IF(AND(M23=Assumptions!$D$7,H23=""),"Check: add delivery date",IF(AND(H23<>"",G23=""),"Check: add delivery method",IF(AND(H23<>"",J23=""),"Check: add evidence",IF(AND(K23<>"",K23<TODAY(),M23<>Assumptions!$D$9),"Check: follow-up overdue",IF(IFERROR(AND(K23<>"",K23>=TODAY(),K23<=TODAY()+Assumptions!$G$5,M23<>Assumptions!$D$9),FALSE),"Check: follow-up soon","")))))))))
N24: =IF(OR(F24="",H24=""),"",IFERROR(H24-F24,"")) | O24: =IF(A24="","",IF(COUNTIF($A$5:$A$104,A24)>1,"Check: duplicate ID",IF(OR(B24="",C24="",D24="",E24="",F24="",L24="",M24=""),"Check: missing core field",IF(AND(H24<>"",F24<>"",H24<F24),"Check: date order",IF(AND(M24=Assumptions!$D$7,H24=""),"Check: add delivery date",IF(AND(H24<>"",G24=""),"Check: add delivery method",IF(AND(H24<>"",J24=""),"Check: add evidence",IF(AND(K24<>"",K24<TODAY(),M24<>Assumptions!$D$9),"Check: follow-up overdue",IF(IFERROR(AND(K24<>"",K24>=TODAY(),K24<=TODAY()+Assumptions!$G$5,M24<>Assumptions!$D$9),FALSE),"Check: follow-up soon","")))))))))
N25: =IF(OR(F25="",H25=""),"",IFERROR(H25-F25,"")) | O25: =IF(A25="","",IF(COUNTIF($A$5:$A$104,A25)>1,"Check: duplicate ID",IF(OR(B25="",C25="",D25="",E25="",F25="",L25="",M25=""),"Check: missing core field",IF(AND(H25<>"",F25<>"",H25<F25),"Check: date order",IF(AND(M25=Assumptions!$D$7,H25=""),"Check: add delivery date",IF(AND(H25<>"",G25=""),"Check: add delivery method",IF(AND(H25<>"",J25=""),"Check: add evidence",IF(AND(K25<>"",K25<TODAY(),M25<>Assumptions!$D$9),"Check: follow-up overdue",IF(IFERROR(AND(K25<>"",K25>=TODAY(),K25<=TODAY()+Assumptions!$G$5,M25<>Assumptions!$D$9),FALSE),"Check: follow-up soon","")))))))))
N26: =IF(OR(F26="",H26=""),"",IFERROR(H26-F26,"")) | O26: =IF(A26="","",IF(COUNTIF($A$5:$A$104,A26)>1,"Check: duplicate ID",IF(OR(B26="",C26="",D26="",E26="",F26="",L26="",M26=""),"Check: missing core field",IF(AND(H26<>"",F26<>"",H26<F26),"Check: date order",IF(AND(M26=Assumptions!$D$7,H26=""),"Check: add delivery date",IF(AND(H26<>"",G26=""),"Check: add delivery method",IF(AND(H26<>"",J26=""),"Check: add evidence",IF(AND(K26<>"",K26<TODAY(),M26<>Assumptions!$D$9),"Check: follow-up overdue",IF(IFERROR(AND(K26<>"",K26>=TODAY(),K26<=TODAY()+Assumptions!$G$5,M26<>Assumptions!$D$9),FALSE),"Check: follow-up soon","")))))))))
... N104: =IF(OR(F104="",H104=""),"",IFERROR(H104-F104,"")) | O104: =IF(A104="","",IF(COUNTIF($A$5:$A$104,A104)>1,"Check: duplicate ID",IF(OR(B104="",C104="",D104="",E104="",F104="",L104="",M104=""),"Check: missing core field",IF(AND(H104<>"",F104<>"",H104<F104),"Check: date order",IF(AND(M104=Assumptions!$D$7,H104=""),"Check: add delivery date",IF(AND(H104<>"",G104=""),"Check: add delivery method",IF(AND(H104<>"",J104=""),"Check: add evidence",IF(AND(K104<>"",K104<TODAY(),M104<>Assumptions!$D$9),"Check: follow-up overdue",IF(IFERROR(AND(K104<>"",K104>=TODAY(),K104<=TODAY()+Assumptions!$G$5,M104<>Assumptions!$D$9),FALSE),"Check: follow-up soon","")))))))))

Sheet Assumptions
A1: Assumptions and Editable Lists
A3: These are recordkeeping choices only. Edit or extend highlighted lists and confirm applicable notice and delivery requirements separately.
A4: Notice Types | B4: Delivery Methods | C4: Responsibility Options | D4: Statuses | F4: Review Setting | G4: Value
A5: Maintenance access notice | B5: Hand delivery | C5: Property manager | D5: Prepared | F5: Due-soon window (days) | G5: 3
A6: Routine inspection notice | B6: First-class mail | C6: Site staff | D6: Delivery attempted
A7: Lease renewal reminder | B7: Certified mail | C7: Third-party courier | D7: Delivered
A8: Community policy reminder | B8: Door posting | C8: Owner representative | D8: Follow-up pending
A9: Balance reminder | B9: Email copy | C9: Other | D9: Closed
A10: Parking reminder | B10: Courier
A11: Nonrenewal notice record | B11: Other
A12: Other manager-prepared notice
