Workbook

Sheet Summary
A1: Tenant Portal Access Tracker Summary
A2: Calculated from entered records only | B2: =TODAY()
A3: Key indicators
A4: Access records | C4: Active, no open task | E4: Invitations pending | G4: Follow-up alerts
A5: =COUNTIF('Access Tracker'!$A$6:$A$105,"?*") | C5: =COUNTIF('Access Tracker'!$P$6:$P$105,"Active") | E5: =COUNTIF('Access Tracker'!$P$6:$P$105,"Invitation pending") | G5: =COUNTIF('Access Tracker'!$Q$6:$Q$105,"?*")
A7: Open issues | C7: Resets pending | E7: Deactivation due | G7: Entered activation rate
A8: =COUNTIFS('Access Tracker'!$I$6:$I$105,"<>",'Access Tracker'!$K$6:$K$105,"") | C8: =COUNTIFS('Access Tracker'!$L$6:$L$105,"<>",'Access Tracker'!$M$6:$M$105,"") | E8: =COUNTIF('Access Tracker'!$P$6:$P$105,"Deactivation due") | G8: =IFERROR(IF(COUNT('Access Tracker'!$F$6:$F$105)=0,"",COUNT('Access Tracker'!$G$6:$G$105)/COUNT('Access Tracker'!$F$6:$F$105)),"")
A9: Average activation days | C9: Records needing review | E9: Current or future tenancies | G9: Deactivated records
A10: =IFERROR(AVERAGE('Access Tracker'!$R$6:$R$105),"") | C10: =COUNTIF('Access Tracker'!$P$6:$P$105,"Check dates")+COUNTIF('Access Tracker'!$P$6:$P$105,"Missing key fields")+COUNTIF('Access Tracker'!$P$6:$P$105,"Duplicate record ID")+COUNTIF('Access Tracker'!$P$6:$P$105,"Missing issue detail") | E10: =COUNTIF('Access Tracker'!$E$6:$E$105,"Current")+COUNTIF('Access Tracker'!$E$6:$E$105,"Future") | G10: =COUNTIF('Access Tracker'!$P$6:$P$105,"Deactivated")
A11: Workflow status distribution
A12: Status | B12: Records
A13: Not invited | B13: =COUNTIF('Access Tracker'!$P$6:$P$105,A13)
A14: Invitation pending | B14: =COUNTIF('Access Tracker'!$P$6:$P$105,A14)
A15: Active | B15: =COUNTIF('Access Tracker'!$P$6:$P$105,A15)
A16: Issue open | B16: =COUNTIF('Access Tracker'!$P$6:$P$105,A16)
A17: Reset pending | B17: =COUNTIF('Access Tracker'!$P$6:$P$105,A17)
A18: Deactivation due | B18: =COUNTIF('Access Tracker'!$P$6:$P$105,A18)
A19: Deactivated | B19: =COUNTIF('Access Tracker'!$P$6:$P$105,A19)

Sheet Access Tracker
A1: Tenant Portal Access Tracker
A2: Allowed input dates | B2: =Assumptions!$B$8 | C2: through | D2: =Assumptions!$B$9 | E2: Dates and access confirmations are manually entered. | S2: =Assumptions!$D$4
A3: Yellow cells are editable. Formula alerts identify records for human review. | S3: =Assumptions!$D$5
S4: =Assumptions!$D$6
A5: Access Record ID | B5: Property | C5: Unit | D5: Tenant Reference | E5: Tenancy Status | F5: Invitation Date | G5: Activation Date | H5: Last Access Confirmed Date | I5: Issue Opened Date | J5: Issue Description | K5: Issue Resolved Date | L5: Reset Requested Date | M5: Reset Completed Date | N5: Deactivation Date | O5: Responsibility | P5: Access Status | Q5: Follow-Up Alert | R5: Activation Days
A6: DEMO-PA-001 | B6: Fictional Maple Court | C6: Demo A-01 | D6: Example Tenant 01 (Fictional) | E6: Current | F6: 46256 | G6: 46257 | H6: 46274 | O6: Tenant | P6: =IF(COUNTA(A6:O6)=0,"",IFERROR(IF(OR(A6="",B6="",C6="",D6="",E6="",O6=""),"Missing key fields",IF(COUNTIF($A$6:$A$105,A6)>1,"Duplicate record ID",IF(AND(I6<>"",J6=""),"Missing issue detail",IF(OR(AND(F6="",G6<>""),AND(F6<>"",G6<>"",G6<F6),AND(G6="",H6<>""),AND(G6<>"",H6<>"",H6<G6),AND(I6="",K6<>""),AND(I6<>"",K6<>"",K6<I6),AND(L6="",M6<>""),AND(L6<>"",M6<>"",M6<L6),AND(G6="",N6<>""),AND(G6<>"",N6<>"",N6<G6)),"Check dates",IF(N6<>"","Deactivated",IF(AND(E6="Former",OR(F6<>"",G6<>"",H6<>"",I6<>"",J6<>"",K6<>"",L6<>"",M6<>"")),"Deactivation due",IF(AND(L6<>"",M6=""),"Reset pending",IF(AND(I6<>"",K6=""),"Issue open",IF(G6<>"","Active",IF(F6<>"","Invitation pending","Not invited")))))))))),"Check dates")) | Q6: =IF(COUNTA(A6:O6)=0,"",IFERROR(IF(OR(P6="Check dates",P6="Missing key fields",P6="Duplicate record ID",P6="Missing issue detail"),"Review record",IF(P6="Deactivation due","Deactivate access",IF(AND(P6="Reset pending",TODAY()-L6>=Assumptions!$B$6),"Review reset",IF(AND(P6="Issue open",TODAY()-I6>=Assumptions!$B$5),"Review open issue",IF(AND(P6="Invitation pending",TODAY()-F6>=Assumptions!$B$4),"Follow up on activation",IF(AND(P6="Not invited",E6="Current"),"Send invitation",IF(AND(P6="Active",OR(H6="",TODAY()-H6>=Assumptions!$B$7)),"Confirm access",""))))))),"Review record")) | R6: =IF(COUNTA(A6:O6)=0,"",IF(OR(F6="",G6="",G6<F6),"",IFERROR(G6-F6,""))) | S6: =Assumptions!$F$4
A7: DEMO-PA-002 | B7: Fictional Maple Court | C7: Demo A-02 | D7: Example Tenant 02 (Fictional) | E7: Current | F7: 46273 | O7: Property Staff | P7: =IF(COUNTA(A7:O7)=0,"",IFERROR(IF(OR(A7="",B7="",C7="",D7="",E7="",O7=""),"Missing key fields",IF(COUNTIF($A$6:$A$105,A7)>1,"Duplicate record ID",IF(AND(I7<>"",J7=""),"Missing issue detail",IF(OR(AND(F7="",G7<>""),AND(F7<>"",G7<>"",G7<F7),AND(G7="",H7<>""),AND(G7<>"",H7<>"",H7<G7),AND(I7="",K7<>""),AND(I7<>"",K7<>"",K7<I7),AND(L7="",M7<>""),AND(L7<>"",M7<>"",M7<L7),AND(G7="",N7<>""),AND(G7<>"",N7<>"",N7<G7)),"Check dates",IF(N7<>"","Deactivated",IF(AND(E7="Former",OR(F7<>"",G7<>"",H7<>"",I7<>"",J7<>"",K7<>"",L7<>"",M7<>"")),"Deactivation due",IF(AND(L7<>"",M7=""),"Reset pending",IF(AND(I7<>"",K7=""),"Issue open",IF(G7<>"","Active",IF(F7<>"","Invitation pending","Not invited")))))))))),"Check dates")) | Q7: =IF(COUNTA(A7:O7)=0,"",IFERROR(IF(OR(P7="Check dates",P7="Missing key fields",P7="Duplicate record ID",P7="Missing issue detail"),"Review record",IF(P7="Deactivation due","Deactivate access",IF(AND(P7="Reset pending",TODAY()-L7>=Assumptions!$B$6),"Review reset",IF(AND(P7="Issue open",TODAY()-I7>=Assumptions!$B$5),"Review open issue",IF(AND(P7="Invitation pending",TODAY()-F7>=Assumptions!$B$4),"Follow up on activation",IF(AND(P7="Not invited",E7="Current"),"Send invitation",IF(AND(P7="Active",OR(H7="",TODAY()-H7>=Assumptions!$B$7)),"Confirm access",""))))))),"Review record")) | R7: =IF(COUNTA(A7:O7)=0,"",IF(OR(F7="",G7="",G7<F7),"",IFERROR(G7-F7,""))) | S7: =Assumptions!$F$5
A8: DEMO-PA-003 | B8: Fictional Cedar House | C8: Demo C-11 | D8: Example Tenant 03 (Fictional) | E8: Current | F8: 46246 | G8: 46247 | H8: 46266 | I8: 46274 | J8: Fictional report: repeated sign-in loop. | O8: Portal Provider | P8: =IF(COUNTA(A8:O8)=0,"",IFERROR(IF(OR(A8="",B8="",C8="",D8="",E8="",O8=""),"Missing key fields",IF(COUNTIF($A$6:$A$105,A8)>1,"Duplicate record ID",IF(AND(I8<>"",J8=""),"Missing issue detail",IF(OR(AND(F8="",G8<>""),AND(F8<>"",G8<>"",G8<F8),AND(G8="",H8<>""),AND(G8<>"",H8<>"",H8<G8),AND(I8="",K8<>""),AND(I8<>"",K8<>"",K8<I8),AND(L8="",M8<>""),AND(L8<>"",M8<>"",M8<L8),AND(G8="",N8<>""),AND(G8<>"",N8<>"",N8<G8)),"Check dates",IF(N8<>"","Deactivated",IF(AND(E8="Former",OR(F8<>"",G8<>"",H8<>"",I8<>"",J8<>"",K8<>"",L8<>"",M8<>"")),"Deactivation due",IF(AND(L8<>"",M8=""),"Reset pending",IF(AND(I8<>"",K8=""),"Issue open",IF(G8<>"","Active",IF(F8<>"","Invitation pending","Not invited")))))))))),"Check dates")) | Q8: =IF(COUNTA(A8:O8)=0,"",IFERROR(IF(OR(P8="Check dates",P8="Missing key fields",P8="Duplicate record ID",P8="Missing issue detail"),"Review record",IF(P8="Deactivation due","Deactivate access",IF(AND(P8="Reset pending",TODAY()-L8>=Assumptions!$B$6),"Review reset",IF(AND(P8="Issue open",TODAY()-I8>=Assumptions!$B$5),"Review open issue",IF(AND(P8="Invitation pending",TODAY()-F8>=Assumptions!$B$4),"Follow up on activation",IF(AND(P8="Not invited",E8="Current"),"Send invitation",IF(AND(P8="Active",OR(H8="",TODAY()-H8>=Assumptions!$B$7)),"Confirm access",""))))))),"Review record")) | R8: =IF(COUNTA(A8:O8)=0,"",IF(OR(F8="",G8="",G8<F8),"",IFERROR(G8-F8,""))) | S8: =Assumptions!$F$6
A9: DEMO-PA-004 | B9: Fictional Cedar House | C9: Demo C-12 | D9: Example Tenant 04 (Fictional) | E9: Current | F9: 46216 | G9: 46217 | H9: 46271 | I9: 46275 | J9: Fictional report: password reset is still pending. | L9: 46275 | O9: Joint Review | P9: =IF(COUNTA(A9:O9)=0,"",IFERROR(IF(OR(A9="",B9="",C9="",D9="",E9="",O9=""),"Missing key fields",IF(COUNTIF($A$6:$A$105,A9)>1,"Duplicate record ID",IF(AND(I9<>"",J9=""),"Missing issue detail",IF(OR(AND(F9="",G9<>""),AND(F9<>"",G9<>"",G9<F9),AND(G9="",H9<>""),AND(G9<>"",H9<>"",H9<G9),AND(I9="",K9<>""),AND(I9<>"",K9<>"",K9<I9),AND(L9="",M9<>""),AND(L9<>"",M9<>"",M9<L9),AND(G9="",N9<>""),AND(G9<>"",N9<>"",N9<G9)),"Check dates",IF(N9<>"","Deactivated",IF(AND(E9="Former",OR(F9<>"",G9<>"",H9<>"",I9<>"",J9<>"",K9<>"",L9<>"",M9<>"")),"Deactivation due",IF(AND(L9<>"",M9=""),"Reset pending",IF(AND(I9<>"",K9=""),"Issue open",IF(G9<>"","Active",IF(F9<>"","Invitation pending","Not invited")))))))))),"Check dates")) | Q9: =IF(COUNTA(A9:O9)=0,"",IFERROR(IF(OR(P9="Check dates",P9="Missing key fields",P9="Duplicate record ID",P9="Missing issue detail"),"Review record",IF(P9="Deactivation due","Deactivate access",IF(AND(P9="Reset pending",TODAY()-L9>=Assumptions!$B$6),"Review reset",IF(AND(P9="Issue open",TODAY()-I9>=Assumptions!$B$5),"Review open issue",IF(AND(P9="Invitation pending",TODAY()-F9>=Assumptions!$B$4),"Follow up on activation",IF(AND(P9="Not invited",E9="Current"),"Send invitation",IF(AND(P9="Active",OR(H9="",TODAY()-H9>=Assumptions!$B$7)),"Confirm access",""))))))),"Review record")) | R9: =IF(COUNTA(A9:O9)=0,"",IF(OR(F9="",G9="",G9<F9),"",IFERROR(G9-F9,""))) | S9: =Assumptions!$F$7
A10: DEMO-PA-005 | B10: Fictional Harbor Flats | C10: Demo H-21 | D10: Example Tenant 05 (Fictional) | E10: Current | F10: 46231 | G10: 46232 | H10: 46266 | I10: 46264 | J10: Fictional report: expired reset link. | K10: 46266 | L10: 46265 | M10: 46266 | O10: Tenant | P10: =IF(COUNTA(A10:O10)=0,"",IFERROR(IF(OR(A10="",B10="",C10="",D10="",E10="",O10=""),"Missing key fields",IF(COUNTIF($A$6:$A$105,A10)>1,"Duplicate record ID",IF(AND(I10<>"",J10=""),"Missing issue detail",IF(OR(AND(F10="",G10<>""),AND(F10<>"",G10<>"",G10<F10),AND(G10="",H10<>""),AND(G10<>"",H10<>"",H10<G10),AND(I10="",K10<>""),AND(I10<>"",K10<>"",K10<I10),AND(L10="",M10<>""),AND(L10<>"",M10<>"",M10<L10),AND(G10="",N10<>""),AND(G10<>"",N10<>"",N10<G10)),"Check dates",IF(N10<>"","Deactivated",IF(AND(E10="Former",OR(F10<>"",G10<>"",H10<>"",I10<>"",J10<>"",K10<>"",L10<>"",M10<>"")),"Deactivation due",IF(AND(L10<>"",M10=""),"Reset pending",IF(AND(I10<>"",K10=""),"Issue open",IF(G10<>"","Active",IF(F10<>"","Invitation pending","Not invited")))))))))),"Check dates")) | Q10: =IF(COUNTA(A10:O10)=0,"",IFERROR(IF(OR(P10="Check dates",P10="Missing key fields",P10="Duplicate record ID",P10="Missing issue detail"),"Review record",IF(P10="Deactivation due","Deactivate access",IF(AND(P10="Reset pending",TODAY()-L10>=Assumptions!$B$6),"Review reset",IF(AND(P10="Issue open",TODAY()-I10>=Assumptions!$B$5),"Review open issue",IF(AND(P10="Invitation pending",TODAY()-F10>=Assumptions!$B$4),"Follow up on activation",IF(AND(P10="Not invited",E10="Current"),"Send invitation",IF(AND(P10="Active",OR(H10="",TODAY()-H10>=Assumptions!$B$7)),"Confirm access",""))))))),"Review record")) | R10: =IF(COUNTA(A10:O10)=0,"",IF(OR(F10="",G10="",G10<F10),"",IFERROR(G10-F10,"")))
A11: DEMO-PA-006 | B11: Fictional Juniper Place | C11: Demo J-31 | D11: Example Tenant 06 (Fictional) | E11: Former | F11: 46076 | G11: 46077 | H11: 46176 | O11: Property Staff | P11: =IF(COUNTA(A11:O11)=0,"",IFERROR(IF(OR(A11="",B11="",C11="",D11="",E11="",O11=""),"Missing key fields",IF(COUNTIF($A$6:$A$105,A11)>1,"Duplicate record ID",IF(AND(I11<>"",J11=""),"Missing issue detail",IF(OR(AND(F11="",G11<>""),AND(F11<>"",G11<>"",G11<F11),AND(G11="",H11<>""),AND(G11<>"",H11<>"",H11<G11),AND(I11="",K11<>""),AND(I11<>"",K11<>"",K11<I11),AND(L11="",M11<>""),AND(L11<>"",M11<>"",M11<L11),AND(G11="",N11<>""),AND(G11<>"",N11<>"",N11<G11)),"Check dates",IF(N11<>"","Deactivated",IF(AND(E11="Former",OR(F11<>"",G11<>"",H11<>"",I11<>"",J11<>"",K11<>"",L11<>"",M11<>"")),"Deactivation due",IF(AND(L11<>"",M11=""),"Reset pending",IF(AND(I11<>"",K11=""),"Issue open",IF(G11<>"","Active",IF(F11<>"","Invitation pending","Not invited")))))))))),"Check dates")) | Q11: =IF(COUNTA(A11:O11)=0,"",IFERROR(IF(OR(P11="Check dates",P11="Missing key fields",P11="Duplicate record ID",P11="Missing issue detail"),"Review record",IF(P11="Deactivation due","Deactivate access",IF(AND(P11="Reset pending",TODAY()-L11>=Assumptions!$B$6),"Review reset",IF(AND(P11="Issue open",TODAY()-I11>=Assumptions!$B$5),"Review open issue",IF(AND(P11="Invitation pending",TODAY()-F11>=Assumptions!$B$4),"Follow up on activation",IF(AND(P11="Not invited",E11="Current"),"Send invitation",IF(AND(P11="Active",OR(H11="",TODAY()-H11>=Assumptions!$B$7)),"Confirm access",""))))))),"Review record")) | R11: =IF(COUNTA(A11:O11)=0,"",IF(OR(F11="",G11="",G11<F11),"",IFERROR(G11-F11,"")))
A12: DEMO-PA-007 | B12: Fictional Juniper Place | C12: Demo J-32 | D12: Example Tenant 07 (Fictional) | E12: Former | F12: 45976 | G12: 45977 | H12: 46156 | N12: 46271 | O12: Property Staff | P12: =IF(COUNTA(A12:O12)=0,"",IFERROR(IF(OR(A12="",B12="",C12="",D12="",E12="",O12=""),"Missing key fields",IF(COUNTIF($A$6:$A$105,A12)>1,"Duplicate record ID",IF(AND(I12<>"",J12=""),"Missing issue detail",IF(OR(AND(F12="",G12<>""),AND(F12<>"",G12<>"",G12<F12),AND(G12="",H12<>""),AND(G12<>"",H12<>"",H12<G12),AND(I12="",K12<>""),AND(I12<>"",K12<>"",K12<I12),AND(L12="",M12<>""),AND(L12<>"",M12<>"",M12<L12),AND(G12="",N12<>""),AND(G12<>"",N12<>"",N12<G12)),"Check dates",IF(N12<>"","Deactivated",IF(AND(E12="Former",OR(F12<>"",G12<>"",H12<>"",I12<>"",J12<>"",K12<>"",L12<>"",M12<>"")),"Deactivation due",IF(AND(L12<>"",M12=""),"Reset pending",IF(AND(I12<>"",K12=""),"Issue open",IF(G12<>"","Active",IF(F12<>"","Invitation pending","Not invited")))))))))),"Check dates")) | Q12: =IF(COUNTA(A12:O12)=0,"",IFERROR(IF(OR(P12="Check dates",P12="Missing key fields",P12="Duplicate record ID",P12="Missing issue detail"),"Review record",IF(P12="Deactivation due","Deactivate access",IF(AND(P12="Reset pending",TODAY()-L12>=Assumptions!$B$6),"Review reset",IF(AND(P12="Issue open",TODAY()-I12>=Assumptions!$B$5),"Review open issue",IF(AND(P12="Invitation pending",TODAY()-F12>=Assumptions!$B$4),"Follow up on activation",IF(AND(P12="Not invited",E12="Current"),"Send invitation",IF(AND(P12="Active",OR(H12="",TODAY()-H12>=Assumptions!$B$7)),"Confirm access",""))))))),"Review record")) | R12: =IF(COUNTA(A12:O12)=0,"",IF(OR(F12="",G12="",G12<F12),"",IFERROR(G12-F12,"")))
A13: DEMO-PA-008 | B13: Fictional Orchard Row | C13: Demo O-41 | D13: Example Tenant 08 (Fictional) | E13: Current | O13: Property Staff | P13: =IF(COUNTA(A13:O13)=0,"",IFERROR(IF(OR(A13="",B13="",C13="",D13="",E13="",O13=""),"Missing key fields",IF(COUNTIF($A$6:$A$105,A13)>1,"Duplicate record ID",IF(AND(I13<>"",J13=""),"Missing issue detail",IF(OR(AND(F13="",G13<>""),AND(F13<>"",G13<>"",G13<F13),AND(G13="",H13<>""),AND(G13<>"",H13<>"",H13<G13),AND(I13="",K13<>""),AND(I13<>"",K13<>"",K13<I13),AND(L13="",M13<>""),AND(L13<>"",M13<>"",M13<L13),AND(G13="",N13<>""),AND(G13<>"",N13<>"",N13<G13)),"Check dates",IF(N13<>"","Deactivated",IF(AND(E13="Former",OR(F13<>"",G13<>"",H13<>"",I13<>"",J13<>"",K13<>"",L13<>"",M13<>"")),"Deactivation due",IF(AND(L13<>"",M13=""),"Reset pending",IF(AND(I13<>"",K13=""),"Issue open",IF(G13<>"","Active",IF(F13<>"","Invitation pending","Not invited")))))))))),"Check dates")) | Q13: =IF(COUNTA(A13:O13)=0,"",IFERROR(IF(OR(P13="Check dates",P13="Missing key fields",P13="Duplicate record ID",P13="Missing issue detail"),"Review record",IF(P13="Deactivation due","Deactivate access",IF(AND(P13="Reset pending",TODAY()-L13>=Assumptions!$B$6),"Review reset",IF(AND(P13="Issue open",TODAY()-I13>=Assumptions!$B$5),"Review open issue",IF(AND(P13="Invitation pending",TODAY()-F13>=Assumptions!$B$4),"Follow up on activation",IF(AND(P13="Not invited",E13="Current"),"Send invitation",IF(AND(P13="Active",OR(H13="",TODAY()-H13>=Assumptions!$B$7)),"Confirm access",""))))))),"Review record")) | R13: =IF(COUNTA(A13:O13)=0,"",IF(OR(F13="",G13="",G13<F13),"",IFERROR(G13-F13,"")))
A14: DEMO-PA-009 | B14: Fictional Orchard Row | C14: Demo O-42 | D14: Example Tenant 09 (Fictional) | E14: Current | F14: 46126 | G14: 46127 | H14: 46186 | O14: Tenant | P14: =IF(COUNTA(A14:O14)=0,"",IFERROR(IF(OR(A14="",B14="",C14="",D14="",E14="",O14=""),"Missing key fields",IF(COUNTIF($A$6:$A$105,A14)>1,"Duplicate record ID",IF(AND(I14<>"",J14=""),"Missing issue detail",IF(OR(AND(F14="",G14<>""),AND(F14<>"",G14<>"",G14<F14),AND(G14="",H14<>""),AND(G14<>"",H14<>"",H14<G14),AND(I14="",K14<>""),AND(I14<>"",K14<>"",K14<I14),AND(L14="",M14<>""),AND(L14<>"",M14<>"",M14<L14),AND(G14="",N14<>""),AND(G14<>"",N14<>"",N14<G14)),"Check dates",IF(N14<>"","Deactivated",IF(AND(E14="Former",OR(F14<>"",G14<>"",H14<>"",I14<>"",J14<>"",K14<>"",L14<>"",M14<>"")),"Deactivation due",IF(AND(L14<>"",M14=""),"Reset pending",IF(AND(I14<>"",K14=""),"Issue open",IF(G14<>"","Active",IF(F14<>"","Invitation pending","Not invited")))))))))),"Check dates")) | Q14: =IF(COUNTA(A14:O14)=0,"",IFERROR(IF(OR(P14="Check dates",P14="Missing key fields",P14="Duplicate record ID",P14="Missing issue detail"),"Review record",IF(P14="Deactivation due","Deactivate access",IF(AND(P14="Reset pending",TODAY()-L14>=Assumptions!$B$6),"Review reset",IF(AND(P14="Issue open",TODAY()-I14>=Assumptions!$B$5),"Review open issue",IF(AND(P14="Invitation pending",TODAY()-F14>=Assumptions!$B$4),"Follow up on activation",IF(AND(P14="Not invited",E14="Current"),"Send invitation",IF(AND(P14="Active",OR(H14="",TODAY()-H14>=Assumptions!$B$7)),"Confirm access",""))))))),"Review record")) | R14: =IF(COUNTA(A14:O14)=0,"",IF(OR(F14="",G14="",G14<F14),"",IFERROR(G14-F14,"")))
A15: DEMO-PA-010 | B15: Fictional Boundary Test House | C15: Demo T-10 | D15: Example Tenant 10 - Date Test (Fictional) | E15: Current | F15: 46276 | G15: 46275 | O15: Joint Review | P15: =IF(COUNTA(A15:O15)=0,"",IFERROR(IF(OR(A15="",B15="",C15="",D15="",E15="",O15=""),"Missing key fields",IF(COUNTIF($A$6:$A$105,A15)>1,"Duplicate record ID",IF(AND(I15<>"",J15=""),"Missing issue detail",IF(OR(AND(F15="",G15<>""),AND(F15<>"",G15<>"",G15<F15),AND(G15="",H15<>""),AND(G15<>"",H15<>"",H15<G15),AND(I15="",K15<>""),AND(I15<>"",K15<>"",K15<I15),AND(L15="",M15<>""),AND(L15<>"",M15<>"",M15<L15),AND(G15="",N15<>""),AND(G15<>"",N15<>"",N15<G15)),"Check dates",IF(N15<>"","Deactivated",IF(AND(E15="Former",OR(F15<>"",G15<>"",H15<>"",I15<>"",J15<>"",K15<>"",L15<>"",M15<>"")),"Deactivation due",IF(AND(L15<>"",M15=""),"Reset pending",IF(AND(I15<>"",K15=""),"Issue open",IF(G15<>"","Active",IF(F15<>"","Invitation pending","Not invited")))))))))),"Check dates")) | Q15: =IF(COUNTA(A15:O15)=0,"",IFERROR(IF(OR(P15="Check dates",P15="Missing key fields",P15="Duplicate record ID",P15="Missing issue detail"),"Review record",IF(P15="Deactivation due","Deactivate access",IF(AND(P15="Reset pending",TODAY()-L15>=Assumptions!$B$6),"Review reset",IF(AND(P15="Issue open",TODAY()-I15>=Assumptions!$B$5),"Review open issue",IF(AND(P15="Invitation pending",TODAY()-F15>=Assumptions!$B$4),"Follow up on activation",IF(AND(P15="Not invited",E15="Current"),"Send invitation",IF(AND(P15="Active",OR(H15="",TODAY()-H15>=Assumptions!$B$7)),"Confirm access",""))))))),"Review record")) | R15: =IF(COUNTA(A15:O15)=0,"",IF(OR(F15="",G15="",G15<F15),"",IFERROR(G15-F15,"")))
P16: =IF(COUNTA(A16:O16)=0,"",IFERROR(IF(OR(A16="",B16="",C16="",D16="",E16="",O16=""),"Missing key fields",IF(COUNTIF($A$6:$A$105,A16)>1,"Duplicate record ID",IF(AND(I16<>"",J16=""),"Missing issue detail",IF(OR(AND(F16="",G16<>""),AND(F16<>"",G16<>"",G16<F16),AND(G16="",H16<>""),AND(G16<>"",H16<>"",H16<G16),AND(I16="",K16<>""),AND(I16<>"",K16<>"",K16<I16),AND(L16="",M16<>""),AND(L16<>"",M16<>"",M16<L16),AND(G16="",N16<>""),AND(G16<>"",N16<>"",N16<G16)),"Check dates",IF(N16<>"","Deactivated",IF(AND(E16="Former",OR(F16<>"",G16<>"",H16<>"",I16<>"",J16<>"",K16<>"",L16<>"",M16<>"")),"Deactivation due",IF(AND(L16<>"",M16=""),"Reset pending",IF(AND(I16<>"",K16=""),"Issue open",IF(G16<>"","Active",IF(F16<>"","Invitation pending","Not invited")))))))))),"Check dates")) | Q16: =IF(COUNTA(A16:O16)=0,"",IFERROR(IF(OR(P16="Check dates",P16="Missing key fields",P16="Duplicate record ID",P16="Missing issue detail"),"Review record",IF(P16="Deactivation due","Deactivate access",IF(AND(P16="Reset pending",TODAY()-L16>=Assumptions!$B$6),"Review reset",IF(AND(P16="Issue open",TODAY()-I16>=Assumptions!$B$5),"Review open issue",IF(AND(P16="Invitation pending",TODAY()-F16>=Assumptions!$B$4),"Follow up on activation",IF(AND(P16="Not invited",E16="Current"),"Send invitation",IF(AND(P16="Active",OR(H16="",TODAY()-H16>=Assumptions!$B$7)),"Confirm access",""))))))),"Review record")) | R16: =IF(COUNTA(A16:O16)=0,"",IF(OR(F16="",G16="",G16<F16),"",IFERROR(G16-F16,"")))
P17: =IF(COUNTA(A17:O17)=0,"",IFERROR(IF(OR(A17="",B17="",C17="",D17="",E17="",O17=""),"Missing key fields",IF(COUNTIF($A$6:$A$105,A17)>1,"Duplicate record ID",IF(AND(I17<>"",J17=""),"Missing issue detail",IF(OR(AND(F17="",G17<>""),AND(F17<>"",G17<>"",G17<F17),AND(G17="",H17<>""),AND(G17<>"",H17<>"",H17<G17),AND(I17="",K17<>""),AND(I17<>"",K17<>"",K17<I17),AND(L17="",M17<>""),AND(L17<>"",M17<>"",M17<L17),AND(G17="",N17<>""),AND(G17<>"",N17<>"",N17<G17)),"Check dates",IF(N17<>"","Deactivated",IF(AND(E17="Former",OR(F17<>"",G17<>"",H17<>"",I17<>"",J17<>"",K17<>"",L17<>"",M17<>"")),"Deactivation due",IF(AND(L17<>"",M17=""),"Reset pending",IF(AND(I17<>"",K17=""),"Issue open",IF(G17<>"","Active",IF(F17<>"","Invitation pending","Not invited")))))))))),"Check dates")) | Q17: =IF(COUNTA(A17:O17)=0,"",IFERROR(IF(OR(P17="Check dates",P17="Missing key fields",P17="Duplicate record ID",P17="Missing issue detail"),"Review record",IF(P17="Deactivation due","Deactivate access",IF(AND(P17="Reset pending",TODAY()-L17>=Assumptions!$B$6),"Review reset",IF(AND(P17="Issue open",TODAY()-I17>=Assumptions!$B$5),"Review open issue",IF(AND(P17="Invitation pending",TODAY()-F17>=Assumptions!$B$4),"Follow up on activation",IF(AND(P17="Not invited",E17="Current"),"Send invitation",IF(AND(P17="Active",OR(H17="",TODAY()-H17>=Assumptions!$B$7)),"Confirm access",""))))))),"Review record")) | R17: =IF(COUNTA(A17:O17)=0,"",IF(OR(F17="",G17="",G17<F17),"",IFERROR(G17-F17,"")))
P18: =IF(COUNTA(A18:O18)=0,"",IFERROR(IF(OR(A18="",B18="",C18="",D18="",E18="",O18=""),"Missing key fields",IF(COUNTIF($A$6:$A$105,A18)>1,"Duplicate record ID",IF(AND(I18<>"",J18=""),"Missing issue detail",IF(OR(AND(F18="",G18<>""),AND(F18<>"",G18<>"",G18<F18),AND(G18="",H18<>""),AND(G18<>"",H18<>"",H18<G18),AND(I18="",K18<>""),AND(I18<>"",K18<>"",K18<I18),AND(L18="",M18<>""),AND(L18<>"",M18<>"",M18<L18),AND(G18="",N18<>""),AND(G18<>"",N18<>"",N18<G18)),"Check dates",IF(N18<>"","Deactivated",IF(AND(E18="Former",OR(F18<>"",G18<>"",H18<>"",I18<>"",J18<>"",K18<>"",L18<>"",M18<>"")),"Deactivation due",IF(AND(L18<>"",M18=""),"Reset pending",IF(AND(I18<>"",K18=""),"Issue open",IF(G18<>"","Active",IF(F18<>"","Invitation pending","Not invited")))))))))),"Check dates")) | Q18: =IF(COUNTA(A18:O18)=0,"",IFERROR(IF(OR(P18="Check dates",P18="Missing key fields",P18="Duplicate record ID",P18="Missing issue detail"),"Review record",IF(P18="Deactivation due","Deactivate access",IF(AND(P18="Reset pending",TODAY()-L18>=Assumptions!$B$6),"Review reset",IF(AND(P18="Issue open",TODAY()-I18>=Assumptions!$B$5),"Review open issue",IF(AND(P18="Invitation pending",TODAY()-F18>=Assumptions!$B$4),"Follow up on activation",IF(AND(P18="Not invited",E18="Current"),"Send invitation",IF(AND(P18="Active",OR(H18="",TODAY()-H18>=Assumptions!$B$7)),"Confirm access",""))))))),"Review record")) | R18: =IF(COUNTA(A18:O18)=0,"",IF(OR(F18="",G18="",G18<F18),"",IFERROR(G18-F18,"")))
P19: =IF(COUNTA(A19:O19)=0,"",IFERROR(IF(OR(A19="",B19="",C19="",D19="",E19="",O19=""),"Missing key fields",IF(COUNTIF($A$6:$A$105,A19)>1,"Duplicate record ID",IF(AND(I19<>"",J19=""),"Missing issue detail",IF(OR(AND(F19="",G19<>""),AND(F19<>"",G19<>"",G19<F19),AND(G19="",H19<>""),AND(G19<>"",H19<>"",H19<G19),AND(I19="",K19<>""),AND(I19<>"",K19<>"",K19<I19),AND(L19="",M19<>""),AND(L19<>"",M19<>"",M19<L19),AND(G19="",N19<>""),AND(G19<>"",N19<>"",N19<G19)),"Check dates",IF(N19<>"","Deactivated",IF(AND(E19="Former",OR(F19<>"",G19<>"",H19<>"",I19<>"",J19<>"",K19<>"",L19<>"",M19<>"")),"Deactivation due",IF(AND(L19<>"",M19=""),"Reset pending",IF(AND(I19<>"",K19=""),"Issue open",IF(G19<>"","Active",IF(F19<>"","Invitation pending","Not invited")))))))))),"Check dates")) | Q19: =IF(COUNTA(A19:O19)=0,"",IFERROR(IF(OR(P19="Check dates",P19="Missing key fields",P19="Duplicate record ID",P19="Missing issue detail"),"Review record",IF(P19="Deactivation due","Deactivate access",IF(AND(P19="Reset pending",TODAY()-L19>=Assumptions!$B$6),"Review reset",IF(AND(P19="Issue open",TODAY()-I19>=Assumptions!$B$5),"Review open issue",IF(AND(P19="Invitation pending",TODAY()-F19>=Assumptions!$B$4),"Follow up on activation",IF(AND(P19="Not invited",E19="Current"),"Send invitation",IF(AND(P19="Active",OR(H19="",TODAY()-H19>=Assumptions!$B$7)),"Confirm access",""))))))),"Review record")) | R19: =IF(COUNTA(A19:O19)=0,"",IF(OR(F19="",G19="",G19<F19),"",IFERROR(G19-F19,"")))
P20: =IF(COUNTA(A20:O20)=0,"",IFERROR(IF(OR(A20="",B20="",C20="",D20="",E20="",O20=""),"Missing key fields",IF(COUNTIF($A$6:$A$105,A20)>1,"Duplicate record ID",IF(AND(I20<>"",J20=""),"Missing issue detail",IF(OR(AND(F20="",G20<>""),AND(F20<>"",G20<>"",G20<F20),AND(G20="",H20<>""),AND(G20<>"",H20<>"",H20<G20),AND(I20="",K20<>""),AND(I20<>"",K20<>"",K20<I20),AND(L20="",M20<>""),AND(L20<>"",M20<>"",M20<L20),AND(G20="",N20<>""),AND(G20<>"",N20<>"",N20<G20)),"Check dates",IF(N20<>"","Deactivated",IF(AND(E20="Former",OR(F20<>"",G20<>"",H20<>"",I20<>"",J20<>"",K20<>"",L20<>"",M20<>"")),"Deactivation due",IF(AND(L20<>"",M20=""),"Reset pending",IF(AND(I20<>"",K20=""),"Issue open",IF(G20<>"","Active",IF(F20<>"","Invitation pending","Not invited")))))))))),"Check dates")) | Q20: =IF(COUNTA(A20:O20)=0,"",IFERROR(IF(OR(P20="Check dates",P20="Missing key fields",P20="Duplicate record ID",P20="Missing issue detail"),"Review record",IF(P20="Deactivation due","Deactivate access",IF(AND(P20="Reset pending",TODAY()-L20>=Assumptions!$B$6),"Review reset",IF(AND(P20="Issue open",TODAY()-I20>=Assumptions!$B$5),"Review open issue",IF(AND(P20="Invitation pending",TODAY()-F20>=Assumptions!$B$4),"Follow up on activation",IF(AND(P20="Not invited",E20="Current"),"Send invitation",IF(AND(P20="Active",OR(H20="",TODAY()-H20>=Assumptions!$B$7)),"Confirm access",""))))))),"Review record")) | R20: =IF(COUNTA(A20:O20)=0,"",IF(OR(F20="",G20="",G20<F20),"",IFERROR(G20-F20,"")))
P21: =IF(COUNTA(A21:O21)=0,"",IFERROR(IF(OR(A21="",B21="",C21="",D21="",E21="",O21=""),"Missing key fields",IF(COUNTIF($A$6:$A$105,A21)>1,"Duplicate record ID",IF(AND(I21<>"",J21=""),"Missing issue detail",IF(OR(AND(F21="",G21<>""),AND(F21<>"",G21<>"",G21<F21),AND(G21="",H21<>""),AND(G21<>"",H21<>"",H21<G21),AND(I21="",K21<>""),AND(I21<>"",K21<>"",K21<I21),AND(L21="",M21<>""),AND(L21<>"",M21<>"",M21<L21),AND(G21="",N21<>""),AND(G21<>"",N21<>"",N21<G21)),"Check dates",IF(N21<>"","Deactivated",IF(AND(E21="Former",OR(F21<>"",G21<>"",H21<>"",I21<>"",J21<>"",K21<>"",L21<>"",M21<>"")),"Deactivation due",IF(AND(L21<>"",M21=""),"Reset pending",IF(AND(I21<>"",K21=""),"Issue open",IF(G21<>"","Active",IF(F21<>"","Invitation pending","Not invited")))))))))),"Check dates")) | Q21: =IF(COUNTA(A21:O21)=0,"",IFERROR(IF(OR(P21="Check dates",P21="Missing key fields",P21="Duplicate record ID",P21="Missing issue detail"),"Review record",IF(P21="Deactivation due","Deactivate access",IF(AND(P21="Reset pending",TODAY()-L21>=Assumptions!$B$6),"Review reset",IF(AND(P21="Issue open",TODAY()-I21>=Assumptions!$B$5),"Review open issue",IF(AND(P21="Invitation pending",TODAY()-F21>=Assumptions!$B$4),"Follow up on activation",IF(AND(P21="Not invited",E21="Current"),"Send invitation",IF(AND(P21="Active",OR(H21="",TODAY()-H21>=Assumptions!$B$7)),"Confirm access",""))))))),"Review record")) | R21: =IF(COUNTA(A21:O21)=0,"",IF(OR(F21="",G21="",G21<F21),"",IFERROR(G21-F21,"")))
P22: =IF(COUNTA(A22:O22)=0,"",IFERROR(IF(OR(A22="",B22="",C22="",D22="",E22="",O22=""),"Missing key fields",IF(COUNTIF($A$6:$A$105,A22)>1,"Duplicate record ID",IF(AND(I22<>"",J22=""),"Missing issue detail",IF(OR(AND(F22="",G22<>""),AND(F22<>"",G22<>"",G22<F22),AND(G22="",H22<>""),AND(G22<>"",H22<>"",H22<G22),AND(I22="",K22<>""),AND(I22<>"",K22<>"",K22<I22),AND(L22="",M22<>""),AND(L22<>"",M22<>"",M22<L22),AND(G22="",N22<>""),AND(G22<>"",N22<>"",N22<G22)),"Check dates",IF(N22<>"","Deactivated",IF(AND(E22="Former",OR(F22<>"",G22<>"",H22<>"",I22<>"",J22<>"",K22<>"",L22<>"",M22<>"")),"Deactivation due",IF(AND(L22<>"",M22=""),"Reset pending",IF(AND(I22<>"",K22=""),"Issue open",IF(G22<>"","Active",IF(F22<>"","Invitation pending","Not invited")))))))))),"Check dates")) | Q22: =IF(COUNTA(A22:O22)=0,"",IFERROR(IF(OR(P22="Check dates",P22="Missing key fields",P22="Duplicate record ID",P22="Missing issue detail"),"Review record",IF(P22="Deactivation due","Deactivate access",IF(AND(P22="Reset pending",TODAY()-L22>=Assumptions!$B$6),"Review reset",IF(AND(P22="Issue open",TODAY()-I22>=Assumptions!$B$5),"Review open issue",IF(AND(P22="Invitation pending",TODAY()-F22>=Assumptions!$B$4),"Follow up on activation",IF(AND(P22="Not invited",E22="Current"),"Send invitation",IF(AND(P22="Active",OR(H22="",TODAY()-H22>=Assumptions!$B$7)),"Confirm access",""))))))),"Review record")) | R22: =IF(COUNTA(A22:O22)=0,"",IF(OR(F22="",G22="",G22<F22),"",IFERROR(G22-F22,"")))
P23: =IF(COUNTA(A23:O23)=0,"",IFERROR(IF(OR(A23="",B23="",C23="",D23="",E23="",O23=""),"Missing key fields",IF(COUNTIF($A$6:$A$105,A23)>1,"Duplicate record ID",IF(AND(I23<>"",J23=""),"Missing issue detail",IF(OR(AND(F23="",G23<>""),AND(F23<>"",G23<>"",G23<F23),AND(G23="",H23<>""),AND(G23<>"",H23<>"",H23<G23),AND(I23="",K23<>""),AND(I23<>"",K23<>"",K23<I23),AND(L23="",M23<>""),AND(L23<>"",M23<>"",M23<L23),AND(G23="",N23<>""),AND(G23<>"",N23<>"",N23<G23)),"Check dates",IF(N23<>"","Deactivated",IF(AND(E23="Former",OR(F23<>"",G23<>"",H23<>"",I23<>"",J23<>"",K23<>"",L23<>"",M23<>"")),"Deactivation due",IF(AND(L23<>"",M23=""),"Reset pending",IF(AND(I23<>"",K23=""),"Issue open",IF(G23<>"","Active",IF(F23<>"","Invitation pending","Not invited")))))))))),"Check dates")) | Q23: =IF(COUNTA(A23:O23)=0,"",IFERROR(IF(OR(P23="Check dates",P23="Missing key fields",P23="Duplicate record ID",P23="Missing issue detail"),"Review record",IF(P23="Deactivation due","Deactivate access",IF(AND(P23="Reset pending",TODAY()-L23>=Assumptions!$B$6),"Review reset",IF(AND(P23="Issue open",TODAY()-I23>=Assumptions!$B$5),"Review open issue",IF(AND(P23="Invitation pending",TODAY()-F23>=Assumptions!$B$4),"Follow up on activation",IF(AND(P23="Not invited",E23="Current"),"Send invitation",IF(AND(P23="Active",OR(H23="",TODAY()-H23>=Assumptions!$B$7)),"Confirm access",""))))))),"Review record")) | R23: =IF(COUNTA(A23:O23)=0,"",IF(OR(F23="",G23="",G23<F23),"",IFERROR(G23-F23,"")))
P24: =IF(COUNTA(A24:O24)=0,"",IFERROR(IF(OR(A24="",B24="",C24="",D24="",E24="",O24=""),"Missing key fields",IF(COUNTIF($A$6:$A$105,A24)>1,"Duplicate record ID",IF(AND(I24<>"",J24=""),"Missing issue detail",IF(OR(AND(F24="",G24<>""),AND(F24<>"",G24<>"",G24<F24),AND(G24="",H24<>""),AND(G24<>"",H24<>"",H24<G24),AND(I24="",K24<>""),AND(I24<>"",K24<>"",K24<I24),AND(L24="",M24<>""),AND(L24<>"",M24<>"",M24<L24),AND(G24="",N24<>""),AND(G24<>"",N24<>"",N24<G24)),"Check dates",IF(N24<>"","Deactivated",IF(AND(E24="Former",OR(F24<>"",G24<>"",H24<>"",I24<>"",J24<>"",K24<>"",L24<>"",M24<>"")),"Deactivation due",IF(AND(L24<>"",M24=""),"Reset pending",IF(AND(I24<>"",K24=""),"Issue open",IF(G24<>"","Active",IF(F24<>"","Invitation pending","Not invited")))))))))),"Check dates")) | Q24: =IF(COUNTA(A24:O24)=0,"",IFERROR(IF(OR(P24="Check dates",P24="Missing key fields",P24="Duplicate record ID",P24="Missing issue detail"),"Review record",IF(P24="Deactivation due","Deactivate access",IF(AND(P24="Reset pending",TODAY()-L24>=Assumptions!$B$6),"Review reset",IF(AND(P24="Issue open",TODAY()-I24>=Assumptions!$B$5),"Review open issue",IF(AND(P24="Invitation pending",TODAY()-F24>=Assumptions!$B$4),"Follow up on activation",IF(AND(P24="Not invited",E24="Current"),"Send invitation",IF(AND(P24="Active",OR(H24="",TODAY()-H24>=Assumptions!$B$7)),"Confirm access",""))))))),"Review record")) | R24: =IF(COUNTA(A24:O24)=0,"",IF(OR(F24="",G24="",G24<F24),"",IFERROR(G24-F24,"")))
P25: =IF(COUNTA(A25:O25)=0,"",IFERROR(IF(OR(A25="",B25="",C25="",D25="",E25="",O25=""),"Missing key fields",IF(COUNTIF($A$6:$A$105,A25)>1,"Duplicate record ID",IF(AND(I25<>"",J25=""),"Missing issue detail",IF(OR(AND(F25="",G25<>""),AND(F25<>"",G25<>"",G25<F25),AND(G25="",H25<>""),AND(G25<>"",H25<>"",H25<G25),AND(I25="",K25<>""),AND(I25<>"",K25<>"",K25<I25),AND(L25="",M25<>""),AND(L25<>"",M25<>"",M25<L25),AND(G25="",N25<>""),AND(G25<>"",N25<>"",N25<G25)),"Check dates",IF(N25<>"","Deactivated",IF(AND(E25="Former",OR(F25<>"",G25<>"",H25<>"",I25<>"",J25<>"",K25<>"",L25<>"",M25<>"")),"Deactivation due",IF(AND(L25<>"",M25=""),"Reset pending",IF(AND(I25<>"",K25=""),"Issue open",IF(G25<>"","Active",IF(F25<>"","Invitation pending","Not invited")))))))))),"Check dates")) | Q25: =IF(COUNTA(A25:O25)=0,"",IFERROR(IF(OR(P25="Check dates",P25="Missing key fields",P25="Duplicate record ID",P25="Missing issue detail"),"Review record",IF(P25="Deactivation due","Deactivate access",IF(AND(P25="Reset pending",TODAY()-L25>=Assumptions!$B$6),"Review reset",IF(AND(P25="Issue open",TODAY()-I25>=Assumptions!$B$5),"Review open issue",IF(AND(P25="Invitation pending",TODAY()-F25>=Assumptions!$B$4),"Follow up on activation",IF(AND(P25="Not invited",E25="Current"),"Send invitation",IF(AND(P25="Active",OR(H25="",TODAY()-H25>=Assumptions!$B$7)),"Confirm access",""))))))),"Review record")) | R25: =IF(COUNTA(A25:O25)=0,"",IF(OR(F25="",G25="",G25<F25),"",IFERROR(G25-F25,"")))
P26: =IF(COUNTA(A26:O26)=0,"",IFERROR(IF(OR(A26="",B26="",C26="",D26="",E26="",O26=""),"Missing key fields",IF(COUNTIF($A$6:$A$105,A26)>1,"Duplicate record ID",IF(AND(I26<>"",J26=""),"Missing issue detail",IF(OR(AND(F26="",G26<>""),AND(F26<>"",G26<>"",G26<F26),AND(G26="",H26<>""),AND(G26<>"",H26<>"",H26<G26),AND(I26="",K26<>""),AND(I26<>"",K26<>"",K26<I26),AND(L26="",M26<>""),AND(L26<>"",M26<>"",M26<L26),AND(G26="",N26<>""),AND(G26<>"",N26<>"",N26<G26)),"Check dates",IF(N26<>"","Deactivated",IF(AND(E26="Former",OR(F26<>"",G26<>"",H26<>"",I26<>"",J26<>"",K26<>"",L26<>"",M26<>"")),"Deactivation due",IF(AND(L26<>"",M26=""),"Reset pending",IF(AND(I26<>"",K26=""),"Issue open",IF(G26<>"","Active",IF(F26<>"","Invitation pending","Not invited")))))))))),"Check dates")) | Q26: =IF(COUNTA(A26:O26)=0,"",IFERROR(IF(OR(P26="Check dates",P26="Missing key fields",P26="Duplicate record ID",P26="Missing issue detail"),"Review record",IF(P26="Deactivation due","Deactivate access",IF(AND(P26="Reset pending",TODAY()-L26>=Assumptions!$B$6),"Review reset",IF(AND(P26="Issue open",TODAY()-I26>=Assumptions!$B$5),"Review open issue",IF(AND(P26="Invitation pending",TODAY()-F26>=Assumptions!$B$4),"Follow up on activation",IF(AND(P26="Not invited",E26="Current"),"Send invitation",IF(AND(P26="Active",OR(H26="",TODAY()-H26>=Assumptions!$B$7)),"Confirm access",""))))))),"Review record")) | R26: =IF(COUNTA(A26:O26)=0,"",IF(OR(F26="",G26="",G26<F26),"",IFERROR(G26-F26,"")))
P27: =IF(COUNTA(A27:O27)=0,"",IFERROR(IF(OR(A27="",B27="",C27="",D27="",E27="",O27=""),"Missing key fields",IF(COUNTIF($A$6:$A$105,A27)>1,"Duplicate record ID",IF(AND(I27<>"",J27=""),"Missing issue detail",IF(OR(AND(F27="",G27<>""),AND(F27<>"",G27<>"",G27<F27),AND(G27="",H27<>""),AND(G27<>"",H27<>"",H27<G27),AND(I27="",K27<>""),AND(I27<>"",K27<>"",K27<I27),AND(L27="",M27<>""),AND(L27<>"",M27<>"",M27<L27),AND(G27="",N27<>""),AND(G27<>"",N27<>"",N27<G27)),"Check dates",IF(N27<>"","Deactivated",IF(AND(E27="Former",OR(F27<>"",G27<>"",H27<>"",I27<>"",J27<>"",K27<>"",L27<>"",M27<>"")),"Deactivation due",IF(AND(L27<>"",M27=""),"Reset pending",IF(AND(I27<>"",K27=""),"Issue open",IF(G27<>"","Active",IF(F27<>"","Invitation pending","Not invited")))))))))),"Check dates")) | Q27: =IF(COUNTA(A27:O27)=0,"",IFERROR(IF(OR(P27="Check dates",P27="Missing key fields",P27="Duplicate record ID",P27="Missing issue detail"),"Review record",IF(P27="Deactivation due","Deactivate access",IF(AND(P27="Reset pending",TODAY()-L27>=Assumptions!$B$6),"Review reset",IF(AND(P27="Issue open",TODAY()-I27>=Assumptions!$B$5),"Review open issue",IF(AND(P27="Invitation pending",TODAY()-F27>=Assumptions!$B$4),"Follow up on activation",IF(AND(P27="Not invited",E27="Current"),"Send invitation",IF(AND(P27="Active",OR(H27="",TODAY()-H27>=Assumptions!$B$7)),"Confirm access",""))))))),"Review record")) | R27: =IF(COUNTA(A27:O27)=0,"",IF(OR(F27="",G27="",G27<F27),"",IFERROR(G27-F27,"")))
... P105: =IF(COUNTA(A105:O105)=0,"",IFERROR(IF(OR(A105="",B105="",C105="",D105="",E105="",O105=""),"Missing key fields",IF(COUNTIF($A$6:$A$105,A105)>1,"Duplicate record ID",IF(AND(I105<>"",J105=""),"Missing issue detail",IF(OR(AND(F105="",G105<>""),AND(F105<>"",G105<>"",G105<F105),AND(G105="",H105<>""),AND(G105<>"",H105<>"",H105<G105),AND(I105="",K105<>""),AND(I105<>"",K105<>"",K105<I105),AND(L105="",M105<>""),AND(L105<>"",M105<>"",M105<L105),AND(G105="",N105<>""),AND(G105<>"",N105<>"",N105<G105)),"Check dates",IF(N105<>"","Deactivated",IF(AND(E105="Former",OR(F105<>"",G105<>"",H105<>"",I105<>"",J105<>"",K105<>"",L105<>"",M105<>"")),"Deactivation due",IF(AND(L105<>"",M105=""),"Reset pending",IF(AND(I105<>"",K105=""),"Issue open",IF(G105<>"","Active",IF(F105<>"","Invitation pending","Not invited")))))))))),"Check dates")) | Q105: =IF(COUNTA(A105:O105)=0,"",IFERROR(IF(OR(P105="Check dates",P105="Missing key fields",P105="Duplicate record ID",P105="Missing issue detail"),"Review record",IF(P105="Deactivation due","Deactivate access",IF(AND(P105="Reset pending",TODAY()-L105>=Assumptions!$B$6),"Review reset",IF(AND(P105="Issue open",TODAY()-I105>=Assumptions!$B$5),"Review open issue",IF(AND(P105="Invitation pending",TODAY()-F105>=Assumptions!$B$4),"Follow up on activation",IF(AND(P105="Not invited",E105="Current"),"Send invitation",IF(AND(P105="Active",OR(H105="",TODAY()-H105>=Assumptions!$B$7)),"Confirm access",""))))))),"Review record")) | R105: =IF(COUNTA(A105:O105)=0,"",IF(OR(F105="",G105="",G105<F105),"",IFERROR(G105-F105,"")))

Sheet Assumptions
A1: Assumptions and Validation Choices
A2: Yellow values are editable and control workbook follow-up checks.
A3: Setting | B3: Value | C3: Use | D3: Tenancy Status Choices | F3: Responsibility Choices
A4: Activation follow-up days | B4: 3 | C4: Days after an invitation before a follow-up alert. | D4: Current | F4: Tenant
A5: Open issue follow-up days | B5: 2 | C5: Days after an issue is opened before a review alert. | D5: Future | F5: Property Staff
A6: Reset follow-up days | B6: 1 | C6: Days after a reset request before a review alert. | D6: Former | F6: Portal Provider
A7: Access confirmation review days | B7: 90 | C7: Days since the last manual confirmation before review. | F7: Joint Review
A8: Earliest allowed date | B8: 45292 | C8: Lower date limit for tracker entries. | D8: Choice lists feed the tracker validation through local helper cells.
A9: Latest allowed date | B9: 47118 | C9: Upper date limit for tracker entries.
