Workbook

Sheet Summary
A1: Tenant Retention Dashboard
A2: Fictional sample data. Indicators recalculate from entered tenancy records and editable assumptions.
A4: Analysis Controls
A5: Report Start | B5: =Assumptions!B4 | C5: Report End | D5: =Assumptions!B5 | E5: As Of | F5: =Assumptions!B6 | G5: Review Days | H5: =Assumptions!B7 | I5: Reference Rate | J5: =Assumptions!B10
A7: Portfolio Indicators | H7: Outcome | I7: Count
A8: Decisions in Period | B8: =SUM(B9:B11) | D8: Pending Ending in Window | E8: =COUNTIFS(Tenancies!$H$5:$H$104,"Pending",Tenancies!$F$5:$F$104,">="&$F$5,Tenancies!$F$5:$F$104,"<="&$F$5+$H$5) | H8: Renewed | I8: =B9
A9: Renewed | B9: =COUNTIFS(Tenancies!$H$5:$H$104,"Renewed",Tenancies!$G$5:$G$104,">="&$B$5,Tenancies!$G$5:$G$104,"<="&$D$5) | D9: Records Needing Check | E9: =COUNTIF(Tenancies!$O$5:$O$104,"Check*") | H9: Non-Renewed | I9: =B10
A10: Non-Renewed | B10: =COUNTIFS(Tenancies!$H$5:$H$104,"Non-Renewed",Tenancies!$G$5:$G$104,">="&$B$5,Tenancies!$G$5:$G$104,"<="&$D$5) | D10: Upcoming Follow-Up | E10: =COUNTIF(Tenancies!$O$5:$O$104,"Review upcoming lease end") | H10: Transferred | I10: =B11
A11: Transferred | B11: =COUNTIFS(Tenancies!$H$5:$H$104,"Transferred",Tenancies!$G$5:$G$104,">="&$B$5,Tenancies!$G$5:$G$104,"<="&$D$5) | D11: Records Entered | E11: =COUNTIF(Tenancies!$A$5:$A$104,"<>")
A12: Retention Rate | B12: =IFERROR((B9+B11)/B8,"") | D12: Pending Total | E12: =COUNTIF(Tenancies!$H$5:$H$104,"Pending")
A15: Outcomes by Property
A16: Property | B16: Renewed | C16: Non-Renewed | D16: Transferred | E16: Decisions | F16: Retention Rate | G16: Pending Window
A17: =Assumptions!A14 | B17: =COUNTIFS(Tenancies!$B$5:$B$104,$A17,Tenancies!$H$5:$H$104,"Renewed",Tenancies!$G$5:$G$104,">="&$B$5,Tenancies!$G$5:$G$104,"<="&$D$5) | C17: =COUNTIFS(Tenancies!$B$5:$B$104,$A17,Tenancies!$H$5:$H$104,"Non-Renewed",Tenancies!$G$5:$G$104,">="&$B$5,Tenancies!$G$5:$G$104,"<="&$D$5) | D17: =COUNTIFS(Tenancies!$B$5:$B$104,$A17,Tenancies!$H$5:$H$104,"Transferred",Tenancies!$G$5:$G$104,">="&$B$5,Tenancies!$G$5:$G$104,"<="&$D$5) | E17: =SUM(B17:D17) | F17: =IFERROR((B17+D17)/E17,"") | G17: =COUNTIFS(Tenancies!$B$5:$B$104,$A17,Tenancies!$H$5:$H$104,"Pending",Tenancies!$F$5:$F$104,">="&$F$5,Tenancies!$F$5:$F$104,"<="&$F$5+$H$5)
A18: =Assumptions!A15 | B18: =COUNTIFS(Tenancies!$B$5:$B$104,$A18,Tenancies!$H$5:$H$104,"Renewed",Tenancies!$G$5:$G$104,">="&$B$5,Tenancies!$G$5:$G$104,"<="&$D$5) | C18: =COUNTIFS(Tenancies!$B$5:$B$104,$A18,Tenancies!$H$5:$H$104,"Non-Renewed",Tenancies!$G$5:$G$104,">="&$B$5,Tenancies!$G$5:$G$104,"<="&$D$5) | D18: =COUNTIFS(Tenancies!$B$5:$B$104,$A18,Tenancies!$H$5:$H$104,"Transferred",Tenancies!$G$5:$G$104,">="&$B$5,Tenancies!$G$5:$G$104,"<="&$D$5) | E18: =SUM(B18:D18) | F18: =IFERROR((B18+D18)/E18,"") | G18: =COUNTIFS(Tenancies!$B$5:$B$104,$A18,Tenancies!$H$5:$H$104,"Pending",Tenancies!$F$5:$F$104,">="&$F$5,Tenancies!$F$5:$F$104,"<="&$F$5+$H$5)
A19: =Assumptions!A16 | B19: =COUNTIFS(Tenancies!$B$5:$B$104,$A19,Tenancies!$H$5:$H$104,"Renewed",Tenancies!$G$5:$G$104,">="&$B$5,Tenancies!$G$5:$G$104,"<="&$D$5) | C19: =COUNTIFS(Tenancies!$B$5:$B$104,$A19,Tenancies!$H$5:$H$104,"Non-Renewed",Tenancies!$G$5:$G$104,">="&$B$5,Tenancies!$G$5:$G$104,"<="&$D$5) | D19: =COUNTIFS(Tenancies!$B$5:$B$104,$A19,Tenancies!$H$5:$H$104,"Transferred",Tenancies!$G$5:$G$104,">="&$B$5,Tenancies!$G$5:$G$104,"<="&$D$5) | E19: =SUM(B19:D19) | F19: =IFERROR((B19+D19)/E19,"") | G19: =COUNTIFS(Tenancies!$B$5:$B$104,$A19,Tenancies!$H$5:$H$104,"Pending",Tenancies!$F$5:$F$104,">="&$F$5,Tenancies!$F$5:$F$104,"<="&$F$5+$H$5)
A20: =Assumptions!A17 | B20: =COUNTIFS(Tenancies!$B$5:$B$104,$A20,Tenancies!$H$5:$H$104,"Renewed",Tenancies!$G$5:$G$104,">="&$B$5,Tenancies!$G$5:$G$104,"<="&$D$5) | C20: =COUNTIFS(Tenancies!$B$5:$B$104,$A20,Tenancies!$H$5:$H$104,"Non-Renewed",Tenancies!$G$5:$G$104,">="&$B$5,Tenancies!$G$5:$G$104,"<="&$D$5) | D20: =COUNTIFS(Tenancies!$B$5:$B$104,$A20,Tenancies!$H$5:$H$104,"Transferred",Tenancies!$G$5:$G$104,">="&$B$5,Tenancies!$G$5:$G$104,"<="&$D$5) | E20: =SUM(B20:D20) | F20: =IFERROR((B20+D20)/E20,"") | G20: =COUNTIFS(Tenancies!$B$5:$B$104,$A20,Tenancies!$H$5:$H$104,"Pending",Tenancies!$F$5:$F$104,">="&$F$5,Tenancies!$F$5:$F$104,"<="&$F$5+$H$5)
A21: =Assumptions!A18 | B21: =COUNTIFS(Tenancies!$B$5:$B$104,$A21,Tenancies!$H$5:$H$104,"Renewed",Tenancies!$G$5:$G$104,">="&$B$5,Tenancies!$G$5:$G$104,"<="&$D$5) | C21: =COUNTIFS(Tenancies!$B$5:$B$104,$A21,Tenancies!$H$5:$H$104,"Non-Renewed",Tenancies!$G$5:$G$104,">="&$B$5,Tenancies!$G$5:$G$104,"<="&$D$5) | D21: =COUNTIFS(Tenancies!$B$5:$B$104,$A21,Tenancies!$H$5:$H$104,"Transferred",Tenancies!$G$5:$G$104,">="&$B$5,Tenancies!$G$5:$G$104,"<="&$D$5) | E21: =SUM(B21:D21) | F21: =IFERROR((B21+D21)/E21,"") | G21: =COUNTIFS(Tenancies!$B$5:$B$104,$A21,Tenancies!$H$5:$H$104,"Pending",Tenancies!$F$5:$F$104,">="&$F$5,Tenancies!$F$5:$F$104,"<="&$F$5+$H$5)
A23: Outcomes by Unit Type
A24: Unit Type | B24: Renewed | C24: Non-Renewed | D24: Transferred | E24: Decisions | F24: Retention Rate | G24: Pending Window
A25: =Assumptions!C14 | B25: =COUNTIFS(Tenancies!$D$5:$D$104,$A25,Tenancies!$H$5:$H$104,"Renewed",Tenancies!$G$5:$G$104,">="&$B$5,Tenancies!$G$5:$G$104,"<="&$D$5) | C25: =COUNTIFS(Tenancies!$D$5:$D$104,$A25,Tenancies!$H$5:$H$104,"Non-Renewed",Tenancies!$G$5:$G$104,">="&$B$5,Tenancies!$G$5:$G$104,"<="&$D$5) | D25: =COUNTIFS(Tenancies!$D$5:$D$104,$A25,Tenancies!$H$5:$H$104,"Transferred",Tenancies!$G$5:$G$104,">="&$B$5,Tenancies!$G$5:$G$104,"<="&$D$5) | E25: =SUM(B25:D25) | F25: =IFERROR((B25+D25)/E25,"") | G25: =COUNTIFS(Tenancies!$D$5:$D$104,$A25,Tenancies!$H$5:$H$104,"Pending",Tenancies!$F$5:$F$104,">="&$F$5,Tenancies!$F$5:$F$104,"<="&$F$5+$H$5)
A26: =Assumptions!C15 | B26: =COUNTIFS(Tenancies!$D$5:$D$104,$A26,Tenancies!$H$5:$H$104,"Renewed",Tenancies!$G$5:$G$104,">="&$B$5,Tenancies!$G$5:$G$104,"<="&$D$5) | C26: =COUNTIFS(Tenancies!$D$5:$D$104,$A26,Tenancies!$H$5:$H$104,"Non-Renewed",Tenancies!$G$5:$G$104,">="&$B$5,Tenancies!$G$5:$G$104,"<="&$D$5) | D26: =COUNTIFS(Tenancies!$D$5:$D$104,$A26,Tenancies!$H$5:$H$104,"Transferred",Tenancies!$G$5:$G$104,">="&$B$5,Tenancies!$G$5:$G$104,"<="&$D$5) | E26: =SUM(B26:D26) | F26: =IFERROR((B26+D26)/E26,"") | G26: =COUNTIFS(Tenancies!$D$5:$D$104,$A26,Tenancies!$H$5:$H$104,"Pending",Tenancies!$F$5:$F$104,">="&$F$5,Tenancies!$F$5:$F$104,"<="&$F$5+$H$5)
A27: =Assumptions!C16 | B27: =COUNTIFS(Tenancies!$D$5:$D$104,$A27,Tenancies!$H$5:$H$104,"Renewed",Tenancies!$G$5:$G$104,">="&$B$5,Tenancies!$G$5:$G$104,"<="&$D$5) | C27: =COUNTIFS(Tenancies!$D$5:$D$104,$A27,Tenancies!$H$5:$H$104,"Non-Renewed",Tenancies!$G$5:$G$104,">="&$B$5,Tenancies!$G$5:$G$104,"<="&$D$5) | D27: =COUNTIFS(Tenancies!$D$5:$D$104,$A27,Tenancies!$H$5:$H$104,"Transferred",Tenancies!$G$5:$G$104,">="&$B$5,Tenancies!$G$5:$G$104,"<="&$D$5) | E27: =SUM(B27:D27) | F27: =IFERROR((B27+D27)/E27,"") | G27: =COUNTIFS(Tenancies!$D$5:$D$104,$A27,Tenancies!$H$5:$H$104,"Pending",Tenancies!$F$5:$F$104,">="&$F$5,Tenancies!$F$5:$F$104,"<="&$F$5+$H$5)
A28: =Assumptions!C17 | B28: =COUNTIFS(Tenancies!$D$5:$D$104,$A28,Tenancies!$H$5:$H$104,"Renewed",Tenancies!$G$5:$G$104,">="&$B$5,Tenancies!$G$5:$G$104,"<="&$D$5) | C28: =COUNTIFS(Tenancies!$D$5:$D$104,$A28,Tenancies!$H$5:$H$104,"Non-Renewed",Tenancies!$G$5:$G$104,">="&$B$5,Tenancies!$G$5:$G$104,"<="&$D$5) | D28: =COUNTIFS(Tenancies!$D$5:$D$104,$A28,Tenancies!$H$5:$H$104,"Transferred",Tenancies!$G$5:$G$104,">="&$B$5,Tenancies!$G$5:$G$104,"<="&$D$5) | E28: =SUM(B28:D28) | F28: =IFERROR((B28+D28)/E28,"") | G28: =COUNTIFS(Tenancies!$D$5:$D$104,$A28,Tenancies!$H$5:$H$104,"Pending",Tenancies!$F$5:$F$104,">="&$F$5,Tenancies!$F$5:$F$104,"<="&$F$5+$H$5)
A29: =Assumptions!C18 | B29: =COUNTIFS(Tenancies!$D$5:$D$104,$A29,Tenancies!$H$5:$H$104,"Renewed",Tenancies!$G$5:$G$104,">="&$B$5,Tenancies!$G$5:$G$104,"<="&$D$5) | C29: =COUNTIFS(Tenancies!$D$5:$D$104,$A29,Tenancies!$H$5:$H$104,"Non-Renewed",Tenancies!$G$5:$G$104,">="&$B$5,Tenancies!$G$5:$G$104,"<="&$D$5) | D29: =COUNTIFS(Tenancies!$D$5:$D$104,$A29,Tenancies!$H$5:$H$104,"Transferred",Tenancies!$G$5:$G$104,">="&$B$5,Tenancies!$G$5:$G$104,"<="&$D$5) | E29: =SUM(B29:D29) | F29: =IFERROR((B29+D29)/E29,"") | G29: =COUNTIFS(Tenancies!$D$5:$D$104,$A29,Tenancies!$H$5:$H$104,"Pending",Tenancies!$F$5:$F$104,">="&$F$5,Tenancies!$F$5:$F$104,"<="&$F$5+$H$5)

Sheet Tenancies
A1: Tenant Retention Dashboard — Tenancy Records
A2: Enter one fictional tenancy record per row. Summary periods use Decision Date; pending reviews use Lease End.
A4: Tenancy Record ID | B4: Property | C4: Unit | D4: Unit Type | E4: Lease Start | F4: Lease End | G4: Decision Date | H4: Outcome | I4: Effective Date | J4: Transfer To Property | K4: Transfer To Unit | L4: Description | M4: Period Flag | N4: Retention Class | O4: Review Alert
A5: FIC-RET-0001 | B5: Fictional Cedar Lantern Residences | C5: FIC-CL-101 | D5: 1 Bedroom | E5: 45717 | F5: 46081 | G5: 46023 | H5: Renewed | I5: 46082 | L5: Fictional sample: renewal decision. | M5: =IF($A5="","",IF(AND($H5<>"Pending",$G5<>"",$G5>=Assumptions!$B$4,$G5<=Assumptions!$B$5),"Included","")) | N5: =IF($A5="","",IF($H5="Renewed","Retained",IF($H5="Transferred","Retained",IF($H5="Non-Renewed","Not Retained",IF($H5="Pending","Pending",""))))) | O5: =IF($A5="","",IF(COUNTIF($A$5:$A$104,$A5)>1,"Check duplicate tenancy ID",IF(OR($B5="",$C5="",$D5="",$E5="",$F5="",$H5=""),"Check missing required input",IF($F5<$E5,"Check lease dates",IF(AND($G5<>"",$I5<>"",$I5<$G5),"Check effective date",IF(AND($H5<>"Pending",OR($G5="",$I5="")),"Check decision or effective date",IF(AND($H5="Pending",OR($G5<>"",$I5<>"")),"Check pending dates",IF(AND($H5="Transferred",OR($J5="",$K5="")),"Check transfer destination",IF(AND($H5<>"Transferred",OR($J5<>"",$K5<>"")),"Check transfer fields",IF(AND($H5="Pending",$F5>=Assumptions!$B$6,$F5<=Assumptions!$B$6+Assumptions!$B$7),"Review upcoming lease end","OK"))))))))))
A6: FIC-RET-0002 | B6: Fictional Harbor Kite Apartments | C6: FIC-HK-204 | D6: 2 Bedroom | E6: 45778 | F6: 46142 | G6: 46063 | H6: Non-Renewed | I6: 46142 | L6: Fictional sample: non-renewal decision. | M6: =IF($A6="","",IF(AND($H6<>"Pending",$G6<>"",$G6>=Assumptions!$B$4,$G6<=Assumptions!$B$5),"Included","")) | N6: =IF($A6="","",IF($H6="Renewed","Retained",IF($H6="Transferred","Retained",IF($H6="Non-Renewed","Not Retained",IF($H6="Pending","Pending",""))))) | O6: =IF($A6="","",IF(COUNTIF($A$5:$A$104,$A6)>1,"Check duplicate tenancy ID",IF(OR($B6="",$C6="",$D6="",$E6="",$F6="",$H6=""),"Check missing required input",IF($F6<$E6,"Check lease dates",IF(AND($G6<>"",$I6<>"",$I6<$G6),"Check effective date",IF(AND($H6<>"Pending",OR($G6="",$I6="")),"Check decision or effective date",IF(AND($H6="Pending",OR($G6<>"",$I6<>"")),"Check pending dates",IF(AND($H6="Transferred",OR($J6="",$K6="")),"Check transfer destination",IF(AND($H6<>"Transferred",OR($J6<>"",$K6<>"")),"Check transfer fields",IF(AND($H6="Pending",$F6>=Assumptions!$B$6,$F6<=Assumptions!$B$6+Assumptions!$B$7),"Review upcoming lease end","OK"))))))))))
A7: FIC-RET-0003 | B7: Fictional Maple Orbit Homes | C7: FIC-MO-007 | D7: Studio | E7: 45809 | F7: 46173 | G7: 46086 | H7: Transferred | I7: 46157 | J7: Fictional Cedar Lantern Residences | K7: FIC-CL-305 | L7: Fictional sample: transfer to another fictional unit. | M7: =IF($A7="","",IF(AND($H7<>"Pending",$G7<>"",$G7>=Assumptions!$B$4,$G7<=Assumptions!$B$5),"Included","")) | N7: =IF($A7="","",IF($H7="Renewed","Retained",IF($H7="Transferred","Retained",IF($H7="Non-Renewed","Not Retained",IF($H7="Pending","Pending",""))))) | O7: =IF($A7="","",IF(COUNTIF($A$5:$A$104,$A7)>1,"Check duplicate tenancy ID",IF(OR($B7="",$C7="",$D7="",$E7="",$F7="",$H7=""),"Check missing required input",IF($F7<$E7,"Check lease dates",IF(AND($G7<>"",$I7<>"",$I7<$G7),"Check effective date",IF(AND($H7<>"Pending",OR($G7="",$I7="")),"Check decision or effective date",IF(AND($H7="Pending",OR($G7<>"",$I7<>"")),"Check pending dates",IF(AND($H7="Transferred",OR($J7="",$K7="")),"Check transfer destination",IF(AND($H7<>"Transferred",OR($J7<>"",$K7<>"")),"Check transfer fields",IF(AND($H7="Pending",$F7>=Assumptions!$B$6,$F7<=Assumptions!$B$6+Assumptions!$B$7),"Review upcoming lease end","OK"))))))))))
A8: FIC-RET-0004 | B8: Fictional Blue Acorn Court | C8: FIC-BA-T12 | D8: Townhome | E8: 45839 | F8: 46203 | G8: 46130 | H8: Renewed | I8: 46204 | L8: Fictional sample: renewal decision. | M8: =IF($A8="","",IF(AND($H8<>"Pending",$G8<>"",$G8>=Assumptions!$B$4,$G8<=Assumptions!$B$5),"Included","")) | N8: =IF($A8="","",IF($H8="Renewed","Retained",IF($H8="Transferred","Retained",IF($H8="Non-Renewed","Not Retained",IF($H8="Pending","Pending",""))))) | O8: =IF($A8="","",IF(COUNTIF($A$5:$A$104,$A8)>1,"Check duplicate tenancy ID",IF(OR($B8="",$C8="",$D8="",$E8="",$F8="",$H8=""),"Check missing required input",IF($F8<$E8,"Check lease dates",IF(AND($G8<>"",$I8<>"",$I8<$G8),"Check effective date",IF(AND($H8<>"Pending",OR($G8="",$I8="")),"Check decision or effective date",IF(AND($H8="Pending",OR($G8<>"",$I8<>"")),"Check pending dates",IF(AND($H8="Transferred",OR($J8="",$K8="")),"Check transfer destination",IF(AND($H8<>"Transferred",OR($J8<>"",$K8<>"")),"Check transfer fields",IF(AND($H8="Pending",$F8>=Assumptions!$B$6,$F8<=Assumptions!$B$6+Assumptions!$B$7),"Review upcoming lease end","OK"))))))))))
A9: FIC-RET-0005 | B9: Fictional Juniper Echo Flats | C9: FIC-JE-310 | D9: 3 Bedroom | E9: 45946 | F9: 46310 | H9: Pending | L9: Fictional sample: pending review near lease end. | M9: =IF($A9="","",IF(AND($H9<>"Pending",$G9<>"",$G9>=Assumptions!$B$4,$G9<=Assumptions!$B$5),"Included","")) | N9: =IF($A9="","",IF($H9="Renewed","Retained",IF($H9="Transferred","Retained",IF($H9="Non-Renewed","Not Retained",IF($H9="Pending","Pending",""))))) | O9: =IF($A9="","",IF(COUNTIF($A$5:$A$104,$A9)>1,"Check duplicate tenancy ID",IF(OR($B9="",$C9="",$D9="",$E9="",$F9="",$H9=""),"Check missing required input",IF($F9<$E9,"Check lease dates",IF(AND($G9<>"",$I9<>"",$I9<$G9),"Check effective date",IF(AND($H9<>"Pending",OR($G9="",$I9="")),"Check decision or effective date",IF(AND($H9="Pending",OR($G9<>"",$I9<>"")),"Check pending dates",IF(AND($H9="Transferred",OR($J9="",$K9="")),"Check transfer destination",IF(AND($H9<>"Transferred",OR($J9<>"",$K9<>"")),"Check transfer fields",IF(AND($H9="Pending",$F9>=Assumptions!$B$6,$F9<=Assumptions!$B$6+Assumptions!$B$7),"Review upcoming lease end","OK"))))))))))
A10: FIC-RET-0006 | B10: Fictional Cedar Lantern Residences | C10: FIC-CL-220 | D10: 2 Bedroom | E10: 45901 | F10: 46265 | G10: 46175 | H10: Non-Renewed | I10: 46265 | L10: Fictional sample: non-renewal decision. | M10: =IF($A10="","",IF(AND($H10<>"Pending",$G10<>"",$G10>=Assumptions!$B$4,$G10<=Assumptions!$B$5),"Included","")) | N10: =IF($A10="","",IF($H10="Renewed","Retained",IF($H10="Transferred","Retained",IF($H10="Non-Renewed","Not Retained",IF($H10="Pending","Pending",""))))) | O10: =IF($A10="","",IF(COUNTIF($A$5:$A$104,$A10)>1,"Check duplicate tenancy ID",IF(OR($B10="",$C10="",$D10="",$E10="",$F10="",$H10=""),"Check missing required input",IF($F10<$E10,"Check lease dates",IF(AND($G10<>"",$I10<>"",$I10<$G10),"Check effective date",IF(AND($H10<>"Pending",OR($G10="",$I10="")),"Check decision or effective date",IF(AND($H10="Pending",OR($G10<>"",$I10<>"")),"Check pending dates",IF(AND($H10="Transferred",OR($J10="",$K10="")),"Check transfer destination",IF(AND($H10<>"Transferred",OR($J10<>"",$K10<>"")),"Check transfer fields",IF(AND($H10="Pending",$F10>=Assumptions!$B$6,$F10<=Assumptions!$B$6+Assumptions!$B$7),"Review upcoming lease end","OK"))))))))))
A11: FIC-RET-0007 | B11: Fictional Harbor Kite Apartments | C11: FIC-HK-118 | D11: 1 Bedroom | E11: 45901 | F11: 46265 | G11: 46223 | H11: Transferred | I11: 46266 | J11: Fictional Blue Acorn Court | K11: FIC-BA-114 | L11: Fictional sample: transfer to another fictional property. | M11: =IF($A11="","",IF(AND($H11<>"Pending",$G11<>"",$G11>=Assumptions!$B$4,$G11<=Assumptions!$B$5),"Included","")) | N11: =IF($A11="","",IF($H11="Renewed","Retained",IF($H11="Transferred","Retained",IF($H11="Non-Renewed","Not Retained",IF($H11="Pending","Pending",""))))) | O11: =IF($A11="","",IF(COUNTIF($A$5:$A$104,$A11)>1,"Check duplicate tenancy ID",IF(OR($B11="",$C11="",$D11="",$E11="",$F11="",$H11=""),"Check missing required input",IF($F11<$E11,"Check lease dates",IF(AND($G11<>"",$I11<>"",$I11<$G11),"Check effective date",IF(AND($H11<>"Pending",OR($G11="",$I11="")),"Check decision or effective date",IF(AND($H11="Pending",OR($G11<>"",$I11<>"")),"Check pending dates",IF(AND($H11="Transferred",OR($J11="",$K11="")),"Check transfer destination",IF(AND($H11<>"Transferred",OR($J11<>"",$K11<>"")),"Check transfer fields",IF(AND($H11="Pending",$F11>=Assumptions!$B$6,$F11<=Assumptions!$B$6+Assumptions!$B$7),"Review upcoming lease end","OK"))))))))))
A12: FIC-RET-0008 | B12: Fictional Maple Orbit Homes | C12: FIC-MO-214 | D12: 2 Bedroom | E12: 45962 | F12: 46326 | G12: 46245 | H12: Renewed | I12: 46327 | L12: Fictional sample: renewal decision. | M12: =IF($A12="","",IF(AND($H12<>"Pending",$G12<>"",$G12>=Assumptions!$B$4,$G12<=Assumptions!$B$5),"Included","")) | N12: =IF($A12="","",IF($H12="Renewed","Retained",IF($H12="Transferred","Retained",IF($H12="Non-Renewed","Not Retained",IF($H12="Pending","Pending",""))))) | O12: =IF($A12="","",IF(COUNTIF($A$5:$A$104,$A12)>1,"Check duplicate tenancy ID",IF(OR($B12="",$C12="",$D12="",$E12="",$F12="",$H12=""),"Check missing required input",IF($F12<$E12,"Check lease dates",IF(AND($G12<>"",$I12<>"",$I12<$G12),"Check effective date",IF(AND($H12<>"Pending",OR($G12="",$I12="")),"Check decision or effective date",IF(AND($H12="Pending",OR($G12<>"",$I12<>"")),"Check pending dates",IF(AND($H12="Transferred",OR($J12="",$K12="")),"Check transfer destination",IF(AND($H12<>"Transferred",OR($J12<>"",$K12<>"")),"Check transfer fields",IF(AND($H12="Pending",$F12>=Assumptions!$B$6,$F12<=Assumptions!$B$6+Assumptions!$B$7),"Review upcoming lease end","OK"))))))))))
A13: FIC-RET-0009 | B13: Fictional Juniper Echo Flats | C13: FIC-JE-006 | D13: Studio | E13: 45992 | F13: 46356 | G13: 46276 | H13: Non-Renewed | I13: 46356 | L13: Fictional sample: decision on the report-end boundary. | M13: =IF($A13="","",IF(AND($H13<>"Pending",$G13<>"",$G13>=Assumptions!$B$4,$G13<=Assumptions!$B$5),"Included","")) | N13: =IF($A13="","",IF($H13="Renewed","Retained",IF($H13="Transferred","Retained",IF($H13="Non-Renewed","Not Retained",IF($H13="Pending","Pending",""))))) | O13: =IF($A13="","",IF(COUNTIF($A$5:$A$104,$A13)>1,"Check duplicate tenancy ID",IF(OR($B13="",$C13="",$D13="",$E13="",$F13="",$H13=""),"Check missing required input",IF($F13<$E13,"Check lease dates",IF(AND($G13<>"",$I13<>"",$I13<$G13),"Check effective date",IF(AND($H13<>"Pending",OR($G13="",$I13="")),"Check decision or effective date",IF(AND($H13="Pending",OR($G13<>"",$I13<>"")),"Check pending dates",IF(AND($H13="Transferred",OR($J13="",$K13="")),"Check transfer destination",IF(AND($H13<>"Transferred",OR($J13<>"",$K13<>"")),"Check transfer fields",IF(AND($H13="Pending",$F13>=Assumptions!$B$6,$F13<=Assumptions!$B$6+Assumptions!$B$7),"Review upcoming lease end","OK"))))))))))
A14: FIC-RET-0010 | B14: Fictional Blue Acorn Court | C14: FIC-BA-302 | D14: 3 Bedroom | E14: 45658 | F14: 46022 | G14: 46006 | H14: Renewed | I14: 46023 | L14: Fictional sample: decision outside the selected period. | M14: =IF($A14="","",IF(AND($H14<>"Pending",$G14<>"",$G14>=Assumptions!$B$4,$G14<=Assumptions!$B$5),"Included","")) | N14: =IF($A14="","",IF($H14="Renewed","Retained",IF($H14="Transferred","Retained",IF($H14="Non-Renewed","Not Retained",IF($H14="Pending","Pending",""))))) | O14: =IF($A14="","",IF(COUNTIF($A$5:$A$104,$A14)>1,"Check duplicate tenancy ID",IF(OR($B14="",$C14="",$D14="",$E14="",$F14="",$H14=""),"Check missing required input",IF($F14<$E14,"Check lease dates",IF(AND($G14<>"",$I14<>"",$I14<$G14),"Check effective date",IF(AND($H14<>"Pending",OR($G14="",$I14="")),"Check decision or effective date",IF(AND($H14="Pending",OR($G14<>"",$I14<>"")),"Check pending dates",IF(AND($H14="Transferred",OR($J14="",$K14="")),"Check transfer destination",IF(AND($H14<>"Transferred",OR($J14<>"",$K14<>"")),"Check transfer fields",IF(AND($H14="Pending",$F14>=Assumptions!$B$6,$F14<=Assumptions!$B$6+Assumptions!$B$7),"Review upcoming lease end","OK"))))))))))
M15: =IF($A15="","",IF(AND($H15<>"Pending",$G15<>"",$G15>=Assumptions!$B$4,$G15<=Assumptions!$B$5),"Included","")) | N15: =IF($A15="","",IF($H15="Renewed","Retained",IF($H15="Transferred","Retained",IF($H15="Non-Renewed","Not Retained",IF($H15="Pending","Pending",""))))) | O15: =IF($A15="","",IF(COUNTIF($A$5:$A$104,$A15)>1,"Check duplicate tenancy ID",IF(OR($B15="",$C15="",$D15="",$E15="",$F15="",$H15=""),"Check missing required input",IF($F15<$E15,"Check lease dates",IF(AND($G15<>"",$I15<>"",$I15<$G15),"Check effective date",IF(AND($H15<>"Pending",OR($G15="",$I15="")),"Check decision or effective date",IF(AND($H15="Pending",OR($G15<>"",$I15<>"")),"Check pending dates",IF(AND($H15="Transferred",OR($J15="",$K15="")),"Check transfer destination",IF(AND($H15<>"Transferred",OR($J15<>"",$K15<>"")),"Check transfer fields",IF(AND($H15="Pending",$F15>=Assumptions!$B$6,$F15<=Assumptions!$B$6+Assumptions!$B$7),"Review upcoming lease end","OK"))))))))))
M16: =IF($A16="","",IF(AND($H16<>"Pending",$G16<>"",$G16>=Assumptions!$B$4,$G16<=Assumptions!$B$5),"Included","")) | N16: =IF($A16="","",IF($H16="Renewed","Retained",IF($H16="Transferred","Retained",IF($H16="Non-Renewed","Not Retained",IF($H16="Pending","Pending",""))))) | O16: =IF($A16="","",IF(COUNTIF($A$5:$A$104,$A16)>1,"Check duplicate tenancy ID",IF(OR($B16="",$C16="",$D16="",$E16="",$F16="",$H16=""),"Check missing required input",IF($F16<$E16,"Check lease dates",IF(AND($G16<>"",$I16<>"",$I16<$G16),"Check effective date",IF(AND($H16<>"Pending",OR($G16="",$I16="")),"Check decision or effective date",IF(AND($H16="Pending",OR($G16<>"",$I16<>"")),"Check pending dates",IF(AND($H16="Transferred",OR($J16="",$K16="")),"Check transfer destination",IF(AND($H16<>"Transferred",OR($J16<>"",$K16<>"")),"Check transfer fields",IF(AND($H16="Pending",$F16>=Assumptions!$B$6,$F16<=Assumptions!$B$6+Assumptions!$B$7),"Review upcoming lease end","OK"))))))))))
M17: =IF($A17="","",IF(AND($H17<>"Pending",$G17<>"",$G17>=Assumptions!$B$4,$G17<=Assumptions!$B$5),"Included","")) | N17: =IF($A17="","",IF($H17="Renewed","Retained",IF($H17="Transferred","Retained",IF($H17="Non-Renewed","Not Retained",IF($H17="Pending","Pending",""))))) | O17: =IF($A17="","",IF(COUNTIF($A$5:$A$104,$A17)>1,"Check duplicate tenancy ID",IF(OR($B17="",$C17="",$D17="",$E17="",$F17="",$H17=""),"Check missing required input",IF($F17<$E17,"Check lease dates",IF(AND($G17<>"",$I17<>"",$I17<$G17),"Check effective date",IF(AND($H17<>"Pending",OR($G17="",$I17="")),"Check decision or effective date",IF(AND($H17="Pending",OR($G17<>"",$I17<>"")),"Check pending dates",IF(AND($H17="Transferred",OR($J17="",$K17="")),"Check transfer destination",IF(AND($H17<>"Transferred",OR($J17<>"",$K17<>"")),"Check transfer fields",IF(AND($H17="Pending",$F17>=Assumptions!$B$6,$F17<=Assumptions!$B$6+Assumptions!$B$7),"Review upcoming lease end","OK"))))))))))
M18: =IF($A18="","",IF(AND($H18<>"Pending",$G18<>"",$G18>=Assumptions!$B$4,$G18<=Assumptions!$B$5),"Included","")) | N18: =IF($A18="","",IF($H18="Renewed","Retained",IF($H18="Transferred","Retained",IF($H18="Non-Renewed","Not Retained",IF($H18="Pending","Pending",""))))) | O18: =IF($A18="","",IF(COUNTIF($A$5:$A$104,$A18)>1,"Check duplicate tenancy ID",IF(OR($B18="",$C18="",$D18="",$E18="",$F18="",$H18=""),"Check missing required input",IF($F18<$E18,"Check lease dates",IF(AND($G18<>"",$I18<>"",$I18<$G18),"Check effective date",IF(AND($H18<>"Pending",OR($G18="",$I18="")),"Check decision or effective date",IF(AND($H18="Pending",OR($G18<>"",$I18<>"")),"Check pending dates",IF(AND($H18="Transferred",OR($J18="",$K18="")),"Check transfer destination",IF(AND($H18<>"Transferred",OR($J18<>"",$K18<>"")),"Check transfer fields",IF(AND($H18="Pending",$F18>=Assumptions!$B$6,$F18<=Assumptions!$B$6+Assumptions!$B$7),"Review upcoming lease end","OK"))))))))))
M19: =IF($A19="","",IF(AND($H19<>"Pending",$G19<>"",$G19>=Assumptions!$B$4,$G19<=Assumptions!$B$5),"Included","")) | N19: =IF($A19="","",IF($H19="Renewed","Retained",IF($H19="Transferred","Retained",IF($H19="Non-Renewed","Not Retained",IF($H19="Pending","Pending",""))))) | O19: =IF($A19="","",IF(COUNTIF($A$5:$A$104,$A19)>1,"Check duplicate tenancy ID",IF(OR($B19="",$C19="",$D19="",$E19="",$F19="",$H19=""),"Check missing required input",IF($F19<$E19,"Check lease dates",IF(AND($G19<>"",$I19<>"",$I19<$G19),"Check effective date",IF(AND($H19<>"Pending",OR($G19="",$I19="")),"Check decision or effective date",IF(AND($H19="Pending",OR($G19<>"",$I19<>"")),"Check pending dates",IF(AND($H19="Transferred",OR($J19="",$K19="")),"Check transfer destination",IF(AND($H19<>"Transferred",OR($J19<>"",$K19<>"")),"Check transfer fields",IF(AND($H19="Pending",$F19>=Assumptions!$B$6,$F19<=Assumptions!$B$6+Assumptions!$B$7),"Review upcoming lease end","OK"))))))))))
M20: =IF($A20="","",IF(AND($H20<>"Pending",$G20<>"",$G20>=Assumptions!$B$4,$G20<=Assumptions!$B$5),"Included","")) | N20: =IF($A20="","",IF($H20="Renewed","Retained",IF($H20="Transferred","Retained",IF($H20="Non-Renewed","Not Retained",IF($H20="Pending","Pending",""))))) | O20: =IF($A20="","",IF(COUNTIF($A$5:$A$104,$A20)>1,"Check duplicate tenancy ID",IF(OR($B20="",$C20="",$D20="",$E20="",$F20="",$H20=""),"Check missing required input",IF($F20<$E20,"Check lease dates",IF(AND($G20<>"",$I20<>"",$I20<$G20),"Check effective date",IF(AND($H20<>"Pending",OR($G20="",$I20="")),"Check decision or effective date",IF(AND($H20="Pending",OR($G20<>"",$I20<>"")),"Check pending dates",IF(AND($H20="Transferred",OR($J20="",$K20="")),"Check transfer destination",IF(AND($H20<>"Transferred",OR($J20<>"",$K20<>"")),"Check transfer fields",IF(AND($H20="Pending",$F20>=Assumptions!$B$6,$F20<=Assumptions!$B$6+Assumptions!$B$7),"Review upcoming lease end","OK"))))))))))
M21: =IF($A21="","",IF(AND($H21<>"Pending",$G21<>"",$G21>=Assumptions!$B$4,$G21<=Assumptions!$B$5),"Included","")) | N21: =IF($A21="","",IF($H21="Renewed","Retained",IF($H21="Transferred","Retained",IF($H21="Non-Renewed","Not Retained",IF($H21="Pending","Pending",""))))) | O21: =IF($A21="","",IF(COUNTIF($A$5:$A$104,$A21)>1,"Check duplicate tenancy ID",IF(OR($B21="",$C21="",$D21="",$E21="",$F21="",$H21=""),"Check missing required input",IF($F21<$E21,"Check lease dates",IF(AND($G21<>"",$I21<>"",$I21<$G21),"Check effective date",IF(AND($H21<>"Pending",OR($G21="",$I21="")),"Check decision or effective date",IF(AND($H21="Pending",OR($G21<>"",$I21<>"")),"Check pending dates",IF(AND($H21="Transferred",OR($J21="",$K21="")),"Check transfer destination",IF(AND($H21<>"Transferred",OR($J21<>"",$K21<>"")),"Check transfer fields",IF(AND($H21="Pending",$F21>=Assumptions!$B$6,$F21<=Assumptions!$B$6+Assumptions!$B$7),"Review upcoming lease end","OK"))))))))))
M22: =IF($A22="","",IF(AND($H22<>"Pending",$G22<>"",$G22>=Assumptions!$B$4,$G22<=Assumptions!$B$5),"Included","")) | N22: =IF($A22="","",IF($H22="Renewed","Retained",IF($H22="Transferred","Retained",IF($H22="Non-Renewed","Not Retained",IF($H22="Pending","Pending",""))))) | O22: =IF($A22="","",IF(COUNTIF($A$5:$A$104,$A22)>1,"Check duplicate tenancy ID",IF(OR($B22="",$C22="",$D22="",$E22="",$F22="",$H22=""),"Check missing required input",IF($F22<$E22,"Check lease dates",IF(AND($G22<>"",$I22<>"",$I22<$G22),"Check effective date",IF(AND($H22<>"Pending",OR($G22="",$I22="")),"Check decision or effective date",IF(AND($H22="Pending",OR($G22<>"",$I22<>"")),"Check pending dates",IF(AND($H22="Transferred",OR($J22="",$K22="")),"Check transfer destination",IF(AND($H22<>"Transferred",OR($J22<>"",$K22<>"")),"Check transfer fields",IF(AND($H22="Pending",$F22>=Assumptions!$B$6,$F22<=Assumptions!$B$6+Assumptions!$B$7),"Review upcoming lease end","OK"))))))))))
M23: =IF($A23="","",IF(AND($H23<>"Pending",$G23<>"",$G23>=Assumptions!$B$4,$G23<=Assumptions!$B$5),"Included","")) | N23: =IF($A23="","",IF($H23="Renewed","Retained",IF($H23="Transferred","Retained",IF($H23="Non-Renewed","Not Retained",IF($H23="Pending","Pending",""))))) | O23: =IF($A23="","",IF(COUNTIF($A$5:$A$104,$A23)>1,"Check duplicate tenancy ID",IF(OR($B23="",$C23="",$D23="",$E23="",$F23="",$H23=""),"Check missing required input",IF($F23<$E23,"Check lease dates",IF(AND($G23<>"",$I23<>"",$I23<$G23),"Check effective date",IF(AND($H23<>"Pending",OR($G23="",$I23="")),"Check decision or effective date",IF(AND($H23="Pending",OR($G23<>"",$I23<>"")),"Check pending dates",IF(AND($H23="Transferred",OR($J23="",$K23="")),"Check transfer destination",IF(AND($H23<>"Transferred",OR($J23<>"",$K23<>"")),"Check transfer fields",IF(AND($H23="Pending",$F23>=Assumptions!$B$6,$F23<=Assumptions!$B$6+Assumptions!$B$7),"Review upcoming lease end","OK"))))))))))
M24: =IF($A24="","",IF(AND($H24<>"Pending",$G24<>"",$G24>=Assumptions!$B$4,$G24<=Assumptions!$B$5),"Included","")) | N24: =IF($A24="","",IF($H24="Renewed","Retained",IF($H24="Transferred","Retained",IF($H24="Non-Renewed","Not Retained",IF($H24="Pending","Pending",""))))) | O24: =IF($A24="","",IF(COUNTIF($A$5:$A$104,$A24)>1,"Check duplicate tenancy ID",IF(OR($B24="",$C24="",$D24="",$E24="",$F24="",$H24=""),"Check missing required input",IF($F24<$E24,"Check lease dates",IF(AND($G24<>"",$I24<>"",$I24<$G24),"Check effective date",IF(AND($H24<>"Pending",OR($G24="",$I24="")),"Check decision or effective date",IF(AND($H24="Pending",OR($G24<>"",$I24<>"")),"Check pending dates",IF(AND($H24="Transferred",OR($J24="",$K24="")),"Check transfer destination",IF(AND($H24<>"Transferred",OR($J24<>"",$K24<>"")),"Check transfer fields",IF(AND($H24="Pending",$F24>=Assumptions!$B$6,$F24<=Assumptions!$B$6+Assumptions!$B$7),"Review upcoming lease end","OK"))))))))))
M25: =IF($A25="","",IF(AND($H25<>"Pending",$G25<>"",$G25>=Assumptions!$B$4,$G25<=Assumptions!$B$5),"Included","")) | N25: =IF($A25="","",IF($H25="Renewed","Retained",IF($H25="Transferred","Retained",IF($H25="Non-Renewed","Not Retained",IF($H25="Pending","Pending",""))))) | O25: =IF($A25="","",IF(COUNTIF($A$5:$A$104,$A25)>1,"Check duplicate tenancy ID",IF(OR($B25="",$C25="",$D25="",$E25="",$F25="",$H25=""),"Check missing required input",IF($F25<$E25,"Check lease dates",IF(AND($G25<>"",$I25<>"",$I25<$G25),"Check effective date",IF(AND($H25<>"Pending",OR($G25="",$I25="")),"Check decision or effective date",IF(AND($H25="Pending",OR($G25<>"",$I25<>"")),"Check pending dates",IF(AND($H25="Transferred",OR($J25="",$K25="")),"Check transfer destination",IF(AND($H25<>"Transferred",OR($J25<>"",$K25<>"")),"Check transfer fields",IF(AND($H25="Pending",$F25>=Assumptions!$B$6,$F25<=Assumptions!$B$6+Assumptions!$B$7),"Review upcoming lease end","OK"))))))))))
M26: =IF($A26="","",IF(AND($H26<>"Pending",$G26<>"",$G26>=Assumptions!$B$4,$G26<=Assumptions!$B$5),"Included","")) | N26: =IF($A26="","",IF($H26="Renewed","Retained",IF($H26="Transferred","Retained",IF($H26="Non-Renewed","Not Retained",IF($H26="Pending","Pending",""))))) | O26: =IF($A26="","",IF(COUNTIF($A$5:$A$104,$A26)>1,"Check duplicate tenancy ID",IF(OR($B26="",$C26="",$D26="",$E26="",$F26="",$H26=""),"Check missing required input",IF($F26<$E26,"Check lease dates",IF(AND($G26<>"",$I26<>"",$I26<$G26),"Check effective date",IF(AND($H26<>"Pending",OR($G26="",$I26="")),"Check decision or effective date",IF(AND($H26="Pending",OR($G26<>"",$I26<>"")),"Check pending dates",IF(AND($H26="Transferred",OR($J26="",$K26="")),"Check transfer destination",IF(AND($H26<>"Transferred",OR($J26<>"",$K26<>"")),"Check transfer fields",IF(AND($H26="Pending",$F26>=Assumptions!$B$6,$F26<=Assumptions!$B$6+Assumptions!$B$7),"Review upcoming lease end","OK"))))))))))
... M104: =IF($A104="","",IF(AND($H104<>"Pending",$G104<>"",$G104>=Assumptions!$B$4,$G104<=Assumptions!$B$5),"Included","")) | N104: =IF($A104="","",IF($H104="Renewed","Retained",IF($H104="Transferred","Retained",IF($H104="Non-Renewed","Not Retained",IF($H104="Pending","Pending",""))))) | O104: =IF($A104="","",IF(COUNTIF($A$5:$A$104,$A104)>1,"Check duplicate tenancy ID",IF(OR($B104="",$C104="",$D104="",$E104="",$F104="",$H104=""),"Check missing required input",IF($F104<$E104,"Check lease dates",IF(AND($G104<>"",$I104<>"",$I104<$G104),"Check effective date",IF(AND($H104<>"Pending",OR($G104="",$I104="")),"Check decision or effective date",IF(AND($H104="Pending",OR($G104<>"",$I104<>"")),"Check pending dates",IF(AND($H104="Transferred",OR($J104="",$K104="")),"Check transfer destination",IF(AND($H104<>"Transferred",OR($J104<>"",$K104<>"")),"Check transfer fields",IF(AND($H104="Pending",$F104>=Assumptions!$B$6,$F104<=Assumptions!$B$6+Assumptions!$B$7),"Review upcoming lease end","OK"))))))))))

Sheet Assumptions
A1: Tenant Retention Dashboard — Assumptions
A2: Editable controls and stable choices used by workbook formulas and entry validation.
A3: Setting | B3: Value | C3: Use
A4: Report start date | B4: 46023 | C4: First decision date included in Summary.
A5: Report end date | B5: 46276 | C5: Last decision date included in Summary.
A6: As-of date | B6: 46276 | C6: Date used to identify pending lease-end reviews.
A7: Review window days | B7: 90 | C7: Calendar days after the as-of date.
A8: Earliest valid entry date | B8: 36526 | C8: Lower bound for entered tenancy dates.
A9: Latest valid entry date | B9: 73415 | C9: Upper bound for entered tenancy dates.
A10: Reference retention threshold | B10: 0.65 | C10: Editable reference level for visual review; it is not a guarantee.
A13: Property choices | C13: Unit type choices | E13: Outcome choices
A14: Fictional Cedar Lantern Residences | C14: Studio | E14: Pending
A15: Fictional Harbor Kite Apartments | C15: 1 Bedroom | E15: Renewed
A16: Fictional Maple Orbit Homes | C16: 2 Bedroom | E16: Non-Renewed
A17: Fictional Blue Acorn Court | C17: 3 Bedroom | E17: Transferred
A18: Fictional Juniper Echo Flats | C18: Townhome
